BEGIN:VCALENDAR
VERSION:2.0
PRODID:-//MODEX 2026 Atlanta — Local Booth Builder &amp; Rentals - ECPv6.15.13.1//NONSGML v1.0//EN
CALSCALE:GREGORIAN
METHOD:PUBLISH
X-ORIGINAL-URL:https://modex2026.com
X-WR-CALDESC:Events for MODEX 2026 Atlanta — Local Booth Builder &amp; Rentals
REFRESH-INTERVAL;VALUE=DURATION:PT1H
X-Robots-Tag:noindex
X-PUBLISHED-TTL:PT1H
BEGIN:VTIMEZONE
TZID:UTC
BEGIN:STANDARD
TZOFFSETFROM:+0000
TZOFFSETTO:+0000
TZNAME:UTC
DTSTART:20250101T000000
END:STANDARD
END:VTIMEZONE
BEGIN:VEVENT
DTSTART;TZID=UTC:20260223T090000
DTEND;TZID=UTC:20260225T235959
DTSTAMP:20260422T115003
CREATED:20251102T205828Z
LAST-MODIFIED:20251102T205828Z
UID:25714-1771837200-1772063999@modex2026.com
SUMMARY:MIM 2026
DESCRIPTION:MIM 2026 booth rental — Essential Exhibitor Guide & Custom Booth Options\nAbout MIM 2026\nVenue & Location\nJacksonville FL: Our Services\nCustom Booth Models\nFAQ\nMIM 2026 — Your Gateway to Advanced Materials\nMIM 2026 booth rental is the perfect opportunity for exhibitors to gain exposure and connect with a targeted audience. This international conference\, focused on the injection molding of metals\, ceramics\, and carbides\, brings together experts from various fields. Expect to find innovations and insights in advanced materials\, mould & die\, as well as powder\, granules\, and bulk solids.  \nKey Details:\n– **Dates:** Dec 23–25\, 2026\, 9:00 AM–5:00 PM\n– **Location:** DoubleTree by Hilton Hotel Jacksonville Airport\n– **Address:** 2101 Dixie Clipper Dr\, Jacksonville\, FL 32218\, USA   \nIndustries & Audience: **Advanced Materials\, Mould & Die\, Powder\, Granules and Bulk Solids**. This event is a must for those looking to advance their knowledge and network within their field. \nVenue & Location\nLocated at the **DoubleTree by Hilton Hotel Jacksonville Airport**\, this venue provides excellent logistic support\, making it an ideal setting for MIM 2026. Attendees can easily access the location\, which offers ample facilities suitable for both exhibitors and visitors alike. \nFor inquiries\, you can reach the venue at the provided phone number. Additionally\, it is conveniently located close to transport links for attendees traveling from out of town. \nJacksonville FL: Our Services\nIn Jacksonville FL\, we DESIGN\, PRODUCE\, INSTALL & DISMANTLE turnkey **booth rentals**. Our services include complete concept and design of your booth\, modular frames\, branded SEG graphics\, reception and storage areas\, TV mounts\, and on-site installation & dismantle support. We ensure our exhibitors face no hassles during their engagement. \nCustom Booth Models\nWe offer a range of popular booth sizes designed to meet the needs of our exhibitors. Popular footprints include:\n– **10×10**: Perfect for smaller companies or startups eager to make a strong impression.\n– **10×20**: Ideal for those needing more space to showcase products without overcrowding.\n– **20×20**: Suitable for bigger brands looking to maximize visibility and create an impactful presence. \nExplore our [Snap Exhibitions Custom Booth Models](https://snapexhibitions.com/works/las-vegas-custom-booth-models/) for tailored options and take advantage of our [full-service exhibit support](https://snapexhibitions.com/pages/services-snap-exhibitions/). Connect and [contact our team](https://snapexhibitions.com/contact-snap-exhibitions/) for all your booth rental needs! \nFAQ\n1. **What is MIM 2026 booth rental?**\nMIM 2026 booth rental is a service that allows exhibitors to set up their showcase at the MIM 2026 event\, giving them an opportunity to present their innovations in metal injection molding. \n2. **What are the event hours and dates?**\nMIM 2026 takes place from December 23 to 25\, 2026\, with event hours from 9:00 AM to 5:00 PM. \n3. **What booth sizes do you recommend for Advanced Materials sectors?**\nFor Advanced Materials sectors\, we recommend a **10×20** or **20×20** booth for optimal visibility and engagement with attendees. \n4. **Why is an aluminum booth better than wood?**\nAluminum booths are lighter\, more durable\, and offer a sleeker\, modern look compared to wood. They are easier to transport and install\, making them a reliable choice for exhibitors. \n5. **What kind of transport options are available in Jacksonville?**\nJacksonville has a variety of transport options including public transit\, taxis\, and ride-sharing services\, making it easy to reach events. \n6. **What can I expect at MIM 2026?**\nExpect insightful presentations\, networking opportunities\, and groundbreaking innovations from leaders in the advanced materials industry. \n7. **How can SNAP EXHIBITIONS help make my booth perfect?**\nWe assist with everything from the design to set up\, giving you peace of mind and allowing you to focus on engaging with attendees while we handle the details. \nMIM 2026 booth rental is your pathway to enhancing your presence at this significant event. Get in touch with us at [Snap Exhibitions](https://snapexhibitions.com/contact-snap-exhibitions/) to secure your rental today!
URL:https://modex2026.com/event/mim-2026/
CATEGORIES:Advanced Materials,Granules and Bulk Solids,Mould & Die,Powder
END:VEVENT
BEGIN:VEVENT
DTSTART;TZID=UTC:20260223T090000
DTEND;TZID=UTC:20260226T235959
DTSTAMP:20260422T115003
CREATED:20251109T182450Z
LAST-MODIFIED:20251109T182450Z
UID:25862-1771837200-1772150399@modex2026.com
SUMMARY:AEROXCHANGE ANNUAL CONFERENCE 2026
DESCRIPTION:AEROXCHANGE ANNUAL CONFERENCE 2026 Booth Rental — Essential Guide\nAbout AEROXCHANGE ANNUAL CONFERENCE 2026\nAEROXCHANGE ANNUAL CONFERENCE 2026 booth rental is your gateway to the future of aviation supply chain and MRO business processes. This premier event caters to professionals in the Aeronautics and Space industries\, plus subcontracting\, suppliers\, and quality maintenance sectors. Attendees will gain invaluable insights and networking opportunities. \nKey Details:\n • Dates: Dec 21–23\, 2026\, 9:00 AM–5:00 PM\n • Location: Laguna Cliffs Marriott Resort & Spa\, 25135 Park Lantern\, Dana Point\, CA 92629\, United States\n • Website: aeroxchange.com \nIndustries & Audience: Aeronautics – Space\, Subcontracting\, Suppliers & Partners\, Quality & Maintenance \nVenue & Location\nJoin us at the Laguna Cliffs Marriott Resort & Spa\, located at 25135 Park Lantern\, Dana Point\, CA 92629\, United States. This venue boasts excellent logistics for exhibitors\, including convenient access for move-in and dock access. \nDana Point: Our Services\nIn Dana Point\, we DESIGN\, PRODUCE\, INSTALL & DISMANTLE turnkey booth rentals. Our services encompass innovative concept and design\, modular frames\, branded SEG graphics\, reception and storage solutions\, TV mounts\, and on-site installation and dismantle support. \nCustom Booth Models\nWe provide a range of popular booth sizes suitable for various exhibition needs: \n\n10×10: Ideal for compact displays that attract foot traffic.\n10×20: Offers more visibility and the ability to showcase multiple industries.\n20×20: Perfect for larger brands looking to make a strong impact.\n\nLearn more about our Snap Exhibitions Custom Booth Models or our full-service exhibit support. For personalized assistance\, contact our team. \nFAQ\nQ1: What is AEROXCHANGE ANNUAL CONFERENCE 2026 booth rental?\nAEROXCHANGE ANNUAL CONFERENCE 2026 booth rental is your opportunity to showcase your brand at a premier event in the aviation industry. \nQ2: When are the event hours?\nThe event runs from Dec 21–23\, 2026\, from 9:00 AM to 5:00 PM each day. \nQ3: What booth sizes are recommended for the Aeronautics category?\nWe recommend at least a 10×10 booth for startups and a 20×20 booth for established brands seeking maximum visibility. \nQ4: Why is an aluminum booth better than a wood booth?\nAluminum booths are lighter\, easier to transport\, and provide a modern look compared to traditional wood booths. \nQ5: What services do you offer in Dana Point for AEROXCHANGE ANNUAL CONFERENCE 2026?\nWe offer comprehensive turnkey booth rental services\, including design and on-site support. \nQ6: How can I stand out at the AEROXCHANGE ANNUAL CONFERENCE?\nCreate unique experiences with our booth designs and standout graphics to draw attention. \nQ7: How can SNAP EXHIBITIONS help me make everything perfect for my booth?\nWe are here to ensure an exceptional experience by handling all aspects of your booth—from design to installation. AEROXCHANGE ANNUAL CONFERENCE 2026 booth rental is your perfect solution—contact us today!
URL:https://modex2026.com/event/aeroxchange-annual-conference-2026/
CATEGORIES:Aeronautics - Space,Quality & Maintenance,Subcontracting,Suppliers & Partners
END:VEVENT
BEGIN:VEVENT
DTSTART;TZID=UTC:20260225T090000
DTEND;TZID=UTC:20260227T235959
DTSTAMP:20260422T115003
CREATED:20251109T200108Z
LAST-MODIFIED:20251109T200108Z
UID:25973-1772010000-1772236799@modex2026.com
SUMMARY:TISSUE WORLD - MIAMI 2026
DESCRIPTION:TISSUE WORLD – MIAMI 2026 booth rental — Premium Exhibitor Guide & Custom Booth Options\nAbout Tissue World – Miami 2026\nVenue & Location\nMiami: Our Services\nCustom Booth Models\nFAQ\n\nTISSUE WORLD – MIAMI 2026: Exploring the Tissue Business\nTISSUE WORLD – MIAMI 2026 booth rental provides a unique opportunity for exhibitors in the tissue industry. This event caters to producers\, converters\, distributors\, and suppliers of soft hygienic tissue paper\, offering valuable networking and learning opportunities. Attendees will gain insights into market trends\, innovative products\, and establish lasting business relationships. \nKey Details:\n        Dates: Dec 25–27\, 2026\, 9:00 AM – 5:00 PM\n        Venue: Miami Beach Convention Center\n        Address: 1901 Convention Center Drive\, Miami Beach\, USA\n        Country: United States\n     \nIndustries & Audience: Paper Industry\, Beauty & Personal Care. \n\n\nVenue & Location\nMiami Beach Convention Center\, located at 1901 Convention Center Drive\, Miami Beach\, USA\, is a premier venue that offers all necessary amenities for a successful trade show. The venue includes convenient logistics like move-in windows\, dock access for easy setup\, and support services to ensure a smooth operation. \nIf you have inquiries\, you can reach us at the venue contact number. \n\n\nMiami: Our Services\nIn Miami\, we DESIGN\, PRODUCE\, INSTALL & DISMANTLE turnkey booth rentals. Our comprehensive services include concept and design development\, modular frame setups\, branded SEG graphics\, and reception/storage areas. The booths are equipped with TV mounts and complete on-site installation and dismantling support. \n\n\nCustom Booth Models\nWe offer various sizes to cater to your specific needs. Explore our different booth sizes\, including: \n\n10×10 – Ideal for small exhibitors looking for a compact solution.\n10×20 – Offers more space for showcasing multiple products.\n20×20 – Perfect for medium-sized businesses needing enhanced visibility.\n\nEach footprint is designed to optimize engagement and visibility\, making them perfect for the Paper Industry and Beauty & Personal Care sectors. For more options\, check our Snap Exhibitions Custom Booth Models. \nOur services encompass full-service exhibit support to ensure your participation is impactful. \n\n\nFAQ\nWhat is TISSUE WORLD – MIAMI 2026 booth rental?\n    TISSUE WORLD – MIAMI 2026 booth rental provides tailored solutions for exhibitors to showcase their products effectively in the tissue industry. \nWhen are the event dates and hours?\n    The event will take place from Dec 25–27\, 2026\, from 9:00 AM to 5:00 PM. \nWhat booth sizes do you recommend for the paper industry sectors?\n    We recommend sizes like 10×10 for compact displays and 20×20 for more extensive presentations to accommodate various exhibitor needs. \nWhy is an aluminum booth better than wood?\n    Aluminum booths are lighter\, more durable\, and often provide a more modern aesthetic compared to wood options. \nWhat makes Miami a great location for this event?\n    Miami offers a vibrant business environment\, attracting a diverse audience in the tissue and personal care industries. \nHow can Snap Exhibitions help me make everything perfect about my booth?\n    We provide complete assistance from design to execution\, ensuring a seamless experience with our turnkey booth rentals. \nWhat other events are held at the Miami Beach Convention Center?\n    The Miami Beach Convention Center hosts numerous trade shows and events throughout the year\, making it a central hub for industry gatherings. \n\nLooking to reserve your TISSUE WORLD – MIAMI 2026 booth rental? For more information on our services and to get started\, contact our team today!
URL:https://modex2026.com/event/tissue-world-miami-2026/
CATEGORIES:Beauty & Personal Care,Paper Industry
END:VEVENT
END:VCALENDAR