BEGIN:VCALENDAR
VERSION:2.0
PRODID:-//MODEX 2026 Atlanta — Local Booth Builder &amp; Rentals - ECPv6.15.13.1//NONSGML v1.0//EN
CALSCALE:GREGORIAN
METHOD:PUBLISH
X-WR-CALNAME:MODEX 2026 Atlanta — Local Booth Builder &amp; Rentals
X-ORIGINAL-URL:https://modex2026.com
X-WR-CALDESC:Events for MODEX 2026 Atlanta — Local Booth Builder &amp; Rentals
REFRESH-INTERVAL;VALUE=DURATION:PT1H
X-Robots-Tag:noindex
X-PUBLISHED-TTL:PT1H
BEGIN:VTIMEZONE
TZID:UTC
BEGIN:STANDARD
TZOFFSETFROM:+0000
TZOFFSETTO:+0000
TZNAME:UTC
DTSTART:20250101T000000
END:STANDARD
END:VTIMEZONE
BEGIN:VEVENT
DTSTART;TZID=UTC:20260302T090000
DTEND;TZID=UTC:20260303T235959
DTSTAMP:20260422T115112
CREATED:20251109T202236Z
LAST-MODIFIED:20251109T202236Z
UID:25994-1772442000-1772582399@modex2026.com
SUMMARY:BIO CEO & INVESTOR CONFERENCE 2026
DESCRIPTION:BIO CEO & INVESTOR CONFERENCE 2026 — Exhibitor Guide & Premium Options\nAbout BIO CEO & INVESTOR CONFERENCE 2026\nWith the focus on BIO CEO & INVESTOR CONFERENCE 2026 booth rental\, this annual event in Miami is a must-attend for professionals in the biotechnology sector. The conference draws institutional investors\, industry analysts\, and senior executives\, all looking to shape the future investment landscape of biotechnology. Attendees will gain insights into investment trends\, network with key stakeholders\, and potentially secure funding opportunities. \n\nKey Details: Feb 24–26\, 2026\, 9:00 AM–5:00 PM\nLocation: Miami\, FL\, USA\n\nThe industries represented at this event are Biotechnology\, Health Professionals\, Sciences for Engineers – Research & Development\, Investors — a diverse group dedicated to advancing the science and profitability of biotechnology. \nVenue & Location\nThe Miami\, FL venue serves as a central hub for this significant event. Please note\, there will be ample time for exhibitors to set up and access docks for unloading materials\, ensuring a smooth experience. For inquiries\, you can reach us at the venue phone number. \nMiami FL: Our Services\nIn Miami\, we DESIGN\, PRODUCE\, INSTALL & DISMANTLE turnkey booth rentals. Our offerings cater to your specific exhibition needs\, featuring concept design\, modular frames\, and branded SEG graphics\, along with essential elements like reception/storage areas and TV mounts. Partner with us to bring your booth vision to life! \nCustom Booth Models\nOur popular booth sizes include: \n\n10×10: Perfect for startups and marketing teams looking to make a compact impact.\n10×20: Ideal for brands needing more space to showcase their innovations and products.\n20×20: Offers plenty of room for impactful presentations and collaborations.\n\nDiscover our options through our Snap Exhibitions Custom Booth Models\, and learn more about our full-service exhibit support designed for your event’s success. For assistance\, contact our team and let’s elevate your exhibition experience! \nFAQ\n\nWhat is the BIO CEO & INVESTOR CONFERENCE 2026 booth rental?This is your opportunity to secure a prime exhibit space during one of the biotechnology industry’s largest investor conferences.\nWhat are the event hours?The event runs from Feb 24–26\, 2026\, daily from 9:00 AM to 5:00 PM.\nWhat recommended booth sizes should we consider for biotechnology events?For biotechnology showcasing\, 10×20 and 20×20 booth sizes are recommended for impactful presentations.\nWhy is an aluminum booth better than wood?Aluminum booths are lightweight\, durable\, and offer superior design flexibility\, making them more suitable for various show environments.\nWhat should we know about Miami and the BIO CEO & INVESTOR CONFERENCE?Miami is a vibrant city with a growing reputation in the biotechnology community\, making it a great location for networking and collaboration.\nWhat are some benefits of attending the BIO CEO & INVESTOR CONFERENCE 2026?Attendees benefit from valuable insights\, networking opportunities\, and access to investment trends shaping the future of biotechnology.\nHow can SNAP EXHIBITIONS help make everything perfect about their booth?We provide comprehensive support\, from design and production to installation and dismantling\, ensuring a hassle-free exhibition experience.\n\nBIO CEO & INVESTOR CONFERENCE 2026 booth rental is your chance to engage with industry leaders and investors. Don’t miss out on this premier event! Contact us today to explore your options!
URL:https://modex2026.com/event/bio-ceo-investor-conference-2026/
CATEGORIES:Biotechnology,Health Professionals,Investors,Sciences for Engineers - Research & Development
END:VEVENT
BEGIN:VEVENT
DTSTART;TZID=UTC:20260302T090000
DTEND;TZID=UTC:20260304T235959
DTSTAMP:20260422T115112
CREATED:20251105T060516Z
LAST-MODIFIED:20251105T060516Z
UID:25730-1772442000-1772668799@modex2026.com
SUMMARY:AMC 2026
DESCRIPTION:AMC 2026 booth rental — Exhibitor Guide & Premium Options\nTable of Contents\n\nAbout AMC 2026\nVenue & Location\nGatlinburg TN: Our Services\nCustom Booth Models\nFAQ\n\nAMC 2026 — Your Premier Trade Show Experience\nAMC 2026 booth rental is a pivotal solution for exhibitors aiming to create an unforgettable presence. Set to take place from December 1–3\, 2026\, at the Gaylord National Resort & Convention Center\, this event is designed for industry leaders looking to connect\, innovate\, and showcase their products. Attendees can expect valuable networking opportunities and a platform to gain exposure in a highly competitive market. \nKey Details: \n\nDate: December 1–3\, 2026\nLocation: Gaylord National Resort & Convention Center\nAddress: 303 Reagan Drive\, Gatlinburg\, TN 37738\nCountry: United States\n\nIndustries & Audience: This event covers a range of sectors including technology\, health\, and finance. \nVenue & Location\nThe AMC 2026 will be hosted at the Gaylord National Resort & Convention Center\, located at 303 Reagan Drive\, Gatlinburg\, TN 37738\, United States. The venue is equipped with essential logistics for exhibitors\, ensuring smooth move-in and access for all participants. For inquiries\, reach out via phone (details pending). \nGatlinburg TN: Our Services\nIn Gatlinburg\, TN\, we DESIGN\, PRODUCE\, INSTALL & DISMANTLE turnkey booth rentals. Our comprehensive offerings include concept design\, modular frames\, branded SEG graphics\, and on-site installation and dismantle (I&D) services. You can count on us to handle every aspect of your booth’s presentation. \nCustom Booth Models\nExplore our Snap Exhibitions Custom Booth Models\, designed to help exhibitors stand out. Our popular footprints include: \n\n10×10: Ideal for small displays\, it allows for a focused interaction with visitors.\n10×20: Perfect for mid-sized presentations\, providing more engagement opportunities.\n20×20: Suitable for larger brands looking to create a sizable presence on the floor.\n\nFor full support\, check out our full-service exhibit support. Ready for a consultation? Click here to contact our team. \nFAQ\nWhat is AMC 2026 booth rental?\nAMC 2026 booth rental is an essential service offered at the AMC 2026 event\, helping exhibitors enhance their visibility and connect with attendees. \nWhen is the AMC 2026 event?\nThe event takes place from December 1–3\, 2026. \nWhat are the recommended booth sizes for the technology sector?\nFor the technology sector\, we recommend booth sizes starting from 10×10 and upwards\, depending on the level of interaction desired. \nWhy is an aluminum booth better than wood?\nAluminum booths are more lightweight\, durable\, and easier to assemble compared to traditional wooden structures. \nWhat can we expect in Gatlinburg during the AMC 2026?\nGatlinburg offers beautiful scenery and a vibrant atmosphere\, perfect for networking and relaxation post-event. \nHow can SNAP EXHIBITIONS help me with my booth?\nWe provide turnkey booth rentals\, ensuring that every detail is covered for a flawless presentation. \nExplore the possibilities with AMC 2026 booth rental to enhance your presence. For a seamless experience\, contact us today! Visit Snap Exhibitions for customized booth solutions that elevate your brand.
URL:https://modex2026.com/event/amc-2026/
CATEGORIES:NULL
END:VEVENT
BEGIN:VEVENT
DTSTART;TZID=UTC:20260303T090000
DTEND;TZID=UTC:20260305T235959
DTSTAMP:20260422T115112
CREATED:20251109T100148Z
LAST-MODIFIED:20251109T100148Z
UID:25851-1772528400-1772755199@modex2026.com
SUMMARY:THE GREAT LAKES BOUTIQUE AND GIFT SHOW 2026
DESCRIPTION:THE GREAT LAKES BOUTIQUE AND GIFT SHOW 2026 BOOTH RENTAL — Essential Exhibitor Guide & Custom Booth Options\nAbout THE GREAT LAKES BOUTIQUE AND GIFT SHOW 2026\nVenue & Location\nKalamazoo MI: Our Services\nCustom Booth Models\nFAQ\nAbout THE GREAT LAKES BOUTIQUE AND GIFT SHOW 2026\nTHE GREAT LAKES BOUTIQUE AND GIFT SHOW 2026 booth rental allows exhibitors to showcase remarkable products to a diverse audience. This event features an array of gifts\, clothing\, and home accessories\, providing visitors and exhibitors alike with unique opportunities to connect and grow. Attendees can explore trendsetting product lines from jewelry to home decor\, while exhibitors can engage with their target market. \n\nKey Details:\nDates: Dec 31\, 2026 – Jan 2\, 2027\nLocation: Kalamazoo County Expo Center\, 2900 Lake St\, Kalamazoo\, MI 49048\, USA\nWebsite: greatlakesgiftshow.com\n\nIndustries & Audience: This event spans across several sectors including Consumer Goods\, Gifts & Souvenirs\, Fashion – Clothing\, Handicraft Products\, Jewelry\, Perfumes & Cosmetics\, Decoration\, Home & Office Design\, Furniture\, Lighting. \nVenue & Location\nThe Kalamazoo County Expo Center\, located at 2900 Lake St\, Kalamazoo\, MI 49048\, USA\, provides ample space and facilities for vendors and attendees. The venue offers easy access for setup and is equipped with logistics suitable for high-traffic events. \nKalamazoo MI: Our Services\nWe DESIGN\, PRODUCE\, INSTALL & DISMANTLE turnkey booth rentals in Kalamazoo MI. Our services encompass everything from conceptual design to installation\, ensuring a seamless exhibitor experience. Our booth rentals include modular frames\, branded SEG graphics\, ample reception/storage areas\, and on-site install and dismantle (I&D) support. \nCustom Booth Models\nWe offer various popular booth footprints tailored for exhibitors. For example\, a 10×10 booth is ideal for showcasing unique gift items without overwhelming visitors\, while a 20×20 booth allows ample space for large displays\, catering perfectly to the fashion and decorative product industries. Check out our Snap Exhibitions Custom Booth Models for more options. For comprehensive support\, refer to our full-service exhibit support. If you’re interested in turning your booth vision into reality\, contact our team today! \nFAQ\nWhat is THE GREAT LAKES BOUTIQUE AND GIFT SHOW 2026 booth rental?\nIt’s a rental program that enables exhibitors to showcase their products effectively at the event. \nWhat are the event hours and dates?\nThe event runs from Dec 31\, 2026 to Jan 2\, 2027. Specific hours will vary\, so check the event schedule. \nWhat are the recommended booth sizes for Consumer Goods sectors?\nA 10×10 or 10×20 booth is ideal for this sector to create an inviting display. \nWhy is an aluminum booth better than wood?\nAluminum booths provide better durability and are easier to transport compared to wooden booths. \nWhat should I know about Kalamazoo for the trade show?\nKalamazoo offers various amenities and is centrally located\, making it a convenient location for trade shows. \nWhat is THE GREAT LAKES BOUTIQUE AND GIFT SHOW about?\nIt’s a vibrant trade event featuring a variety of products and opportunities for exhibitors to connect with potential customers. \nHow can SNAP EXHIBITIONS help make everything perfect about their booth?\nWe provide comprehensive turnkey booth rental solutions tailored to meet your unique needs and preferences. \nIn conclusion\, THE GREAT LAKES BOUTIQUE AND GIFT SHOW 2026 booth rental offers an incredible opportunity for exhibitors to connect and thrive in their industries. Be sure to secure your booth today — contact us for more details!
URL:https://modex2026.com/event/the-great-lakes-boutique-and-gift-show-2026/
CATEGORIES:Consumer Goods,Decoration,Fashion - Clothing,Furniture,Gifts & Souvenirs,Handicraft Products,Home & Office Design,Jewelry,Lighting,Perfumes & Cosmetics
END:VEVENT
END:VCALENDAR