BEGIN:VCALENDAR
VERSION:2.0
PRODID:-//MODEX 2026 Atlanta — Local Booth Builder &amp; Rentals - ECPv6.15.13.1//NONSGML v1.0//EN
CALSCALE:GREGORIAN
METHOD:PUBLISH
X-WR-CALNAME:MODEX 2026 Atlanta — Local Booth Builder &amp; Rentals
X-ORIGINAL-URL:https://modex2026.com
X-WR-CALDESC:Events for MODEX 2026 Atlanta — Local Booth Builder &amp; Rentals
REFRESH-INTERVAL;VALUE=DURATION:PT1H
X-Robots-Tag:noindex
X-PUBLISHED-TTL:PT1H
BEGIN:VTIMEZONE
TZID:UTC
BEGIN:STANDARD
TZOFFSETFROM:+0000
TZOFFSETTO:+0000
TZNAME:UTC
DTSTART:20250101T000000
END:STANDARD
END:VTIMEZONE
BEGIN:VEVENT
DTSTART;TZID=UTC:20260304T090000
DTEND;TZID=UTC:20260306T235959
DTSTAMP:20260422T200855
CREATED:20251105T060811Z
LAST-MODIFIED:20251105T060811Z
UID:25735-1772614800-1772841599@modex2026.com
SUMMARY:O&M SAFETY
DESCRIPTION:O&M SAFETY booth rental — Ultimate Exhibitor Guide & Custom Booth Options\nAbout O&M SAFETY\nO&M SAFETY booth rental provides an essential opportunity for exhibitors to showcase their products and connect with a targeted audience. This event is designed to enhance safety practices in the operational environment\, catering to businesses that prioritize safety protocols. Visitors to O&M SAFETY will gain valuable insights and networking opportunities that can enhance their business operations. \n\nKey Details:\nStart Date: Dec 3\, 2023\, 9:00 AM\nEnd Date: Dec 5\, 2023\, 5:00 PM\nLocation: Gaylord Palms Resort & Convention Center\nAddress: 6000 W Osceola Pkwy\, Kissimmee\, FL 34746\, USA\n\nThe event attracts industries focused on safety and operational efficiency\, including construction\, manufacturing\, and emergency services. \nVenue & Location\nLocated at the Gaylord Palms Resort & Convention Center\, Kissimmee\, FL\, USA\, this venue offers excellent logistics for exhibitors\, such as convenient access for setup and dismantling. For assistance\, feel free to reach us at {Phone}. \nKissimmee FL: Our Services\nWe DESIGN\, PRODUCE\, INSTALL & DISMANTLE turnkey booth rentals in Kissimmee FL. Our services include creative concept design\, modular frames\, branded SEG graphics\, and essential on-site support. Our booths are tailored to promote your brand effectively. \nCustom Booth Models\nWe offer various booth sizes to cater to different needs. Popular options include: \n\n10×10 booths: Ideal for one-on-one interactions and showcasing products.\n10×20 booths: Perfect for mid-sized exhibits that require additional space for larger displays.\n20×20 booths: Best suited for extensive branding and gaining visibility among attendees.\n\nLearn about our Snap Exhibitions Custom Booth Models and how they can elevate your presence at trade shows. We also provide full-service exhibit support to ensure a seamless experience from start to finish. For any inquiries\, feel free to contact our team. \nFAQ\n\nWhat is the O&M SAFETY booth rental?\nO&M SAFETY booth rental is your gateway to showcase your safety solutions at a premier industry event.\nWhat are the event hours for O&M SAFETY?\nThe event runs from Dec 3 to Dec 5\, 2023\, from 9:00 AM to 5:00 PM.\nWhat booth sizes are recommended for safety sector exhibitors?\nWe recommend 10×10 or 10×20 booths for effective space use in the safety sector.\nWhy is an aluminum booth better than wood?\nAluminum booths are lighter\, more durable\, and provide a modern aesthetic compared to wood.\nWhat can I expect from Kissimmee as a trade show venue?\nKissimmee offers great accessibility and a variety of amenities for exhibitors and attendees.\nHow can SNAP EXHIBITIONS help make everything perfect about their booth?\nWe provide end-to-end support for your booth rental\, ensuring everything is tailored to your vision.\n\nJoin us at O&M SAFETY booth rental to elevate your brand presence effectively. Contact us today to discuss how we can assist you with your booth needs at O&M SAFETY! For more information\, visit this link.
URL:https://modex2026.com/event/om-safety/
CATEGORIES:NULL
END:VEVENT
BEGIN:VEVENT
DTSTART;TZID=UTC:20260305T090000
DTEND;TZID=UTC:20260308T235959
DTSTAMP:20260422T200855
CREATED:20251102T205307Z
LAST-MODIFIED:20251102T205307Z
UID:25700-1772701200-1773014399@modex2026.com
SUMMARY:CENTRAL OREGON SPORTSMEN'S SHOW IN REDMOND 2026
DESCRIPTION:CENTRAL OREGON SPORTSMEN’S SHOW IN REDMOND 2026 — Ultimate Exhibitor Guide & Custom Booth Options\nAbout CENTRAL OREGON SPORTSMEN’S SHOW IN REDMOND 2026\nCENTRAL OREGON SPORTSMEN’S SHOW IN REDMOND 2026 is an exceptional event targeted towards the hunting and fishing enthusiast community. Attendees will discover a range of exhibitions dedicated to recreational vehicles\, fishing boats\, and water sports equipment. This trade show offers exhibitors a vital platform to engage with an enthusiastic audience\, promote products\, and strengthen brand visibility. \nKey Details:Feb 30–Mar 1\, 2026\, 9:00 AM–5:00 PMDeschutes County Fair & Expo Center3800 SW Airport Way\, Redmond\, Oregon 97756United States \nIndustries & Audience: Hunting & Fishing\, Sports\, Tourism – Travel\, Family – Childs & Adolescents\, Bikes – Motorcycles\, Boating\, Sailing & Water Sports\, General Automobile \nVenue & Location\nJoin us at the Deschutes County Fair & Expo Center located at 3800 SW Airport Way\, Redmond\, Oregon 97756\, USA. The venue provides essential logistics for move-in\, including easy access for large transport vehicles. While phone support is currently not provided\, rest assured you’ll be guided effectively throughout your experience. \nRedmond OR: Our Services\nIn Redmond\, OR\, we DESIGN\, PRODUCE\, INSTALL & DISMANTLE turnkey booth rentals. Our comprehensive approach covers concept/design\, modular frames\, branded SEG graphics\, reception/storage\, and on-site installation and dismantling (I&D). Expect a seamless experience while we handle the complete spectrum of booth creation. \nCustom Booth Models\nWe offer a variety of popular footprints including:10×10 for straightforward displays\,10×20 provides expanded visibility\, and20×20 to maximize engagement. Each fits perfectly into the outlined categories of our event\, ensuring exhibitors can capture the view and interest of attendees effectively. \nExplore our Snap Exhibitions Custom Booth Models and learn about our full-service exhibit support. Don’t hesitate to contact our team for any questions! \nFAQ\nQ: What is CENTRAL OREGON SPORTSMEN’S SHOW IN REDMOND 2026?A: It is a trade show focusing on outdoor sports\, including hunting\, fishing\, and related recreations. \nQ: When does the CENTRAL OREGON SPORTSMEN’S SHOW IN REDMOND 2026 take place?A: The show is scheduled for Feb 30–Mar 1\, 2026\, from 9:00 AM to 5:00 PM. \nQ: What booth sizes do you recommend for exhibitors in the sports category?A: We recommend 10×20 or 20×20 booth sizes to maximize visibility and engagement. \nQ: Why is an aluminum booth better than wood?A: Aluminum is lighter\, more durable\, and allows for a sleek design aesthetic while being resistant to wear and tear. \nQ: What should I know about Redmond when planning for the show?A: Redmond is well-equipped for events\, offering easy access to the venue and accommodating facilities. \nQ: How can SNAP EXHIBITIONS help make everything perfect about their booth?A: We ensure every aspect of your booth rental is managed professionally\, guaranteeing a seamless setup and impactful display. \nTo learn more about our customizable booth solutions\, consider your options for a CENTRAL OREGON SPORTSMEN’S SHOW IN REDMOND 2026 booth rental. Reach out to us today for a consultation and let’s make your exhibition a standout success! Visit our contact page!
URL:https://modex2026.com/event/central-oregon-sportsmens-show-in-redmond-2026/
CATEGORIES:Bikes - Motorcycles,Boating,Family - Childs & Adolescents,General Automobile,Hunting & Fishing,Sailing & Water Sports,Sports,Tourism - Travel
END:VEVENT
BEGIN:VEVENT
DTSTART;TZID=UTC:20260305T090000
DTEND;TZID=UTC:20260308T235959
DTSTAMP:20260422T200855
CREATED:20251109T202835Z
LAST-MODIFIED:20251109T202835Z
UID:26007-1772701200-1773014399@modex2026.com
SUMMARY:NORTHWEST SPORTSHOW 2026
DESCRIPTION:NORTHWEST SPORTSHOW 2026 Booth Rental — Ultimate Guide\nAbout NORTHWEST SPORTSHOW 2026\nNORTHWEST SPORTSHOW 2026 booth rental is the go-to choice for exhibitors looking to connect with a diverse audience passionate about outdoor activities. This event features gear and accessories for every imaginable activity\, from boating and fishing to RVing and camping. Expect to engage with enthusiasts and professionals alike\, enhancing your interface with the outdoor community. \nKey Details:\nDate: Jan 2–5\, 9:00 AM–5:00 PM\nLocation: Minneapolis Convention Center\, 1301 2nd Avenue South\, Minneapolis\, MN 55403\, United States\nWebsite: northwestsportshow.com \nIndustries & Audience: \nBoating\, Sailing & Water Sports\, Sports\, Hunting & Fishing\, Tourism – Travel\, General Automobile\, Family – Childs & Adolescents. \nVenue & Location\nThe event will take place at the Minneapolis Convention Center\, located at 1301 2nd Avenue South\, Minneapolis\, MN 55403\, United States. Ensure you take note of the logistics\, such as move-in windows and dock access for your booth rental setup. \nMinneapolis MN: Our Services\nWe DESIGN\, PRODUCE\, INSTALL & DISMANTLE turnkey booth rentals in Minneapolis MN. This city offers extensive solutions that include concept/design\, modular frames\, branded SEG graphics\, and on-site installation and dismantling (I&D). Our booths come equipped with features like reception/storage areas and TV mounts\, ensuring a complete package for your exhibition needs. \nCustom Booth Models\nWe proudly offer various popular footprints\, including Snap Exhibitions Custom Booth Models like 10×10\, 10×20\, and 20×20 setups. These models are ideal for exhibitors in the listed industry sectors\, ensuring your presence at the trade show stands out. Each design can be tailored specifically to enhance your engagement with attendees. \nFor a seamless experience\, we also offer full-service exhibit support. To inquire about how we can assist in making your booth a success\, contact our team. \nFAQ\nQ: What is included in NORTHWEST SPORTSHOW 2026 booth rental?\nA: Our booth rental includes design\, installation\, dismantling\, and all essential equipment for a successful exhibition. \nQ: When does the NORTHWEST SPORTSHOW 2026 take place?\nA: The event runs from January 2–5\, 2026\, from 9:00 AM to 5:00 PM. \nQ: What booth sizes do you recommend for exhibitors in the outdoor sector?\nA: We recommend 10×10 or 10×20 booths for a well-rounded presence in the outdoor industry\, depending on your display needs. \nQ: Why is an aluminum booth better than wood?\nA: Aluminum booths are lighter\, more durable\, and easier to transport than wood\, offering better longevity and portability. \nQ: Why should I consider exhibiting at NORTHWEST SPORTSHOW 2026?\nA: It’s an excellent opportunity to network with outdoor enthusiasts and promote your products to a targeted audience. \nQ: How can SNAP EXHIBITIONS help ensure my booth is perfect?\nA: We provide comprehensive services from design to installation\, ensuring every detail is covered for a flawless exhibition experience. \nIn conclusion\, if you’re looking for a standout presence at the NORTHWEST SPORTSHOW 2026 booth rental\, don’t hesitate to contact our team for a consultation on your needs!
URL:https://modex2026.com/event/northwest-sportshow-2026/
CATEGORIES:Boating,Family - Childs & Adolescents,General Automobile,Hunting & Fishing,Sailing & Water Sports,Sports,Tourism - Travel
END:VEVENT
BEGIN:VEVENT
DTSTART;TZID=UTC:20260306T090000
DTEND;TZID=UTC:20260307T235959
DTSTAMP:20260422T200855
CREATED:20251106T110800Z
LAST-MODIFIED:20251106T110800Z
UID:25828-1772787600-1772927999@modex2026.com
SUMMARY:LUXE PACK - NEW-YORK 2026
DESCRIPTION:LUXE PACK – NEW-YORK 2026 booth rental — Ultimate Exhibitor Guide & Custom Booth Options\nAbout LUXE PACK – NEW-YORK 2026\nVenue & Location\nNew York NY: Our Services\nCustom Booth Models\nFAQ\n\nLUXE PACK – NEW-YORK 2026 booth rental\nLUXE PACK – NEW-YORK 2026 booth rental is designed for brands seeking to showcase their products at the pinnacle of luxury goods packaging. This premier BtoB exhibition caters to a diverse audience\, including industries like Luxury Industry\, Packaging\, Perfumes & Cosmetics\, Jewelry\, Wine & Spirits – Viticulture & Enology – Beer\, Food Processing Industries. Visitors can expect unparalleled networking opportunities\, as well as insights into the latest trends and innovations in luxury packaging. \nKey Details: \n\nDates: Nov 2–3\, 2026\nLocation: Jacob K. Javits Convention Center\nAddress: 655 West 34th Street\, New York\, NY 10001-1188\, USA\nWebsite: LUXE PACK Website\n\n\n\nVenue & Location\nThe exhibition will be held at the Jacob K. Javits Convention Center\, located at 655 West 34th Street\, New York\, NY 10001-1188\, USA. This venue offers excellent access and logistics\, with ample space for exhibits and move-in coordination. As a significant location for trade shows\, it provides an ideal setting for showcasing luxury brands. \n\n\nNew York NY: Our Services\nAt Snap Exhibitions\, we DESIGN\, PRODUCE\, INSTALL & DISMANTLE turnkey booth rentals in New York NY. Our solutions encompass everything from concept design to modular frames\, reception areas\, branded SEG graphics\, and on-site installation and dismantling. Ensuring a seamless experience for exhibitors\, we assist with creating impactful displays that catch the attention of visitors. \n\n\nCustom Booth Models\nOur Snap Exhibitions Custom Booth Models are designed to suit varying exhibition needs. Popular footprints include: \n\n10×10: Perfect for small setups while maintaining a strong brand presence.\n10×20: Allows greater flexibility for product display and guest interaction.\n20×20: Ideal for larger brands needing extensive space for engagement and showcasing a wide range of products.\n\n    These booth sizes are tailored to the needs of sectors such as luxury\, cosmetics\, and food processing\, ensuring that you make the most of your trade show experience. \nWe also provide full-service exhibit support to manage every detail of your booth setup. \n\n\nFAQ\nWhat is LUXE PACK – NEW-YORK 2026 booth rental?\nLUXE PACK – NEW-YORK 2026 booth rental provides exhibitors with custom solutions designed to elevate their presence at the trade show\, catering to luxury brands across various industries. \nWhat are the event hours for LUXE PACK – NEW-YORK 2026?\nThe event will take place from Nov 2 to Nov 3\, 2026\, from 9:00 AM to 5:00 PM. \nWhat recommended booth sizes should I consider for the luxury sector?\nWe suggest booth sizes like 10×20 or 20×20 for brands in the luxury sector as they provide enough space for engaging displays and visitor interactions. \nWhy is an aluminum booth better than wood?\nAluminum booths are lighter\, more durable\, and easier to assemble compared to wood\, making them a preferred choice for modern exhibitions. \nWhat services do you offer in New York for this trade show?\nWe provide comprehensive booth rental services including design\, production\, installation\, and dismantling services tailored to your needs. \nHow can Snap Exhibitions ensure my booth stands out?\nWe utilize creative designs\, high-quality materials\, and strategic layouts that draw attention\, helping your booth to stand out effectively. \n\nIn conclusion\, if you’re looking for a reliable LUXE PACK – NEW-YORK 2026 booth rental\, we at Snap Exhibitions are here to help you make every detail of your exhibition perfect. Contact our team today to get started!
URL:https://modex2026.com/event/luxe-pack-new-york-2026/
CATEGORIES:Food Processing Industries,Jewelry,Luxury Industry,Packaging,Perfumes & Cosmetics,Wine & Spirits - Viticulture & Enology - Beer
END:VEVENT
BEGIN:VEVENT
DTSTART;TZID=UTC:20260306T090000
DTEND;TZID=UTC:20260308T235959
DTSTAMP:20260422T200855
CREATED:20251109T194027Z
LAST-MODIFIED:20251109T194027Z
UID:25933-1772787600-1773014399@modex2026.com
SUMMARY:MANITOWOC EXPO GUN SHOW 2026
DESCRIPTION:Manitowoc expo gun show booth rental — Premium Exhibitor Guide & Custom Booth Options\nAbout Manitowoc Expo Gun Show\nManitowoc expo gun show booth rental offers you the opportunity to showcase your brand at one of the premier events in the industry. Held annually\, the Manitowoc Expo Gun Show caters to an audience interested in firearms\, fishing\, and outdoor sporting equipment. Visitors can expect to find a variety of exhibits featuring automatic firearms\, combat knives\, militaria\, antique pistols\, and hunting gears. \n\nKey Details:\nDate: Dec 3–4\, 2026\nLocation: Manitowoc County Expo Fairgrounds\nAddress: 4921 Expo Dr\, Manitowoc\, WI 54220\nCountry: United States\nMore Info\n\nThe event features a broad range of industries: Guns & Knives – Collectibles\, Hunting & Fishing\, Defense – Armament\, Collectors – Hobby. Exhibitors can connect with passionate enthusiasts\, making it an ideal setting for engagement and sales. \nVenue & Location\nThe Manitowoc County Expo Fairgrounds is centrally located at 4921 Expo Dr\, Manitowoc\, WI 54220. This venue provides convenient access\, making it easy for attendees and exhibitors alike. The expo grounds feature loading docks and spacious facilities\, ensuring a smooth setup and take-down process. Though no direct contact number was provided\, the venue’s accessibility is a significant advantage. \nManitowoc WI: Our Services\nAt Snap Exhibitions\, we DESIGN\, PRODUCE\, INSTALL & DISMANTLE turnkey booth rentals in Manitowoc\, WI. Our services encompass everything from concept and design to modular frames and branded SEG graphics. We also provide essential components such as reception/storage areas and on-site installation/dismantling services\, ensuring your booth stands out. \nCustom Booth Models\nOur offerings include popular booth footprints that are perfect for this event\, such as a 10×10\, 10×20\, and 20×20. Each layout is thoughtfully designed to suit the Guns & Knives and Hunting & Fishing sectors: \n\nSnap Exhibitions Custom Booth Models\nThe 10×10 booth is ideal for new exhibitors or those with limited space\, providing a manageable yet impactful presence.\nThe 10×20 model offers more room for showcasing product variety\, while the 20×20 can accommodate larger brands looking to make a bold statement.\nFor comprehensive planning\, consider our full-service exhibit support.\nIf you need assistance\, contact our team for tailored solutions to meet your booth needs.\n\nFAQ\n\nWhat is Manitowoc expo gun show booth rental?It is a service that provides comprehensive rental solutions for exhibitors participating in the Manitowoc Expo Gun Show.\nWhat are the event hours for the Manitowoc Expo Gun Show?The event runs from Dec 3 to 4\, 2026.\nWhat booth sizes are recommended for the Guns & Knives sector?Booth sizes like 10×10 and 10×20 are frequently recommended for this industry.\nWhy is an aluminum booth better than wood?Aluminum is lighter\, sustainable\, and typically more durable than wood\, making it a preferred choice for modern exhibits.\nWhat can I expect at the Manitowoc Expo Gun Show?Expect a diverse exhibition of firearms\, hunting accessories\, and opportunities to engage with passionate enthusiasts.\nHow can Snap Exhibitions help ensure a successful booth?We provide a complete range of services\, from design to installation\, ensuring that your booth meets all your needs effectively.\n\nFor details on our Manitowoc expo gun show booth rental\, please contact us today! We are here to help you make your exhibit a success.
URL:https://modex2026.com/event/manitowoc-expo-gun-show-2026/
CATEGORIES:Collectors - Hobby,Defense - Armament,Guns & Knives - Collectibles,Hunting & Fishing
END:VEVENT
END:VCALENDAR