BEGIN:VCALENDAR
VERSION:2.0
PRODID:-//MODEX 2026 Atlanta — Local Booth Builder &amp; Rentals - ECPv6.15.13.1//NONSGML v1.0//EN
CALSCALE:GREGORIAN
METHOD:PUBLISH
X-WR-CALNAME:MODEX 2026 Atlanta — Local Booth Builder &amp; Rentals
X-ORIGINAL-URL:https://modex2026.com
X-WR-CALDESC:Events for MODEX 2026 Atlanta — Local Booth Builder &amp; Rentals
REFRESH-INTERVAL;VALUE=DURATION:PT1H
X-Robots-Tag:noindex
X-PUBLISHED-TTL:PT1H
BEGIN:VTIMEZONE
TZID:UTC
BEGIN:STANDARD
TZOFFSETFROM:+0000
TZOFFSETTO:+0000
TZNAME:UTC
DTSTART:20250101T000000
END:STANDARD
END:VTIMEZONE
BEGIN:VEVENT
DTSTART;TZID=UTC:20260314T090000
DTEND;TZID=UTC:20260322T235959
DTSTAMP:20260422T115138
CREATED:20251106T105423Z
LAST-MODIFIED:20251106T105423Z
UID:25801-1773478800-1774223999@modex2026.com
SUMMARY:INDIANA FLOWER + PATIO SHOW 2026
DESCRIPTION:Indiana Flower + Patio Show booth rental — Ultimate Exhibitor Guide & Custom Booth Options\nAbout Indiana Flower + Patio Show\nIndiana Flower + Patio Show booth rental will help you stand out at one of the premier events in the home and garden category. Scheduled for Mar 12–20\, 2026\, from 10 AM to 7 PM\, this show at the Indiana State Fairgrounds attracts a diverse audience looking for inspiration and solutions for their home projects. Exhibitors gain access to a lucrative market eager for renovations and design innovations. Key Details: Mar 12–20\, 2026\, Indiana State Fairgrounds\, 1202 E. 38th Street\, Indianapolis\, IN 46205\, United States. \nAs a hub for Home Show\, Renewal – Renovations\, Kitchen & Bathroom\, Decoration\, Home & Office Design\, Furniture\, Lighting\, Gardening\, Arboriculture – Horticulture\, the Indiana Flower + Patio Show is a fantastic opportunity for designers\, contractors\, and product suppliers. \nVenue & Location\nThe Indiana State Fairgrounds\, located at 1202 E. 38th Street in Indianapolis\, IN\, provides ample space for exhibitors\, ensuring easy access for move-in and setup logistics. If you have questions\, you can reach out to the venue directly. \nIndianapolis IN: Our Services\nIn Indianapolis\, we DESIGN\, PRODUCE\, INSTALL & DISMANTLE turnkey booth rentals. Our services cover everything from concept and design to modular frames and branded SEG graphics. We ensure all components such as reception areas\, storage solutions\, and TV mounts are part of our comprehensive offering. \nCustom Booth Models\nAt Snap Exhibitions\, we offer a range of booth sizes\, including popular footprints such as 10×10\, 10×20\, and 20×20. These options are perfect for our audience in sectors like home design and gardening\, providing the space you need to showcase your products effectively. We also offer full-service exhibit support to enhance your experience.\nReach out to contact our team today!\n \nFAQ\n\nWhat is Indiana Flower + Patio Show booth rental? It refers to our complete service for exhibitors at the Indiana Flower + Patio Show\, providing everything from design to setup.\nWhen does the Indiana Flower + Patio Show occur? The show will take place from Mar 12–20\, 2026\, running daily from 10 AM to 7 PM.\nWhat booth sizes do you recommend for home show sectors? For home show exhibitors\, popular sizes are 10×10 and 10×20 which provide an effective area for engagement.\nWhy is an aluminum booth better than wood? Aluminum structures are lighter\, more durable\, and allow for easier modifications than traditional wood booths.\nWhat makes Indianapolis an ideal location for trade shows? Indianapolis offers excellent access and a thriving network of suppliers and specialists in the home and garden industry.\nCan you give me more information about the Indiana Flower + Patio Show? This event showcases a variety of innovations and services for home and garden enthusiasts.\nHow can Snap Exhibitions help to make everything perfect about my booth? We provide end-to-end solutions for booth design\, production\, installation and dismantling to ensure your exhibit is a success.\n\nIndiana Flower + Patio Show booth rental is your chance to stand out at this key exhibition. Contact us today to secure your booth space and ensure you make a lasting impression at this year’s show! Contact our team for more details.
URL:https://modex2026.com/event/indiana-flower-patio-show-2026/
CATEGORIES:Arboriculture - Horticulture,Decoration,Furniture,Gardening,Home & Office Design,Home Show,Kitchen & Bathroom,Lighting,Renewal - Renovations
END:VEVENT
BEGIN:VEVENT
DTSTART;TZID=UTC:20260315T090000
DTEND;TZID=UTC:20260319T235959
DTSTAMP:20260422T115138
CREATED:20251106T025817Z
LAST-MODIFIED:20251106T025817Z
UID:25767-1773565200-1773964799@modex2026.com
SUMMARY:AMPP ANNUAL CONFERENCE & EXPO 2026
DESCRIPTION:AMPP ANNUAL CONFERENCE & EXPO 2026 — Exhibitor Guide & Custom Booth Options\nAbout AMPP ANNUAL CONFERENCE & EXPO 2026\nAMPP ANNUAL CONFERENCE & EXPO 2026 is the largest international corrosion and coatings trade show & congress. This premier event welcomes professionals from the Metal Working Industries\, Surface Treatment Technologies\, and Chemical Process sectors\, enabling exhibitors to connect with potential clients and showcase innovative solutions in corrosion and coatings. \nKey Details: Mar 13–17\, 2026\, Houston\, TX\, USA. \nParticipants will benefit from seeing cutting-edge technologies\, engaging with industry leaders\, and discovering the latest advancements in coatings and adhesion.  \nIndustries & Audience: Metal Working Industries\, Surface Treatment Technologies – Coatings\, Adhesion\, Paints & Coating Technologies\, Chemical Process. \nVenue & Location\nThe AMPP ANNUAL CONFERENCE & EXPO 2026 will be held in Houston\, TX\, USA. The venue accommodates various logistical needs\, providing adequate space for move-in and access. For inquiries\, feel free to reach out via phone. \nHouston\, TX: Our Services\nWe DESIGN\, PRODUCE\, INSTALL & DISMANTLE turnkey booth rentals in Houston\, TX. Our scope includes concept/design\, modular frames\, branded SEG graphics\, reception/storage\, TV mount\, and on-site installation and dismantling services.   \nCustom Booth Models\nWe offer various popular footprints that cater to exhibitors’ needs: \n\n10×10 Footprint: Ideal for start-ups or smaller brands wanting to stand out.\n10×20 Footprint: Perfect for growing companies looking for more display space.\n20×20 Footprint: Tailored for larger organizations aiming for visibility and impact.\n\nExplore our Snap Exhibitions Custom Booth Models for tailored options suitable for your target audience. \nWith our full-service exhibit support\, you can focus on what matters most—engaging with your audience. If you’re looking to elevate your presence at this expo\, contact our team today! \nFAQ\nWhat can I expect from AMPP ANNUAL CONFERENCE & EXPO 2026 booth rental? \nYour booth will be designed to capture attention and facilitate networking. Expect quality materials and professional installation. \nWhat are the event hours/dates for AMPP ANNUAL CONFERENCE & EXPO 2026? \nThe event will take place from Mar 13 to Mar 17\, 2026. \nWhat are the recommended booth sizes for Chemical Process industries? \nA 10×20 or 20×20 booth is recommended for impactful display options. \nWhy is an aluminum booth better than wood? \nAluminum is lighter\, more durable\, and offers better design flexibility compared to wood\, allowing custom configurations. \nWhat should I know about Houston before attending AMPP ANNUAL CONFERENCE & EXPO 2026? \nHouston is known for its vibrant business environment\, making it an exciting place for networking during the event. \nHow can SNAP EXHIBITIONS help make everything perfect about my booth? \nWe provide comprehensive turnkey booth rentals\, ensuring every detail is managed effectively so you can focus on your goals. \nIn conclusion\, if you’re looking for AMPP ANNUAL CONFERENCE & EXPO 2026 booth rental\, we are here to make your exhibition experience seamless. Contact us today!
URL:https://modex2026.com/event/ampp-annual-conference-expo-2026/
CATEGORIES:Adhesion,Chemical Process,Metal Working Industries,Paints & Coating Technologies,Surface Treatment Technologies - Coatings
END:VEVENT
BEGIN:VEVENT
DTSTART;TZID=UTC:20260317T000000
DTEND;TZID=UTC:20260319T235959
DTSTAMP:20260422T115138
CREATED:20250818T175655Z
LAST-MODIFIED:20250818T175655Z
UID:24927-1773705600-1773964799@modex2026.com
SUMMARY:SEMA 2026 — LAS VRGAS\, FL
DESCRIPTION:ALOHA The Kitchen & Bath Industry Show (KBIS) returns to Orlando…
URL:https://modex2026.com/event/sema-2026-las-vrgas-fl/
LOCATION:Orange County Convention Center\, 9800 International Drive\, Orlando\, FL\, 32819\, United States
CATEGORIES:Kitchen & Bath,Trade Show
ATTACH;FMTTYPE=image/png:https://modex2026.com/wp-content/uploads/2025/08/Top-Things-to-Do-at-SEMA-Show-Las-Vegas-2025-1.png
ORGANIZER;CN="Ashton Porter":MAILTO:info@example.com
END:VEVENT
BEGIN:VEVENT
DTSTART;TZID=UTC:20260317T090000
DTEND;TZID=UTC:20260319T235959
DTSTAMP:20260422T115138
CREATED:20251109T183611Z
LAST-MODIFIED:20251109T183611Z
UID:25885-1773738000-1773964799@modex2026.com
SUMMARY:ASD MARKET WEEK 2025
DESCRIPTION:ASD MARKET WEEK 2025 booth rental — Ultimate Exhibitor Guide\nAbout ASD MARKET WEEK 2025\nASD MARKET WEEK 2025 booth rental is a must for any exhibitor in Las Vegas. This premier trade show brings together a diverse range of audiences keen on Gifts & Souvenirs\, Home & Office Design\, and more. Exhibitors will gain access to invaluable networking opportunities\, as well as exposure to products ranging from jewelry to collectibles. \nKey Details: March 10–13\, 2025\, 9:00 AM–5:00 PM\, Las Vegas Convention Center\, 3150 Paradise Road\, Las Vegas\, NV 89109\, USA. For more information\, visit ASD Market Week. \nThe industries represented include Gifts & Souvenirs\, Decoration\, Home & Office Design\, Furniture\, Lighting\, Handicraft Products. \nVenue & Location\nWe are excited to be at the Las Vegas Convention Center\, located at 3150 Paradise Road\, Las Vegas\, NV\, USA. The venue is equipped to support logistics for exhibitors\, with convenient access and ample space for setups and dismantles. \nLas Vegas NV: Our Services\nIn ASD MARKET WEEK 2025\, we DESIGN\, PRODUCE\, INSTALL & DISMANTLE turnkey booth rentals in Las Vegas NV. Our services cover every aspect of your exhibition needs\, including concept design\, modular frames\, branded SEG graphics\, and on-site installation and dismantle capabilities. \nCustom Booth Models\nOpt for our Snap Exhibitions Custom Booth Models to make a lasting impact at the trade show. Popular booth sizes such as 10×10 and 10×20 are ideal for attendees focusing on the exhibits related to Gifts & Souvenirs and Home & Office Design. For a full range of booth solutions\, check out our full-service exhibit support. \nWhether you’re looking for a simple setup or a more elaborate display\, our booth models are tailored to fit your exhibition goals. For further inquiries\, contact our team. \nFAQ\nWhat is ASD MARKET WEEK 2025 booth rental?ASD MARKET WEEK 2025 booth rental is a service that allows exhibitors to secure optimal space and setup for displaying their products effectively. \nWhen are the event hours for ASD MARKET WEEK 2025?The event will take place from March 10–13\, 2025\, daily from 9:00 AM to 5:00 PM. \nWhat booth sizes do you recommend for this trade event?We recommend booth sizes such as 10×10 and 10×20 for effective display and engagement at ASD MARKET WEEK. \nWhy is an aluminum booth better than wood?Aluminum booths are generally more durable\, lightweight\, and easier to transport compared to wood booths\, making them suitable for trade shows. \nWhat can I expect from Las Vegas during ASD MARKET WEEK?Las Vegas offers vibrant social and networking opportunities\, perfect for making professional connections at ASD MARKET WEEK. \nHow does SNAP EXHIBITIONS ensure my booth is perfect?We provide comprehensive support throughout the process\, from design to installation\, ensuring your booth meets high standards for displays and functionality. \nASD MARKET WEEK 2025 booth rental is your ultimate solution for a successful exhibition experience. Don’t miss out on the chance to stand out — contact our team today!
URL:https://modex2026.com/event/asd-market-week-2025/
CATEGORIES:Decoration,Furniture,Gifts & Souvenirs,Handicraft Products,Home & Office Design,Lighting
END:VEVENT
BEGIN:VEVENT
DTSTART;TZID=UTC:20260318T090000
DTEND;TZID=UTC:20260319T235959
DTSTAMP:20260422T115138
CREATED:20251106T110559Z
LAST-MODIFIED:20251106T110559Z
UID:25824-1773824400-1773964799@modex2026.com
SUMMARY:NEW YORK BUILD EXPO 2026
DESCRIPTION:NEW YORK BUILD EXPO 2026 Booth Rental — Ultimate Guide\nAbout NEW YORK BUILD EXPO 2026\nWelcome to the NEW YORK BUILD EXPO 2026\, a premier event focusing on the Building & Construction sectors. This expo provides exhibitors with invaluable networking opportunities and insights into industry advancements. Visitors will enjoy more than 500 high-level speakers across 15 conference tracks\, AIA CES accredited workshops\, and the USA’s largest meeting of Women in Construction. It’s a must-attend for anyone in the industry looking to enhance their presence and connections. \n\nKey Details:\nDate: March 13–14\, 2026\, 9:00 AM–5:00 PM\nLocation: Jacob K. Javits Convention Center\, 655 West 34th Street\, New York\, NY 10001-1188\, USA\n\nThe industries represented include: Building & Construction\, Architecture\, Building Machinery\, Renewal – Renovations\, Kitchen & Bathroom\, Heating – Air Conditioning\, Decoration\, Home & Office Design\, Furniture\, Lighting\, Textiles – Fabrics for Decoration. \nVenue & Location\nThe Jacob K. Javits Convention Center serves as the venue for the NEW YORK BUILD EXPO 2026\, located at 655 West 34th Street\, New York\, NY 10001-1188\, USA. It provides central access for attendees and exhibitors alike. The venue features ample space for setup\, move-in windows\, and dock access for ease of logistics. \nIf you have inquiries\, feel free to reach out via phone if needed. \nNew York\, NY: Our Services\nIn New York\, NY\, we DESIGN\, PRODUCE\, INSTALL & DISMANTLE turnkey booth rentals. Our services include concept/design\, modular frames\, branded SEG graphics\, reception/storage\, and TV mount installations. We make sure your space represents your brand effectively and engages your audience. \nCustom Booth Models\nExplore our Snap Exhibitions Custom Booth Models that cater to various footprints such as: \n\n10×10 booth: Ideal for smaller spaces\, this footprint allows for clever design while maintaining your brand’s visibility.\n10×20 booth: Offers additional space to showcase your products and services effectively\, fitting perfectly within the architecture and construction sectors.\n20×20 booth: Provides a grand presence at the expo\, allowing for interaction and engagement with attendees.\n\nEach model is designed to fit the needs of exhibitors spanning multiple sectors. Our approach ensures you have full-service exhibit support throughout the event. \nFAQ\n\nWhat is the NEW YORK BUILD EXPO 2026 booth rental?\nThe NEW YORK BUILD EXPO 2026 booth rental allows you to present your brand at one of the most critical events in the construction sector\, enhancing visibility and networking opportunities.\nWhen does the expo take place?\nNEW YORK BUILD EXPO 2026 occurs on March 13–14\, 2026\, from 9:00 AM to 5:00 PM.\nWhat booth sizes do you recommend for the Building & Construction sectors?\nWe recommend 10×20 or 20×20 booths for the best impact and audience engagement in the Building & Construction sectors.\nWhy is an aluminum booth better than wood?\nAluminum booths are lighter\, easier to transport\, and can be designed with sleek\, modern aesthetics\, making them an excellent choice for trade shows.\nWhat can I expect from the NEW YORK BUILD EXPO 2026?\nYou can expect extensive networking\, education from industry leaders\, and an engaging experience to help grow your business.\nWho organizes this expo?\nThe event is organized by industry experts who understand the needs and challenges of professionals in the Building & Construction fields.\nHow can SNAP EXHIBITIONS help ensure everything is perfect about my booth?\nWe provide comprehensive support for booth design\, production\, and installation\, ensuring a seamless experience from start to finish.\n\nJoin us at the NEW YORK BUILD EXPO 2026 for a chance to elevate your brand in the NEW YORK BUILD EXPO 2026 booth rental. Don’t miss the opportunity to make a lasting impact; contact our team for your booth rental needs today!
URL:https://modex2026.com/event/new-york-build-expo-2026/
CATEGORIES:Architecture,Building & Construction,Building Machinery,Decoration,Furniture,Heating - Air Conditioning,Home & Office Design,Kitchen & Bathroom,Lighting,Renewal - Renovations,Textiles - Fabrics for Decoration
END:VEVENT
END:VCALENDAR