BEGIN:VCALENDAR
VERSION:2.0
PRODID:-//MODEX 2026 Atlanta — Local Booth Builder &amp; Rentals - ECPv6.15.13.1//NONSGML v1.0//EN
CALSCALE:GREGORIAN
METHOD:PUBLISH
X-WR-CALNAME:MODEX 2026 Atlanta — Local Booth Builder &amp; Rentals
X-ORIGINAL-URL:https://modex2026.com
X-WR-CALDESC:Events for MODEX 2026 Atlanta — Local Booth Builder &amp; Rentals
REFRESH-INTERVAL;VALUE=DURATION:PT1H
X-Robots-Tag:noindex
X-PUBLISHED-TTL:PT1H
BEGIN:VTIMEZONE
TZID:UTC
BEGIN:STANDARD
TZOFFSETFROM:+0000
TZOFFSETTO:+0000
TZNAME:UTC
DTSTART:20250101T000000
END:STANDARD
END:VTIMEZONE
BEGIN:VEVENT
DTSTART;TZID=UTC:20260323T090000
DTEND;TZID=UTC:20260325T235959
DTSTAMP:20260422T170956
CREATED:20251109T183033Z
LAST-MODIFIED:20251109T183033Z
UID:25872-1774256400-1774483199@modex2026.com
SUMMARY:NIGHTCLUB & BAR - BEVERAGE AND FOOD SHOW 2026
DESCRIPTION:NIGHTCLUB & BAR – BEVERAGE AND FOOD SHOW 2026 — Exhibitor Guide & Ultimate Booth Options\nAbout NIGHTCLUB & BAR – BEVERAGE AND FOOD SHOW 2026\nVenue & Location\nLas Vegas NV: Our Services\nCustom Booth Models\nFAQ\nAbout NIGHTCLUB & BAR – BEVERAGE AND FOOD SHOW 2026\nNIGHTCLUB & BAR – BEVERAGE AND FOOD SHOW 2026 booth rental is a prime opportunity for our exhibitors to showcase their offerings in a vibrant atmosphere tailored for the catering and hospitality industries. Set to take place from Jan 24–26\, 9:00 AM–5:00 PM\, at the Las Vegas Convention Center\, located at 3150 Paradise Road\, Las Vegas\, NV 89109\, USA\, this event features a dynamic array of products and services relevant to beverage retailers and food convention enthusiasts. Attendees will gain valuable insights\, access innovative products\, and network with industry professionals. \nKey Details: \n\nDate: Jan 24–26\, 9:00 AM–5:00 PM\nLocation: Las Vegas Convention Center\nAddress: 3150 Paradise Road\, Las Vegas\, NV 89109\nCountry: United States\n\nIndustries & Audience: Catering & Hospitality Industries\, Retail & Shop Fitting Equipment & Service \nVenue & Location\nThe Las Vegas Convention Center is an ideal venue for the NIGHTCLUB & BAR – BEVERAGE AND FOOD SHOW 2026\, providing ample space for exhibitors and attendees alike. Access to the venue is straightforward\, and there are designated move-in windows to facilitate smooth operations. Central logistics ensure your booth set-up and dismantling procedures are efficient. If you need assistance while on-site\, please feel free to reach out via phone. \nLas Vegas NV: Our Services\nIn Las Vegas NV\, we DESIGN\, PRODUCE\, INSTALL & DISMANTLE turnkey booth rentals. With extensive hands-on experience\, we cover everything from concept and design to modular frames\, brand-specific SEG graphics\, and the essential on-site installation and dismantling of your booth. Our solutions ensure that every exhibitor can present their brand effectively. \nCustom Booth Models\nAt Snap Exhibitions\, we offer various booth models to meet your exhibiting needs. Our popular footprints include: \n\n10×10: Ideal for smaller brands seeking to maximize visibility.\n10×20: A versatile option for those wishing to create a more extensive brand presence.\n20×20: Perfect for larger displays that require more space while showcasing a multitude of offerings.\n\nAll these footprints are designed to accommodate businesses from the catering and hospitality industries and the retail sector. Explore our Snap Exhibitions Custom Booth Models for detailed options and configurations. \nFAQ\nWhat is NIGHTCLUB & BAR – BEVERAGE AND FOOD SHOW 2026 booth rental? \nNIGHTCLUB & BAR – BEVERAGE AND FOOD SHOW 2026 booth rental provides exhibitors the chance to showcase their products in a prime exhibit space at the event. \nWhat are the dates and hours of the show? \nThe show runs from January 24 to 26\, 9:00 AM to 5:00 PM each day. \nWhat size booth is recommended for the catering industry? \nA 10×20 booth is generally recommended for optimal visibility and capacity to display products effectively in the catering sector. \nWhy is an aluminum booth better than wood? \nAluminum booths are lighter\, easier to install\, and can be customized easily\, making them a preferred choice for many exhibitors. \nWhat services do Snap Exhibitions offer in Las Vegas? \nWe provide complete exhibit solutions\, including design\, production\, installation\, and dismantling of booths tailored for your needs. \nHow can SNAP EXHIBITIONS help ensure everything is perfect for my booth? \nWe handle all aspects of booth logistics\, design\, and installation to ensure a seamless experience at the trade show. \nIn conclusion\, our NIGHTCLUB & BAR – BEVERAGE AND FOOD SHOW 2026 booth rental is designed to provide exhibitors with an impactful showcasing experience. Don’t miss this chance to elevate your presence—contact our team today!
URL:https://modex2026.com/event/nightclub-bar-beverage-and-food-show-2026/
CATEGORIES:Catering & Hospitality Industries,Retail & Shop Fitting Equipment & Service
END:VEVENT
BEGIN:VEVENT
DTSTART;TZID=UTC:20260323T090000
DTEND;TZID=UTC:20260327T235959
DTSTAMP:20260422T170956
CREATED:20251106T025853Z
LAST-MODIFIED:20251106T025853Z
UID:25768-1774256400-1774655999@modex2026.com
SUMMARY:WORLD PETROCHEMICAL CONFERENCE 2026
DESCRIPTION:WORLD PETROCHEMICAL CONFERENCE 2026 — Exhibitor Guide & Essential Booth Options\nAbout WORLD PETROCHEMICAL CONFERENCE 2026\nVenue & Location\nHouston TX: Our Services\nCustom Booth Models\nFAQ\nAbout WORLD PETROCHEMICAL CONFERENCE 2026\nWORLD PETROCHEMICAL CONFERENCE 2026 booth rental presents invaluable opportunities for attendees. This premier gathering will bring together industry leaders and government officials\, fostering dialogue on critical strategic issues facing the global petrochemical industry. Attendees will gain insights that can drive impactful conversations and initiatives. \nKey Details: Nov 21–23\, 2026\, at Houston\, TX\, USA. \nIndustries & Audience: Oil & Gas\, Chemical Process\, Investors. \nVenue & Location\nThe venue for this event is in Houston\, TX\, USA\, which is known for its accessibility and facilities for trade shows. General logistics include adequate move-in windows and dock access for exhibitors. \nFor inquiries\, you can reach out via phone. \nHouston TX: Our Services\nWe DESIGN\, PRODUCE\, INSTALL & DISMANTLE turnkey booth rentals in Houston\, TX. We focus on complete project scope\, including concept and design\, modular frames\, branded SEG graphics\, storage\, and on-site installation and dismantling. Our services help create an impactful presence for your brand at the WORLD PETROCHEMICAL CONFERENCE 2026. \nCustom Booth Models\nAt the WORLD PETROCHEMICAL CONFERENCE 2026\, we offer popular booth rental footprints\, including: \n\n10×10: Ideal for networking and interaction.\n10×20: Perfect for showcasing products while maintaining a sleek design.\n20×20: Great for larger displays and attracting significant foot traffic.\n\nExplore our Snap Exhibitions Custom Booth Models tailored for these requirements. For a full suite of options\, consider our full-service exhibit support to ensure your display stands out. \nFAQ\n\nWhat is the focus of WORLD PETROCHEMICAL CONFERENCE 2026? – This event primarily covers the petrochemical industry\, focusing on strategic discussions for industry leaders.\nWhat are the dates and hours for the conference? – The WORLD PETROCHEMICAL CONFERENCE 2026 runs from Nov 21–23\, 2026.\nWhat booth sizes do you recommend for the Oil & Gas sector? – We recommend a 10×20 for balance\, or a 20×20 for larger displays depending on your engagement strategy.\nWhy is an aluminum booth better than a wooden booth? – Aluminum is lightweight\, durable\, and easy to transport compared to wood.\nWhat services do you offer in Houston\, TX?\nWhat can I expect from the WORLD PETROCHEMICAL CONFERENCE 2026?\nHow can SNAP EXHIBITIONS help make everything perfect about their booth? – We focus on providing comprehensive support to ensure your booth meets all your exhibition needs efficiently.\n\nIn conclusion\, if you’re looking for WORLD PETROCHEMICAL CONFERENCE 2026 booth rental options\, we encourage you to contact our team for customized solutions that will elevate your presence.
URL:https://modex2026.com/event/world-petrochemical-conference-2026/
CATEGORIES:Chemical Process,Investors,Oil & Gas
END:VEVENT
BEGIN:VEVENT
DTSTART;TZID=UTC:20260324T090000
DTEND;TZID=UTC:20260326T235959
DTSTAMP:20260422T170956
CREATED:20251109T183100Z
LAST-MODIFIED:20251109T183100Z
UID:25873-1774342800-1774569599@modex2026.com
SUMMARY:INTERNATIONAL PIZZA EXPO 2026
DESCRIPTION:INTERNATIONAL PIZZA EXPO 2026 booth rental — Premium Exhibitor Guide & Custom Booth Options\nAbout INTERNATIONAL PIZZA EXPO 2026\nINTERNATIONAL PIZZA EXPO 2026 booth rental is a fantastic opportunity. This event is a must-attend for anyone in the pizza industry. From pizzeria owners to food brokers\, attendees engage with the latest innovations and trends in catering and hospitality. Join us to connect with industry peers and enhance your business connections. \nKey Details:\nDates: Jan 25–27\, 9:00 AM–5:00 PM\nLocation: Las Vegas Convention Center\nAddress: 3150 Paradise Road\, Las Vegas\, NV 89109\, United States \nThe categories of Catering & Hospitality Industries\, and Food Processing Industries are represented\, offering insights and opportunities for exhibitors and visitors alike. \nVenue & Location\nLas Vegas Convention Center is situated at 3150 Paradise Road\, Las Vegas\, NV\, United States. With ample space and facilities\, it provides easy access for exhibitors and attendees. Expect smooth logistics\, including move-in windows and great dock access. \nLas Vegas NV: Our Services\nWe DESIGN\, PRODUCE\, INSTALL & DISMANTLE turnkey booth rentals in this city. Our services encompass concept and design\, modular frames\, branded SEG graphics\, as well as reception and storage areas. We ensure your booth stands out with dedicated on-site I&D services. \nCustom Booth Models\nAt Snap Exhibitions Custom Booth Models\, we offer popular footprints like 10×10\, 10×20\, and 20×20. Each size caters to the unique needs of the Catering & Hospitality Industries and Food Processing Industries\, ensuring that your exhibit resonates with attendees. For comprehensive support\, rely on our full-service exhibit support. Ready to elevate your exhibition with a standout booth? Contact our team today! \nFAQ\n\nWhat is INTERNATIONAL PIZZA EXPO 2026 booth rental?\nIt’s about creating an impactful space for exhibitors to showcase innovations in the pizza industry.\nWhat are the event hours and dates?\nThe event runs from Jan 25 to 27\, 9:00 AM to 5:00 PM.\nWhat booth sizes do you recommend for Catering & Hospitality Industries?\nWe recommend styles like 10×20 for maximum engagement and visibility.\nWhy is an aluminum booth better than wood?\nAluminum is lighter\, more durable\, and has a modern aesthetic\, making it ideal for trade show setups.\nWhat can I expect in Las Vegas during the event?\nLas Vegas is known for its vibrant atmosphere\, making it an exciting backdrop for networking and learning.\nHow can Snap Exhibitions help make everything perfect about my booth?\nWe provide tailored solutions for design\, setup\, and dismantling\, ensuring a smooth exhibiting experience.\n\nJoin us at the INTERNATIONAL PIZZA EXPO 2026 booth rental to enhance your visibility and business opportunities. For more information\, contact our team today!
URL:https://modex2026.com/event/international-pizza-expo-2026/
CATEGORIES:Catering & Hospitality Industries,Food Processing Industries
END:VEVENT
BEGIN:VEVENT
DTSTART;TZID=UTC:20260324T090000
DTEND;TZID=UTC:20260326T235959
DTSTAMP:20260422T170956
CREATED:20251109T193844Z
LAST-MODIFIED:20251109T193844Z
UID:25929-1774342800-1774569599@modex2026.com
SUMMARY:SHOPTALK US 2026
DESCRIPTION:Shoptalk US 2026 booth rental — Ultimate Exhibitor Guide & Custom Booth Options\nAbout Shoptalk US 2026\nShoptalk US 2026 booth rental offers a fantastic opportunity for exhibitors in Las Vegas. This renowned event is a hotspot where retail changemakers create the future of retail\, providing immense value for attendees. Visitors and exhibitors gain insights into the latest technologies\, trends\, and business models driving the retail industry forward. \nKey Details: Dates: Mar 25–28\, 2026\, 9:00 AM–5:00 PM Location: Mandalay Bay Convention Center Address: 3950 Las Vegas Blvd. South\, Las Vegas\, Nevada\, 89119\, USA Event Website \nIndustries & Audience: Shoptalk encompasses essential sectors like Retail & Shop Fitting Equipment & Service\, Marketing & Selling\, Public Relations & Advertising. \nVenue & Location\nThe event will take place at the Mandalay Bay Convention Center\, located at 3950 Las Vegas Blvd. South\, Las Vegas\, Nevada\, USA. This venue provides convenient logistics with ample move-in windows and dock access for exhibitors. If you have any inquiries\, feel free to contact us via phone. \nLas Vegas: Our Services\nWe DESIGN\, PRODUCE\, INSTALL & DISMANTLE turnkey booth rentals in Las Vegas. Our comprehensive booth solutions cover everything from concept and design to modular frames\, branded SEG graphics\, reception areas\, storage\, and TV mounts\, along with on-site installation and dismantle. \nCustom Booth Models\nWe provide various booth footprints catered to exhibitor needs. Our popular options include: \n\nSnap Exhibitions Custom Booth Models – 10×10 booths are ideal for smaller displays and live demonstrations\, perfectly fitting within the marketing and selling sectors.\n10×20 booths allow you to make a bolder statement\, enhancing visibility and interaction.\n20×20 booths offer additional space for activities\, making them perfect for extensive communications in retail-related industries.\n\nFor a complete package\, please check our full-service exhibit support. \nFAQ\nQ: What is the Shoptalk US 2026 booth rental?A: The Shoptalk US 2026 booth rental refers to our services providing custom exhibition booths tailored for this important retail event. \nQ: What are the dates and hours for Shoptalk US 2026?A: The event runs from March 25 to March 28\, 2026\, from 9:00 AM to 5:00 PM. \nQ: What sizes are recommended for booth rentals in the retail sectors?A: Recommended sizes include 10×10\, 10×20\, and 20×20 booths\, depending on your exhibition strategy. \nQ: Why is an aluminum booth better than wood?A: Aluminum booths are typically lighter\, more durable\, and allow for faster assembly\, making them an excellent choice for trade shows. \nQ: What can we expect in Las Vegas during Shoptalk US 2026?A: Expect diverse networking opportunities\, innovative products\, and industry insights from leading professionals. \nQ: How can SNAP EXHIBITIONS help me make my booth perfect?A: We specialize in turnkey booth rentals and provide end-to-end services ensuring your exhibition presence is outstanding.  \nIn conclusion\, if you’re considering a Shoptalk US 2026 booth rental\, we can provide unparalleled solutions tailored to your needs. For further details\, contact our team today!
URL:https://modex2026.com/event/shoptalk-us-2026/
CATEGORIES:Marketing & Selling,Public Relations & Advertising,Retail & Shop Fitting Equipment & Service
END:VEVENT
END:VCALENDAR