BEGIN:VCALENDAR
VERSION:2.0
PRODID:-//MODEX 2026 Atlanta — Local Booth Builder &amp; Rentals - ECPv6.15.13.1//NONSGML v1.0//EN
CALSCALE:GREGORIAN
METHOD:PUBLISH
X-WR-CALNAME:MODEX 2026 Atlanta — Local Booth Builder &amp; Rentals
X-ORIGINAL-URL:https://modex2026.com
X-WR-CALDESC:Events for MODEX 2026 Atlanta — Local Booth Builder &amp; Rentals
REFRESH-INTERVAL;VALUE=DURATION:PT1H
X-Robots-Tag:noindex
X-PUBLISHED-TTL:PT1H
BEGIN:VTIMEZONE
TZID:UTC
BEGIN:STANDARD
TZOFFSETFROM:+0000
TZOFFSETTO:+0000
TZNAME:UTC
DTSTART:20250101T000000
END:STANDARD
END:VTIMEZONE
BEGIN:VEVENT
DTSTART;TZID=UTC:20260326T090000
DTEND;TZID=UTC:20260330T235959
DTSTAMP:20260422T100437
CREATED:20251109T200041Z
LAST-MODIFIED:20251109T200041Z
UID:25972-1774515600-1774915199@modex2026.com
SUMMARY:ORIGINAL MIAMI BEACH ANTIQUE SHOW 2026
DESCRIPTION:Original Miami Beach Antique Show 2026 — Exhibitor Guide & Ultimate Options\nAbout Original Miami Beach Antique Show 2026\nOriginal Miami Beach Antique Show 2026 booth rental is an excellent opportunity to showcase unique antiques\, from jewelry and vintage watches to modern furniture and home decor. Exhibitors stand to gain a significant audience by participating in this prestigious event. Our team at Snap Exhibitions is here to support you in creating an impactful presence. \n\nKey Details: Jan 24–28\, 9:00 AM–6:00 PM\, Miami Beach Convention Center\, 1901 Convention Center Drive\, Miami Beach\, United States.\n\nThe event focuses on a spectrum of categories including Art and Antiques\, Collectors – Hobby\, Jewelry\, Clock & Watch-making\, Decoration\, Home & Office Design\, Furniture\, and Lighting. Visitors can find extraordinary pieces and network with fellow enthusiasts and collectors. \nVenue & Location\nMiami Beach Convention Center is located at 1901 Convention Center Drive\, Miami Beach\, United States. The venue offers convenient dock access and typically has move-in windows to ease the setup process. Ensure to check logistics before your arrival. \nIf you have any inquiries\, you may reach us at the provided phone number. \nMiami Beach: Our Services\nWe DESIGN\, PRODUCE\, INSTALL & DISMANTLE turnkey booth rentals in Miami Beach. Our services encompass concept and design\, modular frames\, branded SEG graphics\, reception/storage areas\, and TV mounts. We aim to create a seamless experience for all exhibitors. \nCustom Booth Models\nWe offer a selection of popular booth footprints to suit the needs of exhibitors in the antique category: \n\n10×10: Ideal for personal collections\, this compact size allows for a focused display.\n10×20: A perfect fit for showcasing larger collections or themed sets.\n20×20: Excellent for extensive showcases\, enhancing visibility in the crowded exhibition space.\n\nExplore our Snap Exhibitions Custom Booth Models for more options. To benefit from our full-service exhibit support\, don’t hesitate to contact our team. \nFAQ\n\nWhat is Original Miami Beach Antique Show 2026 booth rental?\nIt provides exhibitors with an option to showcase their antique collections at this highly curated event.\nWhat are the dates and hours for the Original Miami Beach Antique Show 2026?\nThe event runs from Jan 24–28\, 9:00 AM–6:00 PM.\nWhat booth sizes do you recommend for the antiques and collectibles category?\nWe recommend 10×10 for personal displays\, 10×20 for broader presentations\, and 20×20 for extensive collections.\nWhy is an aluminum booth better than wood?\nAluminum booths are lighter\, more durable\, and easier to transport and set up compared to wooden structures.\nWhat services does Snap Exhibitions provide in Miami Beach?\nWe offer comprehensive turnkey booth rentals\, covering design to dismantling for the Original Miami Beach Antique Show 2026.\nWhat types of antiques can I find at the show?\nYou can discover a vast selection\, including vintage jewelry\, collectible clocks\, furniture\, and home decor.\nHow can Snap Exhibitions help me to make everything perfect about my booth?\nWe provide tailored solutions to ensure that your booth stands out\, engages visitors\, and maximizes your exhibition experience.\n\nFor the best experience\, consider the Original Miami Beach Antique Show 2026 booth rental. Our team at Snap Exhibitions is ready to assist you in making your exhibition impactful. Contact us today!
URL:https://modex2026.com/event/original-miami-beach-antique-show-2026/
CATEGORIES:Art and Antiques,Clock & Watch-making,Collectors - Hobby,Decoration,Furniture,Home & Office Design,Jewelry,Lighting
END:VEVENT
BEGIN:VEVENT
DTSTART;TZID=UTC:20260327T090000
DTEND;TZID=UTC:20260329T235959
DTSTAMP:20260422T100437
CREATED:20251109T190812Z
LAST-MODIFIED:20251109T190812Z
UID:25909-1774602000-1774828799@modex2026.com
SUMMARY:ABILITIES EXPO LA
DESCRIPTION:ABILITIES EXPO LA booth rental — Premium Exhibitor Guide & Custom Booth Options\nAbout ABILITIES EXPO LA\nABILITIES EXPO LA booth rental is your gateway to showcase essential products and services at this premier event in Long Beach. Attendees are eager to explore innovative solutions tailored for the disabled community\, making it a vital opportunity for exhibitors looking to engage with this audience. This event guarantees exposure to a wide range of services that greatly benefit attendees. \n\nKey Details:\nDate: Jul 25–26\, 9:00 AM–5:00 PM\nLocation: Long Beach Convention Center\nAddress: 300 East Ocean Boulevard\, Long Beach\, California 90802\nCountry: United States\n\nThe industries represented at this event include healthcare\, assistive technology\, and accessibility services. \nVenue & Location\nThe event will be held at the Long Beach Convention Center\, located at 300 East Ocean Boulevard in Long Beach\, California\, USA. The venue provides convenient logistics for exhibitors\, including suitable move-in windows and dock access to facilitate the setup of your booth. Central access ensures a seamless experience for both exhibitors and attendees. \nLong Beach CA: Our Services\nIn Long Beach\, we DESIGN\, PRODUCE\, INSTALL & DISMANTLE turnkey booth rentals. Our comprehensive scope includes concept/design\, modular frames\, branded SEG graphics\, reception/storage\, TV mount\, and on-site installation & dismantling. We ensure your booth not only stands out but effectively communicates your brand’s message. \nCustom Booth Models\nConsider our popular booth footprints\, such as the 10×10 and 10×20. These models are effective for showcasing products and services\, especially for exhibitors in healthcare\, technology\, and accessibility services. For comprehensive support\, explore our full-service exhibit support. Ready to elevate your presence? Contact our team for more information. \nFAQ\n\nWhat is ABILITIES EXPO LA booth rental?ABILITIES EXPO LA booth rental provides essential services for exhibitors\, helping you stand out at this event.\nWhen does the event take place?The event runs from July 25 to 26\, from 9:00 AM to 5:00 PM.\nWhat are the recommended booth sizes for healthcare sectors?Booth sizes like 10×10 and 10×20 are highly recommended for effective engagement.\nWhy is an aluminum booth better than wood?An aluminum booth offers durability\, lightweight design\, and is easier to install compared to wooden structures.\nWhat can I expect at ABILITIES EXPO LA?This event showcases innovative solutions for people with disabilities across various sectors.\nHow do I contact SNAP EXHIBITIONS for my booth rental?You can contact our team for assistance with your booth rental needs.\nIs there public transportation near the Long Beach Convention Center?Yes\, the convention center is accessible by various public transport options.\n\nTo ensure a fruitful showing at ABILITIES EXPO LA booth rental\, remember to reach out to us for a seamless experience. Visit our contact page and let us help you create the perfect setup!
URL:https://modex2026.com/event/abilities-expo-la/
CATEGORIES:NULL
END:VEVENT
BEGIN:VEVENT
DTSTART;TZID=UTC:20260327T090000
DTEND;TZID=UTC:20260329T235959
DTSTAMP:20260422T100437
CREATED:20251109T203000Z
LAST-MODIFIED:20251109T203000Z
UID:26011-1774602000-1774828799@modex2026.com
SUMMARY:MADISON BUILD\, REMODEL & LANDSCAPE SHOW 2026
DESCRIPTION:MADISON BUILD\, REMODEL & LANDSCAPE SHOW 2026 — Exhibitor Guide & Ultimate Options\nAbout MADISON BUILD\, REMODEL & LANDSCAPE SHOW 2026\nMADISON BUILD\, REMODEL & LANDSCAPE SHOW 2026 booth rental will be your key opportunity to engage with the best professionals in the fields of remodeling\, building\, and landscaping. This expo connects visitors with leading remodelers\, builders\, and design professionals\, ensuring that your projects receive the best insights and solutions. The event promises to bring together the most creative minds and showcase innovative ideas in home improvement. Key Details: Jan 25–27\, 2026\, Monona Terrace Convention Center\, One John Nolen Drive\, Madison\, WI 53703\, United States. \nIndustries & Audience: Home Show\, Renewal – Renovations\, Gardening\, Do It Yourself\, Decoration\, Home & Office Design\, Furniture\, Lighting\, Building & Construction\, Kitchen & Bathroom\, Textiles – Fabrics for Decoration. \nVenue & Location\nJoin us at the Monona Terrace Convention Center\, an ideal venue located in Madison\, WI. This site will provide ample space for exhibitors and attendees alike. Logistics such as move-in windows will ensure a seamless experience. For any inquiries\, feel free to call us at your convenience. \nMadison WI: Our Services\nIn Madison WI\, we DESIGN\, PRODUCE\, INSTALL & DISMANTLE turnkey booth rentals. Our comprehensive services include concept design\, modular frames\, branded SEG graphics\, reception/storage areas\, and TV mounts. Let us help make your exhibit a standout! \nCustom Booth Models\nWe offer a variety of popular footprints that cater to various needs: \n\n10×10: Perfect for intimate displays showcasing your offerings effectively.\n10×20: Ideal for slightly larger setups\, providing space for additional demonstrations.\n20×20: Great for making a bold statement and attracting significant traffic.\n\nExplore our Snap Exhibitions Custom Booth Models for detailed options. We also provide full-service exhibit support to help your presence shine. For personalized assistance\, contact our team. \nFAQ\n\nWhat is MADISON BUILD\, REMODEL & LANDSCAPE SHOW 2026 booth rental?It offers exhibitors a platform to showcase products and connect with attendees.\nWhat are the event hours/dates?The event runs from Jan 25–27\, 2026\, with specific hours based on venue availability.\nWhat recommended booth sizes are best for home improvement sectors?We recommend 10×20 or 20×20 for impactful spaces.\nWhy is an aluminum booth better than wood?Aluminum offers durability and a modern aesthetic\, reducing maintenance and weight.\nHow can SNAP EXHIBITIONS help perfect my booth?With our turnkey rental options\, we handle design and logistics from start to finish.\nWhat can I expect at the MADISON BUILD event?Expect to learn and network with experts and see the latest in home improvement!\nHow can I contact SNAP EXHIBITIONS?For more information\, contact our team.\n\nDon’t miss out on the MADISON BUILD\, REMODEL & LANDSCAPE SHOW 2026 booth rental! We’re here to ensure your success with an unforgettable experience. For a seamless exhibit journey\, get in touch with us today!
URL:https://modex2026.com/event/madison-build-remodel-landscape-show-2026/
CATEGORIES:Building & Construction,Decoration,Do It Yourself,Furniture,Gardening,Home & Office Design,Home Show,Kitchen & Bathroom,Lighting,Renewal - Renovations,Textiles - Fabrics for Decoration
END:VEVENT
BEGIN:VEVENT
DTSTART;TZID=UTC:20260327T090000
DTEND;TZID=UTC:20260329T235959
DTSTAMP:20260422T100437
CREATED:20251110T044212Z
LAST-MODIFIED:20251110T044212Z
UID:26072-1774602000-1774828799@modex2026.com
SUMMARY:COLUMBUS HOME IMPROVEMENT SHOW 2026
DESCRIPTION:COLUMBUS HOME IMPROVEMENT SHOW 2026 Booth Rental — Premium Exhibitor Guide & Custom Booth Options\nAbout COLUMBUS HOME IMPROVEMENT SHOW 2026\nCOLUMBUS HOME IMPROVEMENT SHOW 2026 booth rental is an essential opportunity for exhibitors wanting to showcase their innovations in home design and improvements. This comprehensive event brings together homeowners and some of the most knowledgeable remodeling and building experts from the Columbus area. Attendees can interact\, learn\, and explore various aspects of home enhancement during this pivotal event. \n\nKey Details: Jan 25–28\, 10:00 AM–6:00 PM\nLocation: Ohio Expo Center & State Fair\nAddress: 717 East 17th Avenue\, Columbus\, Ohio 43211\, USA\n\nThe categories featured are **Home Show\, Building & Construction\, Renewal – Renovations\, Decoration\, Home & Office Design\, Furniture\, Lighting\, Gardening\, Do It Yourself\, Kitchen & Bathroom**\, and **Textiles – Fabrics for Decoration**. \nVenue & Location\nOhio Expo Center & State Fair is located at 717 East 17th Avenue\, Columbus\, Ohio 43211\, USA. With accessibility options and ample space for exhibitors\, it serves as a suitable venue for trade shows. There are convenient logistics for move-in\, ensuring a smooth setup process. \nColumbus\, OH: Our Services\nIn Columbus\, we DESIGN\, PRODUCE\, INSTALL & DISMANTLE turnkey booth rentals. Our scope includes concept/design\, modular frames\, branded SEG graphics\, reception/storage spaces\, TV mounts\, and on-site installation and dismantling services\, ensuring a smooth experience for our clients. \nCustom Booth Models\nWe offer a variety of booth sizes including popular footprints like 10×10\, 10×20\, and 20×20. These options are ideal for attendees in the home improvement sectors\, providing sufficient exposure and engagement opportunities. You can explore our Snap Exhibitions Custom Booth Models to find the perfect fit for your needs. \nFor full-service exhibit support\, visit our full-service exhibit support page\, or contact our team for personalized assistance. \nFAQ\nQ: What is COLUMBUS HOME IMPROVEMENT SHOW 2026 booth rental?A: It refers to the rental of exhibition space at the COLUMBUS HOME IMPROVEMENT SHOW 2026 for showcasing your products. \nQ: What are the event hours and dates?A: The event takes place from January 25–28\, with hours from 10:00 AM to 6:00 PM. \nQ: What booth sizes are recommended for the Home Show categories?A: Popular sizes such as 10×10 or 10×20 are typically recommended for maximum engagement. \nQ: Why is an aluminum booth better than wood?A: Aluminum booths tend to be lighter\, more durable\, and can be designed more flexibly compared to wood options. \nQ: What local attractions are there in Columbus during the event?A: Columbus boasts a variety of cultural attractions including museums\, parks\, and dining options nearby. \nQ: How can SNAP EXHIBITIONS help me make everything perfect about my booth?A: We specialize in turnkey booth rentals and ensure every aspect\, from design to execution\, meets your needs. \nIn conclusion\, if you’re considering a COLUMBUS HOME IMPROVEMENT SHOW 2026 booth rental\, look no further! We are here to assist you in creating an impressive exhibition presence that captures the attention of attendees. For more information on how we can streamline your exhibit process\, contact our team today!
URL:https://modex2026.com/event/columbus-home-improvement-show-2026/
CATEGORIES:Building & Construction,Decoration,Do It Yourself,Furniture,Gardening,Home & Office Design,Home Show,Kitchen & Bathroom,Lighting,Renewal - Renovations,Textiles - Fabrics for Decoration
END:VEVENT
BEGIN:VEVENT
DTSTART;TZID=UTC:20260327T090000
DTEND;TZID=UTC:20260329T235959
DTSTAMP:20260422T100437
CREATED:20251110T044351Z
LAST-MODIFIED:20251110T044351Z
UID:26076-1774602000-1774828799@modex2026.com
SUMMARY:THE OKC HOME + OUTDOOR LIVING SHOW 2026
DESCRIPTION:THE OKC HOME + OUTDOOR LIVING SHOW 2026 booth rental — Ultimate Guide\nAbout THE OKC HOME + OUTDOOR LIVING SHOW 2026\nTHE OKC HOME + OUTDOOR LIVING SHOW 2026 booth rental opens the door to an extravagant showcase of home innovations and outdoor living essentials in Oklahoma City. Attendees will discover remarkable deals and unique items for home improvement\, alongside expert advice from leading professionals in various fields. This event is the perfect platform for exhibitors to connect with enthusiastic homeowners and industry experts. \nKey Details: Jan 25–27\, 9:00 AM–5:00 PM\, OKC Fairground\, 3001 General Pershing Blvd\, Oklahoma City\, OK 73107\, United States. \nJoin us to witness the latest trends in Home Show\, Renovations\, Kitchen & Bathroom\, Heating – Air Conditioning\, Decoration\, Home & Office Design\, Furniture\, Lighting\, Gardening. \nVenue & Location\nThe OKC Fairground\, located at 3001 General Pershing Blvd\, Oklahoma City\, OK 73107\, United States\, serves as an ideal venue for this exciting event. With central access and ample logistics for exhibitors\, this venue provides the perfect backdrop for all booth rentals. \nIf you have queries\, feel free to reach out via phone. \nOklahoma City: Our Services\nWe DESIGN\, PRODUCE\, INSTALL & DISMANTLE turnkey booth rentals in Oklahoma City. Our comprehensive services encompass concept/design\, modular frames\, branded SEG graphics\, reception/storage\, TV mount\, and on-site I&D to ensure a seamless experience for our exhibitors. \nCustom Booth Models\nExplore our Snap Exhibitions Custom Booth Models tailored for the diverse needs of participants at the event. We recommend popular footprints like: \n\n10×10: Ideal for businesses entering the market.\n10×20: Perfect for showcasing a range of products and attracting attention.\n20×20: Great for larger companies seeking a robust presence.\n\nThese models are designed to engage attendees effectively and highlight your brand in the best light.\nFor more\, check out our full-service exhibit support. \nFAQ\nWhat is THE OKC HOME + OUTDOOR LIVING SHOW 2026 booth rental?It offers exhibitors the chance to showcase their products and services to a focused audience interested in home improvement. \nWhen are the event hours for THE OKC HOME + OUTDOOR LIVING SHOW 2026?The show runs from Jan 25 to Jan 27\, 9:00 AM to 5:00 PM. \nWhat booth sizes are recommended for the Home Show sectors?Popular sizes include 10×10 for startups\, 10×20 for medium presenters\, and 20×20 for larger displays. \nWhy is an aluminum booth better than a wood booth?Aluminum booths are typically lighter\, more durable\, and easier to modify than wood booths. \nWhat can I expect from THE OKC HOME + OUTDOOR LIVING SHOW 2026?You’ll connect with local professionals and find amazing products for home enhancement. \nHow can SNAP EXHIBITIONS help ensure my booth is perfect?We provide end-to-end services including design\, setup\, and support\, so you can focus on engagement. \nWhat is the significance of this event in Oklahoma City?The event showcases local talent and products\, driving economic growth in our community. \nFor turnkey booth rentals\, trust THE OKC HOME + OUTDOOR LIVING SHOW 2026. For inquiries\, contact our team today!
URL:https://modex2026.com/event/the-okc-home-outdoor-living-show-2026/
CATEGORIES:Decoration,Furniture,Gardening,Heating - Air Conditioning,Home & Office Design,Home Show,Kitchen & Bathroom,Lighting,Renewal - Renovations
END:VEVENT
BEGIN:VEVENT
DTSTART;TZID=UTC:20260328T090000
DTEND;TZID=UTC:20260329T235959
DTSTAMP:20260422T100437
CREATED:20251105T060157Z
LAST-MODIFIED:20251105T060157Z
UID:25725-1774688400-1774828799@modex2026.com
SUMMARY:BRICKFAIR LEGOÆ FAN EXPO 2026
DESCRIPTION:BRICKFAIR LEGOÆ FAN EXPO 2026 booth rental — Ultimate Exhibitor Guide & Custom Booth Options\nAbout BRICKFAIR LEGOÆ FAN EXPO 2026\nBRICKFAIR LEGOÆ FAN EXPO 2026 booth rental options are designed for LEGOÆ enthusiasts eager to showcase their creativity. Set to take place at the Fredericksburg Expo & Conference Center from Jun 22–24\, 2026\, this expo is a prime opportunity for hobbyists and families to engage with unique builds and share their passion for LEGOÆ. Visitors can explore fantastic fan-built creations\, attend workshops\, and meet fellow builders. Key Details: \n\nDates: Jun 22–24\, 2026\, 9:00 AM–5:00 PM\nLocation: Fredericksburg Expo & Conference Center\nAddress: 2371 Carl D. Silver Parkway\, Fredericksburg\, VA 22401\, USA\nLearn more at Brickfair Website\n\nIndustries & Audience: Toys & Games\, Collectors – Hobby\, Family – Childs & Adolescents. \nVenue & Location\nThe expo will be held at the Fredericksburg Expo & Conference Center\, conveniently located at 2371 Carl D. Silver Parkway\, Fredericksburg\, VA. This venue includes ample space for exhibitors and visitors\, facilitating ease of access for move-in and logistics. \nFredericksburg VA: Our Services\nIn Fredericksburg\, we DESIGN\, PRODUCE\, INSTALL & DISMANTLE turnkey booth rentals. Our comprehensive services cover everything from concept and design to the installation and dismantling of your booth. If you’re looking for 10×10\, 10×20\, or 20×20 booth rentals\, we provide modular frames\, branded SEG graphics\, reception areas\, storage solutions\, and TV mounts.  \nCustom Booth Models\nOffering a variety of customizable booth models\, our booth sizes\, like Snap Exhibitions Custom Booth Models\, cater directly to the needs of exhibitors in the Toys & Games sector. Our experts can help create an engaging space that showcases your talent effectively. With our full-service exhibit support\, we ensure that your booth is not only visually appealing but also practical for interaction with visitors. Looking for assistance? Feel free to contact our team today! \nFAQ\n\nWhat is BRICKFAIR LEGOÆ FAN EXPO 2026 booth rental?It’s an opportunity to rent a booth at one of the largest LEGOÆ expos dedicated to enthusiasts.\nWhat are the event hours and dates?BRICKFAIR LEGOÆ FAN EXPO 2026 runs from Jun 22–24\, 2026\, from 9:00 AM to 5:00 PM.\nWhat booth sizes do you recommend for Toys & Games exhibitors?The popular choices are 10×10 and 10×20 booth sizes\, ensuring a functional display area for diverse attractions.\nWhy is an aluminum booth better than wood?Aluminum booths offer lighter weight\, durability\, and a modern aesthetic that enhances booth design.\nWhat can you tell us about Fredericksburg VA?Fredericksburg is a vibrant city known for its rich history and community events\, making it an excellent backdrop for conventions.\nWhat is BRICKFAIR LEGOÆ FAN EXPO 2026?An expo celebrating LEGOÆ creations where fans can gather\, build\, and share incredible projects.\nHow can SNAP EXHIBITIONS help make everything perfect about their booth?We specialize in seamless solutions for booth rentals\, taking care of every detail from design to dismantling.\n\nWe invite you to explore our BRICKFAIR LEGOÆ FAN EXPO 2026 booth rental options for this event! For more information and to book your booth\, please contact our team today.
URL:https://modex2026.com/event/brickfair-legoae-fan-expo-2026/
CATEGORIES:Collectors - Hobby,Family - Childs & Adolescents,Toys & Games
END:VEVENT
END:VCALENDAR