BEGIN:VCALENDAR
VERSION:2.0
PRODID:-//MODEX 2026 Atlanta — Local Booth Builder &amp; Rentals - ECPv6.15.13.1//NONSGML v1.0//EN
CALSCALE:GREGORIAN
METHOD:PUBLISH
X-WR-CALNAME:MODEX 2026 Atlanta — Local Booth Builder &amp; Rentals
X-ORIGINAL-URL:https://modex2026.com
X-WR-CALDESC:Events for MODEX 2026 Atlanta — Local Booth Builder &amp; Rentals
REFRESH-INTERVAL;VALUE=DURATION:PT1H
X-Robots-Tag:noindex
X-PUBLISHED-TTL:PT1H
BEGIN:VTIMEZONE
TZID:UTC
BEGIN:STANDARD
TZOFFSETFROM:+0000
TZOFFSETTO:+0000
TZNAME:UTC
DTSTART:20250101T000000
END:STANDARD
END:VTIMEZONE
BEGIN:VEVENT
DTSTART;TZID=UTC:20260413T090000
DTEND;TZID=UTC:20260416T235959
DTSTAMP:20260420T162351
CREATED:20251105T061103Z
LAST-MODIFIED:20251105T061103Z
UID:25741-1776070800-1776383999@modex2026.com
SUMMARY:MODEX 2026
DESCRIPTION:MODEX 2026 booth rental — Exhibitor Guide & Custom Booth Options\nAbout MODEX 2026\nVenue & Location\nCollege Park GA: Our Services\nCustom Booth Models\nFAQ\nAbout MODEX 2026\nMODEX 2026 booth rental is crucial for exhibitors looking to make a powerful impact at this leading event in College Park. This trade show brings together manufacturing and supply chain decision-makers\, offering a unique opportunity for networking\, innovation\, and collaboration. At MODEX\, visitors and exhibitors can explore the latest advancements in logistics and transportation engineering. \nKey Details: March 1–4\, 2026\, Georgia International Convention Center – GICC\, 2000 Convention Center Concourse\, College Park\, Georgia 30337\, United States. \nIndustries & Audience: Logistics & Transportation Engineering\, Handling Operations\, Storage\, Trucks and Utility Vehicles. \nVenue & Location\nThe MODEX 2026 event will take place at the Georgia International Convention Center (GICC)\, located at 2000 Convention Center Concourse\, College Park\, Georgia 30337\, United States. The venue is equipped with central access and facilities suited for a seamless trade show experience. Although specific logistics details are not provided\, typical move-in windows and dock access will be accommodated for exhibitors. \nFor further inquiries\, feel free to contact us. \nCollege Park GA: Our Services\nWe DESIGN\, PRODUCE\, INSTALL & DISMANTLE turnkey booth rentals in College Park GA. Our services encompass everything from concept and design to modular frames\, branded SEG graphics\, and reception/storage solutions. We ensure that every element of your booth aligns with your brand message\, including on-site installation and dismantling\, allowing you to focus on engaging with potential clients. \nCustom Booth Models\nExplore our Snap Exhibitions Custom Booth Models tailored for various trade show sizes. Popular footprints available include 10×10\, 10×20\, and 20×20 models\, providing flexibility for exhibitors in the logistics and transportation sectors. Each booth design is optimized for visibility and interaction\, ensuring a memorable experience for attendees. \nOur full-service exhibit support covers every aspect from setup to takedown. For personalized assistance\, contact our team to discuss your specific needs. \nFAQ\nQ: What is MODEX 2026 booth rental?A: MODEX 2026 booth rental provides exhibitors with professional and customizable exhibit spaces designed for maximum impact. \nQ: What are the event hours for MODEX 2026?A: The event runs from March 1-4\, 2026\, typically from 9:00 AM to 5:00 PM. \nQ: What booth sizes do you recommend for logistics sectors?A: We suggest sizes like 10×20 or 20×20 to accommodate engaging displays and demonstrations. \nQ: Why is an aluminum booth better than wood?A: Aluminum booths are lighter\, more durable\, and offer a modern aesthetic compared to traditional wooden structures. \nQ: What is the significance of College Park for trade shows?A: College Park is home to the GICC\, a reputable venue known for hosting large-scale trade shows. \nQ: How can SNAP EXHIBITIONS help make everything perfect about their booth?A: We offer comprehensive booth rental services including design\, installation\, and on-site support to ensure a successful event. \nIn conclusion\, MODEX 2026 booth rental is your ultimate solution for success at this premier trade show. Don’t miss the chance to elevate your exhibition experience—contact our team today!
URL:https://modex2026.com/event/modex-2026/
CATEGORIES:Logistics & Transportation Engineering - Handling Operations - Storage,Trucks and Utility Vehicles
END:VEVENT
BEGIN:VEVENT
DTSTART;TZID=UTC:20260413T090000
DTEND;TZID=UTC:20260416T235959
DTSTAMP:20260420T162351
CREATED:20251109T200348Z
LAST-MODIFIED:20251109T200348Z
UID:25980-1776070800-1776383999@modex2026.com
SUMMARY:SEATRADE CRUISE GLOBAL 2026
DESCRIPTION:Miami booth rental for SEATRADE CRUISE GLOBAL 2026 — Essential Exhibitor Guide\nAbout SEATRADE CRUISE GLOBAL 2026\nMiami booth rental for SEATRADE CRUISE GLOBAL 2026 is your gateway to success at this premier cruise industry exhibition. The event gathers influential suppliers and buyers for a week of unmatched networking and education. Attendees can expect tremendous opportunities to connect and engage in the vibrant cruise market.  \n\nKey Details: Mar 1–3\, 2026\, 9:00 AM–5:00 PM\nLocation: Miami Beach Convention Center\, 1901 Convention Center Drive\, Miami Beach\, United States\n\nThis event targets professionals in the Tourism – Travel\, Catering & Hospitality Industries\, Shipping Engineering sectors\, making it a significant gathering for exhibitors. \nVenue & Location\nThe Miami Beach Convention Center is well-equipped to host this large-scale event. Located at 1901 Convention Center Drive\, Miami Beach\, United States\, it offers easy access to central logistics and ample space for exhibitors. For any inquiries\, feel free to contact us at your convenience. \nMiami FL: Our Services\nWe DESIGN\, PRODUCE\, INSTALL & DISMANTLE turnkey booth rentals in Miami\, ensuring a seamless experience from concept to execution. Our services include custom designs\, modular frames\, branded SEG graphics\, as well as essential features such as reception and storage areas\, and TV mounts. \nCustom Booth Models\nOur collection of Snap Exhibitions Custom Booth Models includes popular footprints such as 10×10\, 10×20\, and 20×20. Each design is crafted to attract attendees in the cruise and hospitality sectors. For comprehensive support\, opt for our full-service exhibit support that covers every aspect of your booth needs. \nTo get started on your booth rental for SEATRADE CRUISE GLOBAL 2026\, contact our team today! \nFAQ\n\nWhat is Miami booth rental for SEATRADE CRUISE GLOBAL 2026?This service allows exhibitors to have tailor-made booths designed to attract visitors at the SEATRADE CRUISE GLOBAL 2026 event.\nWhat are the event hours for SEATRADE CRUISE GLOBAL 2026?The event will run from Mar 1–3\, 2026\, from 9:00 AM to 5:00 PM each day.\nWhat booth sizes do you recommend for Tourism and Hospitality sectors?We commonly suggest 10×20 or 20×20 booths for these sectors to provide ample space for engagements.\nWhy is an aluminum booth better than wood?Aluminum booths are lighter\, more durable\, and offer better flexibility in design compared to wooden structures.\nWhat facilities does the Miami Beach Convention Center offer?The convention center is equipped with ample loading docks and easy access for heavy equipment\, facilitating smooth logistics for exhibitors.\nHow will SNAP EXHIBITIONS help me make my booth perfect?We provide end-to-end solutions\, from design to dismantling\, ensuring your booth stands out and meets all your needs.\nWhat should I know before booking my booth rental in Miami?Understand your target audience and how to effectively utilize the booth space to maximize engagement.\n\nIn conclusion\, Miami booth rental for SEATRADE CRUISE GLOBAL 2026 presents an incredible opportunity to elevate your presence. Secure your booth now and let us assist you in achieving a successful exhibition experience!
URL:https://modex2026.com/event/seatrade-cruise-global-2026/
CATEGORIES:Catering & Hospitality Industries,Shipping Engineering,Tourism - Travel
END:VEVENT
BEGIN:VEVENT
DTSTART;TZID=UTC:20260414T090000
DTEND;TZID=UTC:20260415T235959
DTSTAMP:20260420T162351
CREATED:20251106T105946Z
LAST-MODIFIED:20251106T105946Z
UID:25812-1776157200-1776297599@modex2026.com
SUMMARY:CONNECTED AMERICA 2026
DESCRIPTION:CONNECTED AMERICA 2026 booth rental — Ultimate Exhibitor Guide & Custom Booth Options\nAbout CONNECTED AMERICA 2026\nVenue & Location\nIrving TX: Our Services\nCustom Booth Models\nFAQ\nAbout CONNECTED AMERICA 2026\nCONNECTED AMERICA 2026 booth rental allows businesses to showcase their offerings at this key event. The show unites communications service providers at various levels—national\, state\, and local—alongside the public sector\, enterprise verticals\, and suppliers. Attendees can gain insights on enhancing broadband coverage in the U.S. By participating\, exhibitors can access valuable networking opportunities and cultivate relationships that lead to future collaborations. \n\nKey Details: Jan 21–23\, 2026\, 9:00 AM–5:00 PM\nLocation: Irving Convention Center\nAddress: 500 West Las Colinas Boulevard\, Irving\, TX\, USA\nWebsite: Connected America 2026\nIndustries & Audience: Internet & Intranet\, Telecommunications\, Computers Networks\, Teleworking – Teleservices\, Marketing & Selling\, Urban Equipment & Engineering\n\nVenue & Location\nThe CONNECTED AMERICA 2026 trade show will take place at the Irving Convention Center\, located at 500 West Las Colinas Boulevard\, Irving\, TX\, in the USA. This facility offers convenient logistics such as easy access for move-in and dock services\, ensuring a smooth setup for exhibitors. \nIrving TX: Our Services\nIn Irving\, TX\, we DESIGN\, PRODUCE\, INSTALL & DISMANTLE turnkey booth rentals. Our team will guide you through every step\, including concept design\, modular frames\, branded SEG graphics\, and reception/storage solutions. Our services include on-site installation and dismantling for seamless participation in CONNECTED AMERICA 2026. \nCustom Booth Models\nWe offer a variety of booth footprints\, ideal for showcasing at CONNECTED AMERICA 2026: \n\n10×10: Perfect for smaller businesses looking to make a bold impact.\n10×20: Ideal for brands seeking increased visibility with more space.\n20×20: Provides ample room for larger displays and interactive setups.\n\nExplore our Snap Exhibitions Custom Booth Models for tailored solutions suited for the various sectors present at the show. \nWe pride ourselves on providing full-service exhibit support to ensure your booth runs flawlessly—engaging your audience and elevating your brand presence. \nReady to take the next step? Contact our team today for expert assistance! \nFAQ\n\nWhat is CONNECTED AMERICA 2026 booth rental?\nCONNECTED AMERICA 2026 booth rental gives you a space to exhibit your solutions and connect with key players in the broadband industry.\nWhat are the event hours and dates?\nThe event runs from Jan 21 to Jan 23\, 2026\, from 9:00 AM to 5:00 PM.\nWhat booth sizes do you recommend for Internet & Intranet sectors?\nA 10×20 or 20×20 booth often works best for showcasing technology and engaging with visitors in these sectors.\nWhy is an aluminum booth better than wood?\nAluminum booths are lighter\, more durable\, and environmentally friendly compared to wood\, making them easier to transport and set up.\nWhat services do you offer in Irving for the event?\nWe provide comprehensive booth rentals\, including design\, production\, installation\, and dismantling services.\nHow can CONNECTED AMERICA 2026 improve my business opportunities?\nThis event connects you with industry leaders\, offering valuable insights and networking opportunities.\nHow can SNAP EXHIBITIONS help me make everything perfect about my booth?\nWe specialize in turnkey booth rentals\, providing end-to-end solutions tailored to your needs for flawless execution.\n\nExperience the benefits of exhibiting at CONNECTED AMERICA 2026 booth rental for impactful connections. For more information\, contact our team today!
URL:https://modex2026.com/event/connected-america-2026/
CATEGORIES:Computers Networks,Internet & Intranet,Marketing & Selling,Telecommunications,Teleworking - Teleservices,Urban Equipment & Engineering
END:VEVENT
BEGIN:VEVENT
DTSTART;TZID=UTC:20260414T090000
DTEND;TZID=UTC:20260416T235959
DTSTAMP:20260420T162351
CREATED:20251106T030525Z
LAST-MODIFIED:20251106T030525Z
UID:25779-1776157200-1776383999@modex2026.com
SUMMARY:SAE WORLD CONGRESS EXPERIENCE '2026
DESCRIPTION:SAE WORLD CONGRESS EXPERIENCE ‘2026 booth rental — Essential Guide\nAbout SAE WORLD CONGRESS EXPERIENCE ‘2026\nSAE WORLD CONGRESS EXPERIENCE ‘2026 booth rental provides exhibitors with a unique platform to showcase their latest innovations in automotive engineering. This event is an international congress and exposition dedicated to automotive design engineering. Attendees will gain insights\, network with industry leaders\, and explore cutting-edge technologies.\nKey Details: \n\nDate: Dec 11–15\, 2026\, 9:00 AM–5:00 PM\nLocation: Huntington Place Convention Center\, 1 Washington Boulevard\, Detroit\, MI 48226\, United States\nMore Info: SAE World Congress Website\n\nThe industries and audience include Automotive Engineering – Systems & Components\, Mechanical Components\, Real Time Systems & Embedded Systems\, Subcontracting\, Suppliers & Partners\, Workshop & Service Station Equipment\, General Automobile. With a focus on innovation\, this event offers a perfect backdrop for exhibitors looking to make an impact in the automotive sector. \nVenue & Location\nLocated in the heart of Detroit\, the Huntington Place Convention Center provides an excellent venue for the SAE WORLD CONGRESS EXPERIENCE ‘2026. The location is easily accessible with convenient move-in windows and adequate docking facilities for exhibitors\, ensuring a smooth setup experience. \nDetroit MI: Our Services\nWe DESIGN\, PRODUCE\, INSTALL & DISMANTLE turnkey booth rentals in Detroit MI. Our comprehensive services encompass everything from concept and design to modular frames and branded SEG graphics\, including reception and storage areas\, among other amenities. \nCustom Booth Models\nOur popular booth sizes include 10×10\, 10×20\, and 20×20 footprints\, which are ideal for exhibitors in the automotive engineering sector. Each design is tailored to maximize visitor engagement and ensure a seamless experience. Check out our Snap Exhibitions Custom Booth Models for more options. \nWe also offer full-service exhibit support to help you with every aspect of your booth rental. \nReady to take your exhibiting to the next level? Contact our team for personalized assistance! \nFAQ\nQ: What is SAE WORLD CONGRESS EXPERIENCE ‘2026 booth rental?A: SAE WORLD CONGRESS EXPERIENCE ‘2026 booth rental offers exhibitors premium solutions to showcase their products at one of the leading automotive events. \nQ: What are the event hours/dates?A: The event will be held from December 11–15\, 2026\, from 9:00 AM to 5:00 PM. \nQ: What booth sizes do you recommend for automotive sectors?A: Popular booth sizes for the automotive industry include 10×10\, 10×20\, and 20×20 feet models\, designed to enhance visibility and engagement. \nQ: Why is an aluminum booth better than wood?A: Aluminum booths are generally lighter\, more durable\, and easier to assemble compared to wood\, making them a more reliable choice for exhibitors. \nQ: What services can we find in Detroit for exhibitors?A: Detroit provides a wealth of services for exhibitors\, including logistics support\, custom booth design\, and installation services. \nQ: How can SNAP EXHIBITIONS help make everything perfect about their booth?A: We specialize in turnkey booth rentals\, providing tailored solutions that fit your specific needs to ensure a successful exhibition experience. \nIn conclusion\, SAE WORLD CONGRESS EXPERIENCE ‘2026 booth rental offers essential support for exhibitors looking to make a mark in the automotive industry. Visit us for premier solutions and contact us today!
URL:https://modex2026.com/event/sae-world-congress-experience-2026/
CATEGORIES:Automotive Engineering - Systems & Components,General Automobile,Mechanical Components,Real Time Systems & Embedded Systems,Subcontracting,Suppliers & Partners,Workshop & Service Station Equipment
END:VEVENT
BEGIN:VEVENT
DTSTART;TZID=UTC:20260414T090000
DTEND;TZID=UTC:20260416T235959
DTSTAMP:20260420T162351
CREATED:20251109T193427Z
LAST-MODIFIED:20251109T193427Z
UID:25920-1776157200-1776383999@modex2026.com
SUMMARY:CONNECT SPRING MARKETPLACE 2026
DESCRIPTION:CONNECT SPRING MARKETPLACE 2026 booth rental — Bold Exhibitor Guide & Custom Booth Options\nAbout CONNECT SPRING MARKETPLACE 2026\nCONNECT SPRING MARKETPLACE 2026 booth rental offers exhibitors an unparalleled opportunity to engage with planners\, suppliers\, and experts in the meetings and events industry. Hosted in Louisville\, KY\, this premier event caters specifically to professionals in Events Organization\, Public Relations & Advertising\, Marketing & Selling\, Catering & Hospitality Industries. Attendees will benefit from preset appointments\, general sessions\, round tables\, and high-quality networking interactions that aim to foster business connections and collaborations. \nKey Details:Start Date: Apr 16\, 2026  — End Date: Apr 18\, 2026Location: Louisville\, KY\, USAVisit the official event website: CONNECT Meetings. \nVenue & Location\nThe event takes place in Louisville\, KY\, USA. Exhibitors can expect smooth logistics at the venue\, providing central access for move-in and dock access\, ensuring a seamless check-in experience. \nLouisville\, KY: Our Services\nWe DESIGN\, PRODUCE\, INSTALL & DISMANTLE turnkey booth rentals in Louisville\, KY. Our offerings encompass concept and design\, modular frames\, branded SEG graphics\, and essential features such as reception/storage areas and TV mounts\, along with on-site installation and dismantle (I&D). \nCustom Booth Models\nAt CONNECT SPRING MARKETPLACE 2026\, popular booth footprints like 10×10\, 10×20\, and 20×20 are tailored to fit the needs of attendees across various sectors including Events Organization and Marketing. Explore our Snap Exhibitions Custom Booth Models for innovative design options applicable to all types of exhibits. We provide full-service exhibit support to ensure your booth stands out\, along with the possibility to contact our team for personalized assistance. \nFAQ\n\nWhat is CONNECT SPRING MARKETPLACE 2026 booth rental?This refers to the rental options available for exhibitors looking to showcase their products and services at the event.\nWhen are the event hours for CONNECT SPRING MARKETPLACE 2026?The event will run from Apr 16 – 18\, 2026. Make sure to check the specific daily schedules closer to the date.\nWhat booth size is recommended for Events Organization categories?Common sizes include 10×10 and 10×20\, which are perfect for networking while offering enough space to showcase features effectively.\nWhy is an aluminium booth better than wood?Aluminium booths are lightweight\, durable\, and easier to transport\, making them ideal for frequent events.\nWhat makes Louisville a great city to host this event?Louisville offers a vibrant atmosphere and excellent facilities\, making it an ideal setting for business networking and planning.\nHow can we assist with making everything perfect about their booth?We provide comprehensive support from booth design to dismantle\, ensuring your exhibition goes smoothly and makes a lasting impression.\n\nCONNECT SPRING MARKETPLACE 2026 booth rental is your ticket to a successful event. Connect with us today for a personalized experience at Snap Exhibitions\, and let us help you stand out at the show!
URL:https://modex2026.com/event/connect-spring-marketplace-2026/
CATEGORIES:Catering & Hospitality Industries,Events Organization,Marketing & Selling,Public Relations & Advertising
END:VEVENT
END:VCALENDAR