BEGIN:VCALENDAR
VERSION:2.0
PRODID:-//MODEX 2026 Atlanta — Local Booth Builder &amp; Rentals - ECPv6.15.13.1//NONSGML v1.0//EN
CALSCALE:GREGORIAN
METHOD:PUBLISH
X-WR-CALNAME:MODEX 2026 Atlanta — Local Booth Builder &amp; Rentals
X-ORIGINAL-URL:https://modex2026.com
X-WR-CALDESC:Events for MODEX 2026 Atlanta — Local Booth Builder &amp; Rentals
REFRESH-INTERVAL;VALUE=DURATION:PT1H
X-Robots-Tag:noindex
X-PUBLISHED-TTL:PT1H
BEGIN:VTIMEZONE
TZID:UTC
BEGIN:STANDARD
TZOFFSETFROM:+0000
TZOFFSETTO:+0000
TZNAME:UTC
DTSTART:20250101T000000
END:STANDARD
END:VTIMEZONE
BEGIN:VEVENT
DTSTART;TZID=UTC:20260426T090000
DTEND;TZID=UTC:20260430T235959
DTSTAMP:20260420T162354
CREATED:20251105T060706Z
LAST-MODIFIED:20251105T060706Z
UID:25733-1777194000-1777593599@modex2026.com
SUMMARY:SPIE DEFENSE + COMMERCIAL SENSING 2026
DESCRIPTION:SPIE DEFENSE + COMMERCIAL SENSING 2026 booth rental — Premium Options\nAbout SPIE DEFENSE + COMMERCIAL SENSING 2026\nVenue & Location\nKissimmee FL: Our Services\nCustom Booth Models\nFAQ\nAbout SPIE DEFENSE + COMMERCIAL SENSING 2026\nWelcome to the SPIE DEFENSE + COMMERCIAL SENSING 2026 booth rental experience! This premier exhibition is geared towards the defense and security sectors. Attendees will connect with over 500 top contractors\, suppliers\, and integrators\, facilitating significant networking opportunities and showcasing cutting-edge advancements in technology. \nThis event spans from December 25–27\, 2026\, 9:00 AM–5:00 PM at the Gaylord Palms Resort & Convention Center\, located at 6000 W Osceola Pkwy Kissimmee\, FL 34746 USA. For attendees in the Defense – Armament\, Measurement\, Control & Testing\, Optoelectronics\, Micro & Nanotechnologies\, Security – Risk Management\, Environmental Protection sectors\, this event is a must-attend! \nKey Details\n\nDate: December 25–27\, 2026\nLocation: Gaylord Palms Resort & Convention Center\nAddress: 6000 W Osceola Pkwy Kissimmee\, FL 34746 USA\nCountry: United States\n\nVenue & Location\nThe Gaylord Palms Resort & Convention Center is conveniently located in Kissimmee\, FL\, providing excellent accessibility for attendees. Facilities include spacious exhibition halls and various amenities for a seamless experience. \nKissimmee FL: Our Services\nWe DESIGN\, PRODUCE\, INSTALL & DISMANTLE turnkey booth rentals in Kissimmee FL. Our scope includes conceptual design\, modular frames\, branded SEG graphics\, reception/storage areas\, and on-site installation and dismantling. \nCustom Booth Models\nOur popular footprints\, including 10×10\, 10×20\, and 20×20\, are perfect for various exhibitor needs in the defense and security sectors. Explore our Snap Exhibitions Custom Booth Models for tailored solutions. \nWe also offer full-service exhibit support\, ensuring a smooth experience from start to finish. If you’re ready to set up your booth\, contact our team today! \nFAQ\n\nWhat is SPIE DEFENSE + COMMERCIAL SENSING 2026 booth rental?This is a premium service where we provide you with fully equipped and custom-designed booths for the exhibition.\nWhen does the event occur?SPIE DEFENSE + COMMERCIAL SENSING 2026 takes place from December 25–27\, 2026.\nWhat booth sizes are recommended for the Defense sectors?We suggest 10×10 or 10×20 booths for most exhibitors in defense\, depending on your exhibit needs.\nWhy is an aluminum booth better than wood?Aluminum booths are lighter\, more durable\, and easier to transport than traditional wood booths\, making them a better choice for exhibitions.\nWhat can I do in Kissimmee during the event?Kissimmee offers a variety of attractions including theme parks and outdoor activities for you to explore after the event.\nHow can SNAP EXHIBITIONS help me make everything perfect about my booth?We offer comprehensive services from design to installation to ensure your booth not only stands out but also functions seamlessly.\n\nFor your next exhibiting need\, trust our SPIE DEFENSE + COMMERCIAL SENSING 2026 booth rental service. Enhance your exhibit experience with our premium options today! To learn more or start planning\, contact our team today!
URL:https://modex2026.com/event/spie-defense-commercial-sensing-2026/
CATEGORIES:Control & Testing,Defense - Armament,Environmental Protection,Measurement,Micro & Nanotechnologies,Optoelectronics,Security - Risk Management
END:VEVENT
BEGIN:VEVENT
DTSTART;TZID=UTC:20260426T090000
DTEND;TZID=UTC:20260430T235959
DTSTAMP:20260420T162354
CREATED:20251105T060742Z
LAST-MODIFIED:20251105T060742Z
UID:25734-1777194000-1777593599@modex2026.com
SUMMARY:SPIE DEFENSE + COMMERCIAL SENSING EXPO 2026
DESCRIPTION:SPIE DEFENSE + COMMERCIAL SENSING EXPO 2026 booth rental — Ultimate Exhibitor Guide & Custom Booth Options\nAbout SPIE DEFENSE + COMMERCIAL SENSING EXPO 2026\nSPIE DEFENSE + COMMERCIAL SENSING EXPO 2026 booth rental offers an exceptional opportunity for exhibitors looking to make an impact. This premier trade show\, taking place at the Gaylord Palms Resort & Convention Center\, is tailored specifically for industries related to sensors\, optics\, imaging\, lasers\, and more. Our booth rentals are designed to maximize visibility and engagement\, making it easier for exhibitors to connect with attendees and fellow exhibitors. \nThe event will be held from November 23–25\, 2026\, offering key insights and networking opportunities in a focused environment. Key details:  November 23–25\, 2026  Gaylord Palms Resort & Convention Center  6000 W Osceola Pkwy\, Kissimmee\, FL 34746\, USA \nExpect a diverse audience from sectors such as Measurement\, Control & Testing\, Optoelectronics\, Defense – Armament\, and Sciences for Engineers – Research & Development. \nVenue & Location\nThe SPIE DEFENSE + COMMERCIAL SENSING EXPO 2026 takes place at the Gaylord Palms Resort & Convention Center\, located at 6000 W Osceola Pkwy\, Kissimmee\, FL 34746\, USA. This venue provides excellent logistics for exhibitors\, including appropriate move-in windows and dock access to facilitate smooth setup. While detailed access specifications are not provided\, the venue is recognized for its central location and comprehensive amenities. \nKissimmee\, FL: Our Services\nIn Kissimmee\, FL\, we DESIGN\, PRODUCE\, INSTALL & DISMANTLE turnkey booth rentals. Our comprehensive service includes everything from concept and design to modular frames\, branded SEG graphics\, and reception/storage solutions. We also ensure an on-site installation and dismantling service for hassle-free experiences. \nCustom Booth Models\nOur popular footprints include 10×10\, 10×20\, and 20×20 custom booth rentals that cater specifically to the sectors attending the SPIE DEFENSE + COMMERCIAL SENSING EXPO 2026. These booths are designed not only to capture attention but also to provide an effective environment for interaction. Explore our Snap Exhibitions Custom Booth Models for options tailored to your needs. Our full-service booth rentals also include full-service exhibit support to ensure your presence is seamless and professional. \nWant to get started? Contact our team today to discuss how we can elevate your exhibition experience! \nFAQ\nQ: What is SPIE DEFENSE + COMMERCIAL SENSING EXPO 2026 booth rental? A: It’s a service providing exhibitors with tailored booth options for an impactful presence at the event. \nQ: What are the event dates for SPIE DEFENSE + COMMERCIAL SENSING EXPO 2026? A: The event is scheduled for November 23–25\, 2026. \nQ: What booth sizes are recommended for the Measurement and Defense industries? A: We recommend sizes like 10×20 for more interaction space or larger footprints such as 20×20 for impactful displays. \nQ: Why is an aluminum booth better than wood? A: Aluminum booths are lighter and more durable\, offering better structural integrity and design flexibility compared to wood options. \nQ: What should I know about Kissimmee before attending? A: It’s a city with great transportation links and amenities\, perfect for accommodating exhibitors and attendees of all kinds. \nQ: How can SNAP EXHIBITIONS ensure everything is perfect for our booth? A: We manage every aspect from design to logistics\, assuring a stress-free experience so you can focus on networking and showcasing your innovations. \nAs you prepare for a successful event\, remember that SPIE DEFENSE + COMMERCIAL SENSING EXPO 2026 booth rental will position you effectively within this competitive market. Contact us today to secure your ideal booth and maximize your exhibition potential!
URL:https://modex2026.com/event/spie-defense-commercial-sensing-expo-2026/
CATEGORIES:Control & Testing,Defense - Armament,Measurement,Optoelectronics,Sciences for Engineers - Research & Development
END:VEVENT
BEGIN:VEVENT
DTSTART;TZID=UTC:20260429T090000
DTEND;TZID=UTC:20260430T235959
DTSTAMP:20260420T162354
CREATED:20251109T200129Z
LAST-MODIFIED:20251109T200129Z
UID:25974-1777453200-1777593599@modex2026.com
SUMMARY:DRINKS AMERICA 2026
DESCRIPTION:DRINKS AMERICA 2026 booth rental — Essential Exhibitor Guide & Custom Booth Options\nAbout Drinks America 2026\nDRINKS AMERICA 2026 booth rental offers exhibitors a chance to showcase their best products and connect with industry leaders in a vibrant setting. This event highlights a wide array of spirits\, beer\, ready-to-drink beverages\, and sake from producers worldwide\, alongside beverage alcohol accessories and services. As an exhibitor\, you can reach potential clients and create valuable relationships in the wine and spirits sector. \n\nKey Details:\nDates: Dec 25–27\, 2026\, 9:00 AM–5:00 PM\nLocation: Miami Beach Convention Center\nAddress: 1901 Convention Center Drive\, Miami Beach\, USA\nCountry: United States\n\nIndustries & Audience: Wine & Spirits\, Viticulture & Enology\, Beer\, Food Processing\, Catering & Hospitality. \nVenue & Location\nThe event will take place at the Miami Beach Convention Center\, located at 1901 Convention Center Drive\, Miami Beach\, USA. This venue is designed to facilitate smooth logistics for exhibitors\, including necessary access for setup and teardown. \nMiami Beach: Our Services\nWe DESIGN\, PRODUCE\, INSTALL & DISMANTLE turnkey booth rentals in Miami Beach. Our services encompass concept and design\, modular frames\, branded SEG graphics\, reception/storage areas\, TV mounts\, and on-site installation and dismantling. \nCustom Booth Models\nOur Snap Exhibitions Custom Booth Models are tailored to fit the unique needs of exhibitors attending events like DRINKS AMERICA 2026. Here are a few popular footprints we offer: \n\n10×10: Ideal for single-product displays\, perfect for engaging directly with attendees.\n10×20: Provides more room for product diversity and interaction\, suited for showcasing multiple offerings.\n20×20: Expansive space for larger brands to create immersive experiences.\n\n> Each size accommodates the needs of exhibitors effectively while meeting the criteria of our targeted sectors. We also provide full-service exhibit support to ensure everything is in place for a successful outcome.  \nTo learn how we can support your needs further\, contact our team today. \nFAQ\n\nWhat is the DRINKS AMERICA 2026 booth rental? DRINKS AMERICA 2026 booth rental provides exhibitors a platform to showcase their offerings in the wine and spirits industry.\nWhat are the event hours and dates? The event runs from Dec 25–27\, 2026\, from 9:00 AM to 5:00 PM.\nWhat booth sizes do you recommend for catering and hospitality sectors? A 10×20 booth is recommended for effective engagement\, while a 20×20 provides ample space for showcasing multiple products.\nWhy is an aluminum booth better than wood? Aluminum booths are lighter\, more flexible for design\, and easier to transport compared to wooden structures\, making them a preferred choice for turnkey setups.\nWhat amenities does Miami Beach provide for exhibitors? Miami Beach offers various services to ensure that exhibitors have a seamless experience\, including direct access to event locations and helpful local resources.\nHow can SNAP EXHIBITIONS help make everything perfect about my booth? We offer comprehensive services\, including design\, construction\, and support for your booth\, ensuring everything meets your expectations.\n\nFor a smooth and professional exhibit experience\, choose our DRINKS AMERICA 2026 booth rental. Contact us at Snap Exhibitions to get started on your successful show today!
URL:https://modex2026.com/event/drinks-america-2026/
CATEGORIES:Catering & Hospitality Industries,Food Processing Industries,Wine & Spirits - Viticulture & Enology - Beer
END:VEVENT
BEGIN:VEVENT
DTSTART;TZID=UTC:20260429T090000
DTEND;TZID=UTC:20260430T235959
DTSTAMP:20260420T162354
CREATED:20251109T200153Z
LAST-MODIFIED:20251109T200153Z
UID:25975-1777453200-1777593599@modex2026.com
SUMMARY:VINEXPO AMERICA 2026
DESCRIPTION:VINEXPO AMERICA 2026 booth rental — Ultimate Exhibitor Guide & Custom Booth Options\nAbout VINEXPO AMERICA 2026\nVenue & Location\nMiami Beach: Our Services\nCustom Booth Models\nFAQ\nVINEXPO AMERICA 2026 — Exhibitor Guide & Custom Booth Options\nVINEXPO AMERICA 2026 booth rental in Miami Beach presents a unique opportunity for exhibitors in the wine and spirits industry to showcase their products. Attendees can connect with influential professionals and discover trends that define the future of viticulture and hospitality. As the premier event in North America\, VINEXPO AMERICA draws top producers from around the globe eager to share their innovations and experiences. \nKey Details: \nDates: Dec 26–28\, 2026 (9:00 AM–6:00 PM) \nLocation: Miami Beach Convention Center\, 1901 Convention Center Drive\, Miami Beach\, United States. \nIndustries & Audience: **Wine & Spirits\, Viticulture & Enology\, Beer\, Food Processing\, Catering & Hospitality**. \nVenue & Location\nThe event will take place at the Miami Beach Convention Center\, located at 1901 Convention Center Drive\, Miami Beach\, United States. This facility offers efficient logistics for exhibitors\, ensuring seamless move-in and access for visitors and exhibitors alike. \nMiami Beach: Our Services\nWe DESIGN\, PRODUCE\, INSTALL & DISMANTLE turnkey booth rentals in Miami Beach. Our booth rental services include concept/design\, modular frames\, branded SEG graphics\, reception/storage areas\, TV mounts\, and on-site installation and dismantling. \nCustom Booth Models\nExplore our Snap Exhibitions Custom Booth Models that cater to various footprints\, such as 10×10\, 10×20\, and 20×20\, perfect for your presence at VINEXPO AMERICA. These configurations fit the needs of sectors like viticulture and food processing\, ensuring your displays meet audience expectations. You can rely on our full-service exhibit support to enhance your exhibit’s effectiveness. \nFor bespoke solutions tailored to your needs\, do not hesitate to contact our team. \nFAQ\nQ1: What is VINEXPO AMERICA 2026 booth rental?\nA1: VINEXPO AMERICA 2026 booth rental allows exhibitors to rent fully customizable booth spaces to present their wine and spirits products effectively. \nQ2: What are the event dates for VINEXPO AMERICA 2026?\nA2: The event will take place from Dec 26 to 28\, 2026\, operating from 9:00 AM to 6:00 PM. \nQ3: What booth sizes do you recommend for wine and spirits shows?\nA3: We recommend starting with a 10×10 or 10×20 booth for smaller displays\, while larger brands may benefit from a 20×20 setup to showcase products more prominently. \nQ4: Why is an aluminum booth better than wood?\nA4: Aluminum booths are lightweight\, durable\, and offer greater flexibility for customization compared to traditional wooden structures\, thereby facilitating easier transport and setup. \nQ5: What can I expect from the Miami Beach Convention Center?\nA5: Expect a well-equipped venue with convenient logistics\, accommodating all exhibitors during VINEXPO AMERICA 2026. \nQ6: How can SNAP EXHIBITIONS help me make everything perfect about my booth?\nA6: At SNAP EXHIBITIONS\, we provide comprehensive support\, from design to installation\, ensuring that your booth meets all your requirements for condition and appearance during the event. \nIn summary\, VINEXPO AMERICA 2026 booth rental offers a fantastic opportunity for exhibitors to showcase their brands effectively. We invite you to contact us today for a seamless experience at the event. Visit our contact page.
URL:https://modex2026.com/event/vinexpo-america-2026/
CATEGORIES:Catering & Hospitality Industries,Food Processing Industries,Wine & Spirits - Viticulture & Enology - Beer
END:VEVENT
BEGIN:VEVENT
DTSTART;TZID=UTC:20260429T090000
DTEND;TZID=UTC:20260430T235959
DTSTAMP:20260420T162354
CREATED:20251109T200756Z
LAST-MODIFIED:20251109T200756Z
UID:25989-1777453200-1777593599@modex2026.com
SUMMARY:B2B MARKETING AND SALES INNOVATION EXPO - MIAMI 2026
DESCRIPTION:B2B MARKETING AND SALES INNOVATION EXPO – MIAMI 2026 Booth Rental — Impactful\nAbout B2B MARKETING AND SALES INNOVATION EXPO – MIAMI 2026\nVenue & Location\nMiami: Our Services\nCustom Booth Models\nFAQ\nB2B MARKETING AND SALES INNOVATION EXPO – MIAMI 2026 — Effective Marketing Solutions\nB2B MARKETING AND SALES INNOVATION EXPO – MIAMI 2026 booth rental is essential for exhibitors looking to stand out in the competitive marketing sector. This event will host hundreds of suppliers and expert speakers demonstrating the latest technologies and discussing innovative services to enhance marketing efforts. Whether you’re looking for insights on public relations\, advertising\, or artificial intelligence\, this expo is a must-visit. \nKey Details: Jan 23–25\, 2026\, 9:00 AM–5:00 PM\, Miami Beach Convention Center\, 1901 Convention Center Drive\, Miami Beach\, United States. For more information\, visit the event website. \nIndustries & Audience: Marketing & Selling\, Decision Helping Tools & Management Services\, Knowledge Based Systems & Artificial Intelligence\, Public Relations & Advertising. \nVenue & Location\nThe B2B MARKETING AND SALES INNOVATION EXPO will take place at the Miami Beach Convention Center\, located at 1901 Convention Center Drive\, Miami Beach\, United States. This venue offers excellent logistics\, ensuring a smooth experience for exhibitors. \nMiami: Our Services\nWe DESIGN\, PRODUCE\, INSTALL & DISMANTLE turnkey booth rentals in Miami. Our services cover the whole spectrum from concept and design to modular frames\, branded SEG graphics\, reception/storage areas\, TV mounts\, and on-site installation and dismantling (I&D). \nCustom Booth Models\nWe offer a selection of Snap Exhibitions Custom Booth Models suitable for various event setups. Popular sizes like the 10×10\, 10×20\, and 20×20 are fantastic for exhibitors looking to make an impact. These booth footprints cater perfectly to attendees in the marketing sector\, providing ample space for interaction and engagement. Whether you’re showcasing AI tools or management services\, our booths will help you connect effectively with your audience. \nAdditionally\, we offer full-service exhibit support to ensure your presence at the expo is seamless. \nFAQ\n1. What is B2B MARKETING AND SALES INNOVATION EXPO – MIAMI 2026 booth rental? It refers to the rental of booths at the expo specifically designed for marketing and sales professionals. \n2. When does the event take place? The event is scheduled from January 23–25\, 2026\, from 9:00 AM–5:00 PM. \n3. What are recommended booth sizes for the marketing sector? Popular booth sizes include 10×10\, 10×20\, and 20×20\, ideal for accommodating marketing displays and engagements. \n4. Why is an aluminum booth better than wood? Aluminum booths are lighter\, more durable\, and easier to transport\, making them a popular choice for rental setups. \n5. What services do SNAP EXHIBITIONS offer in Miami? We provide comprehensive booth rental solutions including design\, production\, installation\, and dismantling services. \n6. What can I expect at the B2B MARKETING AND SALES INNOVATION EXPO – MIAMI 2026? The expo features exhibitors showcasing innovative marketing technologies and workshops led by industry experts. \n7. How can SNAP EXHIBITIONS help make my booth perfect? We work closely with exhibitors to customize booth designs tailored to their specific needs\, ensuring a standout presence at the event. For further assistance\, contact our team. \nIn conclusion\, if you are looking for B2B MARKETING AND SALES INNOVATION EXPO – MIAMI 2026 booth rental\, our seamless services can elevate your event experience. Reach out to contact our team today!
URL:https://modex2026.com/event/b2b-marketing-and-sales-innovation-expo-miami-2026/
CATEGORIES:Decision Helping Tools & Management Services,Knowledge Based Systems & Artificial Intelligence,Marketing & Selling,Public Relations & Advertising
END:VEVENT
BEGIN:VEVENT
DTSTART;TZID=UTC:20260429T090000
DTEND;TZID=UTC:20260430T235959
DTSTAMP:20260420T162354
CREATED:20251109T200820Z
LAST-MODIFIED:20251109T200820Z
UID:25990-1777453200-1777593599@modex2026.com
SUMMARY:THE BUSINESS SHOW - MIAMI 2026
DESCRIPTION:THE BUSINESS SHOW – MIAMI 2026 booth rental — Essential Guide & Custom Booth Options\n#show\n#venue\n#city-services\n#booth-models\n#faq\nTHE BUSINESS SHOW – MIAMI 2026: About the Event\nTHE BUSINESS SHOW – MIAMI 2026 booth rental offers you the chance to connect and grow your business. This event caters to small businesses seeking insights to thrive in today’s competitive market. Attendees will benefit from expert advice\, networking opportunities\, and innovative strategies aimed at fostering business growth. \nJoin us at the Miami Beach Convention Center from Dec 25–27\, 2026\, 9:00 AM–5:00 PM\, to hear from prominent figures in various industries. The event promises to equip you with practical tips for building a successful business. Learn more here. \nKey Details: \n\nDate: Dec 25–27\, 2026\nLocation: Miami Beach Convention Center\nAddress: 1901 Convention Center Drive\, Miami Beach\, USA\nCountry: United States\n\nIndustries & Audience: Marketing & Selling\, Subcontracting\, Suppliers & Partners\, Sciences for Engineers – Research & Development \nVenue & Location\nThe Miami Beach Convention Center is located at 1901 Convention Center Drive\, Miami Beach\, USA. Exhibitors will find convenient access for move-in and a central location for their audience. The venue features robust logistics without specific details on dock access provided. \nFor inquiries\, feel free to contact us. \nMiami Beach: Our Services\nIn Miami Beach\, we DESIGN\, PRODUCE\, INSTALL & DISMANTLE turnkey booth rentals. Our scope includes concept and design\, modular frames\, branded SEG graphics\, reception and storage solutions\, and TV mounts\, ensuring a complete exhibit experience tailored for this city. \nCustom Booth Models\nWe offer various popular footprints\, including 10×10\, 10×20\, and 20×20 booths. These options are ideal for marketing\, subcontracting\, and research sectors\, providing the space needed for effective engagement. Explore our Snap Exhibitions Custom Booth Models for various layouts. \nFor comprehensive support\, discover our full-service exhibit support offerings. If you have inquiries or need assistance\, contact our team. \nFAQ\nWhat are the benefits of THE BUSINESS SHOW – MIAMI 2026 booth rental?\nParticipating in THE BUSINESS SHOW – MIAMI 2026 booth rental gives your brand visibility\, connects you with industry experts\, and provides valuable insights to foster growth. \nWhat are the event hours for THE BUSINESS SHOW – MIAMI 2026?\nThe event runs from Dec 25–27\, 2026\, from 9:00 AM to 5:00 PM. \nWhat booth sizes are recommended for marketing sectors?\nFor marketing-focused sectors\, we recommend booth sizes of 10×10 or 10×20 to ensure adequate space for demonstrations and audience engagement. \nWhy is an aluminum booth better than wood?\nAluminum booths are generally lighter\, more durable\, and easier to transport than traditional wood options\, which can be heavy and prone to damage. \nHow does Miami Beach enhance the business event experience?\nMiami Beach offers vibrant networking opportunities alongside access to a diverse audience and industry leaders\, making it an excellent location for showcasing your business. \nWhat can SNAP EXHIBITIONS do to help me make everything perfect about my booth?\nWe provide a complete turnkey booth rental experience\, ensuring every detail is tailored for optimal impact and ease\, so you can focus on engaging with attendees. \nHow can I book my booth rental for THE BUSINESS SHOW – MIAMI 2026?\nSecure your space by reaching out via our contact page. Let us help you make your booth standout! \nIn conclusion\, if you’re searching for THE BUSINESS SHOW – MIAMI 2026 booth rental that supports growth and success\, contact us today at Snap Exhibitions for a seamless experience.
URL:https://modex2026.com/event/the-business-show-miami-2026/
CATEGORIES:Marketing & Selling,Sciences for Engineers - Research & Development,Subcontracting,Suppliers & Partners
END:VEVENT
END:VCALENDAR