BEGIN:VCALENDAR
VERSION:2.0
PRODID:-//MODEX 2026 Atlanta — Local Booth Builder &amp; Rentals - ECPv6.15.13.1//NONSGML v1.0//EN
CALSCALE:GREGORIAN
METHOD:PUBLISH
X-WR-CALNAME:MODEX 2026 Atlanta — Local Booth Builder &amp; Rentals
X-ORIGINAL-URL:https://modex2026.com
X-WR-CALDESC:Events for MODEX 2026 Atlanta — Local Booth Builder &amp; Rentals
REFRESH-INTERVAL;VALUE=DURATION:PT1H
X-Robots-Tag:noindex
X-PUBLISHED-TTL:PT1H
BEGIN:VTIMEZONE
TZID:UTC
BEGIN:STANDARD
TZOFFSETFROM:+0000
TZOFFSETTO:+0000
TZNAME:UTC
DTSTART:20250101T000000
END:STANDARD
END:VTIMEZONE
BEGIN:VEVENT
DTSTART;TZID=UTC:20260619T090000
DTEND;TZID=UTC:20260621T235959
DTSTAMP:20260422T131116
CREATED:20251109T203856Z
LAST-MODIFIED:20251109T203856Z
UID:26029-1781859600-1782086399@modex2026.com
SUMMARY:THE WOODENBOAT SHOW CONNECTICUT 2026
DESCRIPTION:THE WOODENBOAT SHOW CONNECTICUT 2026 Booth Rental — Impactful Options\nAbout THE WOODENBOAT SHOW CONNECTICUT 2026\nJoin us at the THE WOODENBOAT SHOW CONNECTICUT 2026 where opportunity meets engagement! This event caters to a diverse audience passionate about boating\, sailing\, and marine crafts. Exhibitors will interact with enthusiastic visitors\, showcasing products and services that enhance the boating and water sports experience. Expect to see a variety of boat industry products and sailing-related items made from materials like aluminium\, wood\, and PVC from top marine vendors.\nKey Details:\nEvent Dates: Oct 17–20\, 2026\, 9:00 AM–5:00 PM\nLocation: Mystic Seaport\, 75 Greenmanville Ave\, Mystic\, CT 06355\, United States\nEvent Website\nIndustries & Audience: Boating\, Sailing & Water Sports\, Wood Working Industries\, Sports \nVenue & Location\nTHE WOODENBOAT SHOW CONNECTICUT 2026 takes place at Mystic Seaport\, located at 75 Greenmanville Ave\, Mystic\, CT\, USA. This venue provides excellent logistics options for exhibitors\, including move-in windows and dock access. For inquiries\, feel free to reach us at +1 (207) 359-7751. \nMystic CT: Our Services\nWe offer full-service turnkey booth rentals in this city\, executing everything from design and production to installation and dismantling. Our scope covers concept/design\, modular frames\, branded SEG graphics\, reception/storage areas\, TV mounts\, and on-site installation and dismantling support. \nCustom Booth Models\nExplore our Snap Exhibitions Custom Booth Models tailored for various exhibition footprints including popular choices such as 10×10\, 10×20\, and 20×20. Each of these models is designed to fit attendees in the boating and water sports sectors\, promoting interaction and visibility. To learn about our full-service exhibit support\, feel free to contact our team for assistance with your exhibit. \nFAQ\n\nWhat is THE WOODENBOAT SHOW CONNECTICUT 2026 booth rental? It is an opportunity to showcase your products in an engaging environment tailored for boating enthusiasts.\nWhen does the event take place? THE WOODENBOAT SHOW CONNECTICUT 2026 runs from Oct 17–20\, 2026\, from 9:00 AM to 5:00 PM.\nWhat booth sizes are recommended for the Boating\, Sailing & Water Sports category? Popular choices include 10×10 for startups\, 10×20 for moderate exposure\, and 20×20 for maximum visibility and interaction.\nWhy is an aluminium booth better than wood? Aluminium booths are lighter\, more durable\, and offer better design flexibility compared to traditional wood booths.\nWhat can we expect in Mystic? Mystic is known for its rich maritime history\, making it the perfect backdrop for an event like THE WOODENBOAT SHOW.\nHow can SNAP EXHIBITIONS ensure my booth’s success? We specialize in comprehensive booth solutions to make everything perfect\, from concept to installation. We handle the logistics so you can focus on connecting with your audience.\nHow to contact you for further information? You can reach us at our website\, and we’ll be happy to assist with your booth rental needs.\n\nIn conclusion\, if you’re looking for THE WOODENBOAT SHOW CONNECTICUT 2026 booth rental solutions\, get in touch with us today! For a truly professional experience\, contact our team and let us help you make your exhibit a success.
URL:https://modex2026.com/event/the-woodenboat-show-connecticut-2026/
CATEGORIES:Boating,Sailing & Water Sports,Sports,Wood Working Industries
END:VEVENT
BEGIN:VEVENT
DTSTART;TZID=UTC:20260621T090000
DTEND;TZID=UTC:20260624T235959
DTSTAMP:20260422T131116
CREATED:20251109T100056Z
LAST-MODIFIED:20251109T100056Z
UID:25849-1782032400-1782345599@modex2026.com
SUMMARY:A&WMA CONFERENCE & EXHIBITION 2026
DESCRIPTION:Austin Booth Rental for A&WMA CONFERENCE & EXHIBITION 2026 — Ultimate Guide\nAbout A&WMA CONFERENCE & EXHIBITION 2026\nAustin Booth Rental for A&WMA CONFERENCE & EXHIBITION 2026 is your go-to solution for a standout exhibit experience. This premier event in the environmental sector welcomes professionals who are passionate about knowledge-sharing and networking. Attendees benefit from insights on innovative solutions in Water Management\, Waste Management\, Environmental Protection\, and Clean Energies. Key Details:February 20–22\, 2026\, 9:00 AM–5:00 PMJW Marriott\, Austin\, 110 E 2nd St\, Austin\, TX 78701\, United States. For more details\, visit A&WMA Event Website. \nIndustries & Audience: Water Management and Treatment\, Waste Management – Recycling\, Environmental Protection\, Clean Energies – Renewable Energies. \nVenue & Location\nThe conference takes place at the JW Marriott\, located at 110 E 2nd St\, Austin\, TX 78701\, United States. This venue is accessible and provides ample logistics for exhibitors\, including convenient move-in windows and dock access. \nAustin\, TX: Our Services\nWe DESIGN\, PRODUCE\, INSTALL & DISMANTLE turnkey booth rentals in Austin\, TX. Our comprehensive service includes custom concepts\, modular frames\, tailored graphics\, reception areas\, and more. We ensure you have all that you need for a successful exhibit experience. \nCustom Booth Models\nWe offer popular booth sizes tailored to various needs: our 10×10 footprint is ideal for startups\, while 20×20 offers maximum visibility for larger businesses. Our Snap Exhibitions Custom Booth Models perfectly cater to the diverse needs of the environmental sector. For a complete solution\, explore our full-service exhibit support. Interested? Contact our team today! \nFAQ\n1. What is Austin Booth Rental for A&WMA CONFERENCE & EXHIBITION 2026?It refers to our comprehensive booth rental services specifically for exhibitors attending the A&WMA conference in Austin. \n2. What are the event hours and dates?A&WMA CONFERENCE & EXHIBITION 2026 will be held on February 20–22\, 2026\, from 9:00 AM–5:00 PM. \n3. What booth sizes do you recommend for the environmental sectors?Depending on the engagement you desire\, 10×10 for small setups\, 10×20 for moderate exposure\, and 20×20 for expansive visibility are recommended. \n4. Why is an aluminum booth better than wood?Aluminum booths offer a lightweight and more durable structure compared to wood\, ensuring easier transportation and installation while providing a modern look. \n5. What’s special about Austin?Austin is known for its vibrant culture and innovation\, making it an excellent backdrop for conferences focused on environmental solutions. \n6. How can SNAP EXHIBITIONS help me make everything perfect about my booth?We take care of the entire booth experience—from design through dismantling—ensuring you focus on your presentation. \nIn conclusion\, Austin Booth Rental for A&WMA CONFERENCE & EXHIBITION 2026 provides you with everything needed for a modern\, impactful presence at the event. Don’t miss this chance to create lasting connections. For best results\, contact our team today!
URL:https://modex2026.com/event/awma-conference-exhibition-2026/
CATEGORIES:Clean Energies - Renewable Energies,Environmental Protection,Waste Management - Recycling,Water Management and Treatment
END:VEVENT
END:VCALENDAR