BEGIN:VCALENDAR
VERSION:2.0
PRODID:-//MODEX 2026 Atlanta — Local Booth Builder &amp; Rentals - ECPv6.15.13.1//NONSGML v1.0//EN
CALSCALE:GREGORIAN
METHOD:PUBLISH
X-ORIGINAL-URL:https://modex2026.com
X-WR-CALDESC:Events for MODEX 2026 Atlanta — Local Booth Builder &amp; Rentals
REFRESH-INTERVAL;VALUE=DURATION:PT1H
X-Robots-Tag:noindex
X-PUBLISHED-TTL:PT1H
BEGIN:VTIMEZONE
TZID:UTC
BEGIN:STANDARD
TZOFFSETFROM:+0000
TZOFFSETTO:+0000
TZNAME:UTC
DTSTART:20250101T000000
END:STANDARD
END:VTIMEZONE
BEGIN:VEVENT
DTSTART;TZID=UTC:20260627T090000
DTEND;TZID=UTC:20260628T235959
DTSTAMP:20260422T163350
CREATED:20251109T203622Z
LAST-MODIFIED:20251109T203622Z
UID:26024-1782550800-1782691199@modex2026.com
SUMMARY:LAKESHORE ART FESTIVAL IN MUSKEGON 2026
DESCRIPTION:LAKESHORE ART FESTIVAL IN MUSKEGON 2026 — Exhibitor Guide & Premium Booth Rentals\nAbout Lakeshore Art Festival in Muskegon 2026\nLAKESHORE ART FESTIVAL IN MUSKEGON 2026 booth rental offers a fantastic opportunity to showcase your talents in the vibrant Downtown Muskegon. This festival celebrates fine art\, handcrafted goods\, music\, and food\, making it a must-attend event for enthusiasts of all things creative. Exhibitors will benefit from engaging an audience that appreciates unique artistic expressions. \nKey Details:\nDates: Jun 30 – Jul 2\, 2026\nLocation: Muskegon\, MI\nAddress: USA\nEvent website: Lakeshore Art Festival \nIndustries & Audience: Handicraft Products\, Collectors – Hobby\, Decoration\, Home & Office Design\, Furniture\, Lighting\, Art and Antiques. \nVenue & Location\nThe Lakeshore Art Festival will take place at Muskegon\, MI\, USA. This central venue offers easy accessibility and logistical support for moving in and out during the event. Although no phone number is provided\, attendees will find the location accommodating for set up. \nMuskegon\, MI: Our Services\nWe DESIGN\, PRODUCE\, INSTALL & DISMANTLE turnkey booth rentals in Muskegon\, MI. We provide a range of services including concept development\, modular frame setups\, branded SEG graphics\, reception areas\, storage solutions\, and TV mounting services to ensure your booth stands out. \nCustom Booth Models\nWe offer Snap Exhibitions Custom Booth Models that accommodate various footprints like 10×10\, 10×20\, and 20×20\, ideal for attracting visitors interested in our listed categories. Explore our full-service exhibit support for all your exhibition needs\, and contact our team today to start planning your ideal booth. \nFAQ\nWhat is the Lakeshore Art Festival in Muskegon 2026 booth rental?\nIt’s a rental option that allows exhibitors to showcase their unique creations at a vibrant festival. \nWhat are the dates and hours for the event?\nThe event will be held from Jun 30 to Jul 2\, 2026. \nWhat booth sizes are recommended for the handicraft products sector?\nBooths in the 10×10 and 10×20 sizes tend to be popular among exhibitors showcasing handicraft products. \nWhy is an aluminum booth better than wood?\nAluminum booths are generally lighter\, offer better durability\, and allow for more sophisticated design options compared to wood. \nWhat can I expect from the Lakeshore Art Festival in Muskegon?\nExpect a vibrant atmosphere with a blend of fine arts\, food\, and community engagement. \nHow can SNAP EXHIBITIONS help ensure my booth is perfect?\nWe specialize in turnkey solutions\, managing every detail from design to installation\, so you can focus on your exhibition goals. \nIn summary\, LAKESHORE ART FESTIVAL IN MUSKEGON 2026 booth rental is your chance to shine in a vibrant artistic environment. Don’t hesitate—contact us today to secure your booth space and be part of this exciting festival!
URL:https://modex2026.com/event/lakeshore-art-festival-in-muskegon-2026/
CATEGORIES:Art and Antiques,Collectors - Hobby,Decoration,Furniture,Handicraft Products,Home & Office Design,Lighting
END:VEVENT
END:VCALENDAR