BEGIN:VCALENDAR
VERSION:2.0
PRODID:-//MODEX 2026 Atlanta — Local Booth Builder &amp; Rentals - ECPv6.15.13.1//NONSGML v1.0//EN
CALSCALE:GREGORIAN
METHOD:PUBLISH
X-WR-CALNAME:MODEX 2026 Atlanta — Local Booth Builder &amp; Rentals
X-ORIGINAL-URL:https://modex2026.com
X-WR-CALDESC:Events for MODEX 2026 Atlanta — Local Booth Builder &amp; Rentals
REFRESH-INTERVAL;VALUE=DURATION:PT1H
X-Robots-Tag:noindex
X-PUBLISHED-TTL:PT1H
BEGIN:VTIMEZONE
TZID:UTC
BEGIN:STANDARD
TZOFFSETFROM:+0000
TZOFFSETTO:+0000
TZNAME:UTC
DTSTART:20250101T000000
END:STANDARD
END:VTIMEZONE
BEGIN:VEVENT
DTSTART;TZID=UTC:20260729T090000
DTEND;TZID=UTC:20260730T235959
DTSTAMP:20260422T163135
CREATED:20251105T061639Z
LAST-MODIFIED:20251105T061639Z
UID:25752-1785315600-1785455999@modex2026.com
SUMMARY:REFRI AMERICAS 2026
DESCRIPTION:REFRI AMERICAS 2026 booth rental — Essential Guide & Custom Booth Options\nAbout REFRI AMERICAS 2026\nREFRI AMERICAS 2026 booth rental is your gateway to the vibrant Caribbean and Latin American refrigeration and air conditioning industry. This expo provides exhibitors with a unique platform to connect with thousands of industry professionals and showcase their innovations. Visitors can expect to gain valuable insights into the latest technology\, products\, and services available in this evolving market. \nKey Details: \nDates: Jun 27–29\, 9:00 AM–5:00 PM\nLocation: Greater Ft. Lauderdale – Broward County Convention Center\nAddress: 1950 Eisenhower Blvd. Fort Lauderdale 33316\, USA\nFor more details\, visit the official event page. \nIndustries & Audience: **Heating – Air Conditioning\, Building & Construction\, Retail & Shop Fitting Equipment & Service\, Home Show\, Catering & Hospitality Industries**. \nVenue & Location\nThe event will take place at the Greater Ft. Lauderdale – Broward County Convention Center\, located at 1950 Eisenhower Blvd\, Fort Lauderdale\, USA. This venue offers excellent access for exhibitors\, featuring ample space for setup and logistics. Central access points ensure smooth move-in and move-out processes. \nFort Lauderdale: Our Services\nWe DESIGN\, PRODUCE\, INSTALL & DISMANTLE turnkey **booth rentals** in Fort Lauderdale. Our comprehensive solutions include concept/design\, modular frames\, vibrant branded SEG graphics\, reception/storage areas\, TV mounts\, and on-site installation and dismantling services. \nCustom Booth Models\nWe specialize in multiple booth footprints that cater to various exhibitors. Some of our popular options include: \n\n10×10: Ideal for individual brands and smaller displays\, perfect for maximizing exposure.\n10×20: A balanced option\, providing enough space for key products while remaining approachable.\n20×20: Spacious and impressive\, great for larger companies to showcase multiple product lines and engage more extensively with visitors.\n\nFor images and examples\, check out our Snap Exhibitions Custom Booth Models. We also offer full-service exhibit support and invite you to contact our team for personalized solutions. \nFAQ\n\nWhat can I expect from the REFRI AMERICAS 2026 booth rental?Our booth rental provides vibrant\, engaging displays tailored to showcase your products effectively.\nWhat are the hours for REFRI AMERICAS 2026?The event runs from June 27–29\, 9:00 AM to 5:00 PM each day.\nWhat booth sizes do you recommend for the Heating – Air Conditioning industry?A 10×20 booth allows for ample interaction space while showcasing key offerings effectively. The 20×20 option is fantastic for larger displays.\nWhy is an aluminum booth better than wood?Aluminum is lighter\, more durable\, and offers a sleek modern appearance\, attracting more visitors.\nWhat makes Fort Lauderdale a prime location for exhibitions?Fort Lauderdale’s strategic location and excellent facilities make it a desirable hub for many industries\, including HVAC and construction.\nWhat is REFRI AMERICAS 2026 about?This expo focuses on innovations in Caribbean and Latin American refrigeration and air conditioning sectors.\nHow can SNAP EXHIBITIONS help make everything perfect about my booth?We provide comprehensive support from design to execution\, ensuring that your booth stands out and functions seamlessly.\n\nIn conclusion\, strategies like the REFRI AMERICAS 2026 booth rental will elevate your presence at this essential industry event. For more information on our offerings\, visit Snap Exhibitions and let’s create impactful experiences together!
URL:https://modex2026.com/event/refri-americas-2026/
CATEGORIES:Building & Construction,Catering & Hospitality Industries,Heating - Air Conditioning,Home Show,Retail & Shop Fitting Equipment & Service
END:VEVENT
END:VCALENDAR