BEGIN:VCALENDAR
VERSION:2.0
PRODID:-//MODEX 2026 Atlanta — Local Booth Builder &amp; Rentals - ECPv6.15.20//NONSGML v1.0//EN
CALSCALE:GREGORIAN
METHOD:PUBLISH
X-ORIGINAL-URL:https://modex2026.com
X-WR-CALDESC:Events for MODEX 2026 Atlanta — Local Booth Builder &amp; Rentals
REFRESH-INTERVAL;VALUE=DURATION:PT1H
X-Robots-Tag:noindex
X-PUBLISHED-TTL:PT1H
BEGIN:VTIMEZONE
TZID:UTC
BEGIN:STANDARD
TZOFFSETFROM:+0000
TZOFFSETTO:+0000
TZNAME:UTC
DTSTART:20260101T000000
END:STANDARD
END:VTIMEZONE
BEGIN:VEVENT
DTSTART;TZID=UTC:20270315T090000
DTEND;TZID=UTC:20270317T235959
DTSTAMP:20260425T141646
CREATED:20251110T041640Z
LAST-MODIFIED:20251110T041640Z
UID:26057-1805101200-1805327999@modex2026.com
SUMMARY:WORLD OF ASPHALT
DESCRIPTION:WORLD OF ASPHALT booth rental — Exhibitor Guide & Custom Booth Options\nAbout WORLD OF ASPHALT\nVenue & Location\nNew Orleans LA: Our Services\nCustom Booth Models\nFAQ\nAbout WORLD OF ASPHALT\nWORLD OF ASPHALT booth rental is essential for exhibitors looking to make a significant impact at this premier international expo. This event caters to the Asphalt\, Highway Maintenance & Traffic Safety Industries\, providing a dynamic platform to showcase the latest innovations and technological advancements. Attendees benefit from rich educational programming and unique networking opportunities\, all while experiencing the best in asphalt-related equipment and services. Expect a gathering of industry leaders\, making it a must-attend event for professionals in this sector. \nKey Details:May 5–7\, 2022\, 9:00 AM–5:00 PMNew Orleans\, LA\, USA \nIndustries & Audience: Roads\, Bridges & Tunnels\, Urban Equipment & Engineering\, Security – Risk Management \nVenue & Location\nThe conference will be taking place in New Orleans\, LA\, USA. This venue is equipped with ample logistics\, allowing smooth move-in and access for exhibitors. For any inquiries\, feel free to reach out via the contact number listed. \nNew Orleans LA: Our Services\nAt Snap Exhibitions\, we DESIGN\, PRODUCE\, INSTALL & DISMANTLE turnkey booth rentals in New Orleans. Our services cater specifically to exhibitors at events like WORLD OF ASPHALT\, providing comprehensive support from concept to execution. We offer: \n\nCustom concept/design\nModular frames\nBranded SEG graphics\nReception and storage areas\nTV mounts\nOn-site installation and dismantling\n\nCustom Booth Models\nPopular booth footprints we offer include: \n\n10×10: Ideal for smaller displays and first-time exhibitors\, allowing flexibility and visibility.\n10×20: A great option for companies looking to stand out with more space for showcasing products.\n20×20: Perfect for major brands aiming for a significant presence in areas rich with visitors.\n\nVisit our Snap Exhibitions Custom Booth Models page for more details. \nOur full-service exhibit support ensures that your booth meets your expectations and attracts the right audience at this pivotal industry event. For further assistance\, contact our team to make everything perfect about your booth! \nFAQ\n\nWhat is WORLD OF ASPHALT booth rental?\nWORLD OF ASPHALT booth rental is a service that provides exhibitors with customized booth solutions for significant industry expos.\nWhen is the WORLD OF ASPHALT event?\nThe event runs from May 5 to May 7\, 2022\, from 9:00 AM to 5:00 PM.\nWhat booth sizes are recommended for the Roads and Bridges sector?\nFor Roads and Bridges\, both 10×20 and 20×20 booths are ideal\, as they allow ample display space for interactive demonstrations.\nWhy is an aluminum booth better than wood?\nAluminum booths are lighter\, more durable\, and easier to transport\, making them a preferred choice for portable setups.\nWhat can I expect from the WORLD OF ASPHALT?\nExpect networking opportunities with industry leaders\, educational sessions\, and a showcase of the latest innovations in asphalt technology.\nHow can SNAP EXHIBITIONS help make everything perfect about my booth?\nWe offer comprehensive turnkey booth rental solutions\, taking care of design\, production\, installation\, and dismantling to ensure a seamless experience.\n\nFor your upcoming event: WORLD OF ASPHALT booth rental is the ultimate solution to ensure your presence stands out. Don’t miss the chance to make your exhibition experience seamless and impactful—contact our team today!
URL:https://modex2026.com/event/world-of-asphalt/
CATEGORIES:Bridges & Tunnels,Roads,Security - Risk Management,Urban Equipment & Engineering
END:VEVENT
END:VCALENDAR