BEGIN:VCALENDAR
VERSION:2.0
PRODID:-//MODEX 2026 Atlanta — Local Booth Builder &amp; Rentals - ECPv6.15.13.1//NONSGML v1.0//EN
CALSCALE:GREGORIAN
METHOD:PUBLISH
X-WR-CALNAME:MODEX 2026 Atlanta — Local Booth Builder &amp; Rentals
X-ORIGINAL-URL:https://modex2026.com
X-WR-CALDESC:Events for MODEX 2026 Atlanta — Local Booth Builder &amp; Rentals
REFRESH-INTERVAL;VALUE=DURATION:PT1H
X-Robots-Tag:noindex
X-PUBLISHED-TTL:PT1H
BEGIN:VTIMEZONE
TZID:UTC
BEGIN:STANDARD
TZOFFSETFROM:+0000
TZOFFSETTO:+0000
TZNAME:UTC
DTSTART:20250101T000000
END:STANDARD
END:VTIMEZONE
BEGIN:VEVENT
DTSTART;TZID=UTC:20260310T090000
DTEND;TZID=UTC:20260313T235959
DTSTAMP:20260423T064235
CREATED:20251106T104918Z
LAST-MODIFIED:20251106T104918Z
UID:25790-1773133200-1773446399@modex2026.com
SUMMARY:THE WORK TRUCK SHOW 2026
DESCRIPTION:THE WORK TRUCK SHOW 2026 booth rental — Premium Options\nAbout THE WORK TRUCK SHOW 2026\nVenue & Location\nIndianapolis IN: Our Services\nCustom Booth Models\nFAQ\nTHE WORK TRUCK SHOW 2026 — Exhibitor Guide & Custom Booth Options\nWelcome to THE WORK TRUCK SHOW 2026 booth rental! This premier event is dedicated to professionals in the trucking industry\, showcasing the latest products and innovations in commercial vehicles and equipment. For over two decades\, attendees have gathered here to share insights and explore advancements that enhance efficiency in logistics and vehicle design. \nJoin us at the Indiana Convention Center from 2026-11-01 to 2026-11-03\, where you can connect with industry leaders and discover cutting-edge technologies. Key Details: November 1-3\, 9:00 AM–5:00 PM\, Indiana Convention Center\, 100 S Capitol Ave. Indianapolis\, IN 46225\, USA. \nIndustries & Audience: Trucks and Utility Vehicles\, Logistics & Transportation Engineering\, Automotive Engineering\, Workshop & Service Station Equipment. \nVenue & Location\nThe venue for THE WORK TRUCK SHOW 2026 is the Indiana Convention Center\, located at 100 S Capitol Ave\, Indianapolis\, IN 46225\, USA. This centrally located venue offers convenient access for all exhibitors. Logistics such as move-in windows and dock access are optimized for a seamless setup experience. If you require assistance\, please feel free to reach out to us. \nIndianapolis IN: Our Services\nIn Indianapolis IN\, we DESIGN\, PRODUCE\, INSTALL & DISMANTLE turnkey booth rentals. Our services encompass every aspect of your booth\, from concept and design to modular frames\, branded SEG graphics\, and on-site installation. We ensure your booth effectively represents your brand and captures the attention of potential clients. \nCustom Booth Models\nWe offer a variety of booth sizes to cater to different exhibitors’ needs. Popular options include: \n\n10×10 booths: Ideal for startups showcasing innovative products.\n10×20 booths: Perfect for medium-sized companies that want to make a bold statement.\n20×20 booths: Best suited for larger exhibitors who aim to draw significant crowds.\n\nWe encourage you to check our Snap Exhibitions Custom Booth Models to meet your goals effectively\, complemented by our full-service exhibit support. \nFAQ\nWhat options are available for THE WORK TRUCK SHOW 2026 booth rental?\nOur exhibition booths range from basic to fully customized designs to suit your needs at THE WORK TRUCK SHOW 2026 booth rental. \nWhen are the event hours for THE WORK TRUCK SHOW 2026?\nThe event will take place from November 1 to November 3\, 2026\, between 9:00 AM and 5:00 PM each day. \nWhat are the recommended booth sizes for exhibitors in the automotive engineering sector?\nA 10×20 or 20×20 booth is recommended for brands in automotive engineering to effectively showcase their products and services. \nWhy is an aluminum booth better than a wood booth?\nAluminum booths offer greater durability and a modern aesthetic\, making them ideal for high-traffic events. \nWhat can I expect at THE WORK TRUCK SHOW in Indianapolis?\nExpect an engaging environment with key insights into the latest industry products\, networking\, and educational opportunities. \nHow can SNAP EXHIBITIONS help me make everything perfect about my booth?\nWe provide end-to-end solutions\, ensuring your exhibition space stands out through design\, quality\, and seamless execution. \nFor an exceptional experience at THE WORK TRUCK SHOW 2026 booth rental\, please contact our team to get started today!
URL:https://modex2026.com/event/the-work-truck-show-2026/
CATEGORIES:Automotive Engineering - Systems & Components,Logistics & Transportation Engineering - Handling Operations - Storage,Trucks and Utility Vehicles,Workshop & Service Station Equipment
END:VEVENT
END:VCALENDAR