BEGIN:VCALENDAR
VERSION:2.0
PRODID:-//MODEX 2026 Atlanta — Local Booth Builder &amp; Rentals - ECPv6.15.13.1//NONSGML v1.0//EN
CALSCALE:GREGORIAN
METHOD:PUBLISH
X-WR-CALNAME:MODEX 2026 Atlanta — Local Booth Builder &amp; Rentals
X-ORIGINAL-URL:https://modex2026.com
X-WR-CALDESC:Events for MODEX 2026 Atlanta — Local Booth Builder &amp; Rentals
REFRESH-INTERVAL;VALUE=DURATION:PT1H
X-Robots-Tag:noindex
X-PUBLISHED-TTL:PT1H
BEGIN:VTIMEZONE
TZID:UTC
BEGIN:STANDARD
TZOFFSETFROM:+0000
TZOFFSETTO:+0000
TZNAME:UTC
DTSTART:20240101T000000
END:STANDARD
END:VTIMEZONE
BEGIN:VEVENT
DTSTART;TZID=UTC:20250919T090000
DTEND;TZID=UTC:20250921T235959
DTSTAMP:20260422T163725
CREATED:20251106T105445Z
LAST-MODIFIED:20251106T105445Z
UID:25802-1758272400-1758499199@modex2026.com
SUMMARY:INDIANAPOLIS FALL BOAT & RV SHOW 2025
DESCRIPTION:INDIANAPOLIS FALL BOAT & RV SHOW 2025 booth rental — Ultimate Exhibitor Guide\n#show\n#venue\n#city-services\n#booth-models\n#faq\nINDIANAPOLIS FALL BOAT & RV SHOW 2025 — Exhibitor Guide & Custom Booth Options\nINDIANAPOLIS FALL BOAT & RV SHOW 2025 booth rental offers a golden opportunity for exhibitors to showcase their products effectively. From the latest boat models to versatile RVs\, this annual event draws together enthusiasts and consumers interested in finding the best in the boating and RV sector. Visitors will gain exclusive access to test out and purchase a wide selection of both new and used boats and RVs\, all at unbeatable prices. \nKey Details:Dates: May 11–14\, 2025 (10:00 AM–8:00 PM)Location: Indiana State Fairgrounds\, 1202 E. 38th Street\, Indianapolis\, IN 46205\, United StatesEvent Website \nIndustries & Audience: Sports\, Boating\, Sailing & Water Sports\, Tourism – Travel\, General Automobile. \nVenue & Location\nThe event will be held at the Indiana State Fairgrounds\, located at 1202 E. 38th Street\, Indianapolis\, IN 46205\, United States. This venue offers convenient access and ample logistics for move-in and dock access for exhibitors. Although specifics are not available\, it is designed to support a seamless experience for all attendees. \nINDIANAPOLIS: Our Services\nIn Indianapolis\, we DESIGN\, PRODUCE\, INSTALL & DISMANTLE turnkey booth rentals. Our approach includes concept/design\, modular frames\, branded SEG graphics\, reception/storage solutions\, TV mounts\, and on-site installation & dismantling. We ensure that your exhibit stands out while meeting all your practical needs during the exhibition. \nCustom Booth Models\nWe offer a range of popular footprints such as 10×10\, 10×20\, and even 20×20 booths to maximize your exposure at the event. These configurations cater perfectly to attendees in the sports and tourism sectors. You can explore our Snap Exhibitions Custom Booth Models or reach out for full-service exhibit support. \nFAQ\nQ: What is INDY FALL BOAT & RV SHOW 2025 booth rental?A: INDY FALL BOAT & RV SHOW 2025 booth rental gives exhibitors a chance to showcase products to thousands of potential customers.  \nQ: What are the event hours for the INDY FALL BOAT & RV SHOW 2025?A: The event runs from May 11–14\, 2025\, opening at 10:00 AM and closing at 8:00 PM. \nQ: What booth sizes do you recommend for the Sports and Tourism sectors?A: A 10×20 booth is often ideal for maximum visibility and interaction\, while a 20×20 booth can allow for more elaborate displays. \nQ: Why is an aluminum booth better than wood?A: Aluminum is lighter\, more durable\, and provides better adaptability for modular designs\, enhancing the overall longevity of your setup. \nQ: What services does the INDY FALL BOAT & RV SHOW 2025 offer to exhibitors in Indianapolis?A: The event showcases the latest in boating and RV\, providing an excellent platform for networking and sales. \nQ: How can SNAP EXHIBITIONS help with my booth to ensure everything is perfect?A: We manage everything from design to installation\, ensuring a hassle-free experience for exhibitors. \nTo take advantage of an exciting opportunity at the INDIANAPOLIS FALL BOAT & RV SHOW 2025 booth rental\, we encourage you to contact our team today!
URL:https://modex2026.com/event/indianapolis-fall-boat-rv-show-2025/
CATEGORIES:Boating,General Automobile,Sailing & Water Sports,Sports,Tourism - Travel
END:VEVENT
BEGIN:VEVENT
DTSTART;TZID=UTC:20250918T090000
DTEND;TZID=UTC:20250921T235959
DTSTAMP:20260422T163725
CREATED:20251110T041951Z
LAST-MODIFIED:20251110T041951Z
UID:26065-1758186000-1758499199@modex2026.com
SUMMARY:NORWALK BOAT SHOW 2025
DESCRIPTION:NORWALK BOAT SHOW 2025 booth rental — Ultimate Exhibitor Guide & Custom Booth Options\nAbout NORWALK BOAT SHOW 2025\nVenue & Location\nNorwalk CT: Our Services\nCustom Booth Models\nFAQ\nNORWALK BOAT SHOW 2025 — Explore Boating & Family Fun\nNORWALK BOAT SHOW 2025 booth rental is the perfect opportunity to showcase your offerings at this fantastic event\, attracting enthusiasts from various sectors. Hosted at Norwalk Cove Marina from May 10–12\, 9:00 AM–5:00 PM\, this trade show brings together boating\, sailing & water sports\, sports\, family activities\, and more. Attendees will engage in on-the-water demos\, participate in clinics\, and enjoy entertaining activities tailored for all ages. Discover the insights and experiences that make this event a must-attend. \nKey Details:\nMay 10–12\, 9:00 AM–5:00 PM\nNorwalk Cove Marina\n48 Calf Pasture Beach Road\, Norwalk\, CT\, USA\nMore info: boatshownorwalk.com \nVenue & Location\nJoin us at Norwalk Cove Marina located at 48 Calf Pasture Beach Road\, Norwalk\, CT\, USA. This venue offers excellent logistical support for exhibitors\, including multiple docks for easy access. Enjoy a prime location to connect with potential clients. \nNorwalk CT: Our Services\nIn Norwalk CT\, we DESIGN\, PRODUCE\, INSTALL & DISMANTLE turnkey booth rentals. We offer comprehensive services including conceptual design\, modular frames\, branded SEG graphics\, reception/storage areas\, TV mounts\, and on-site installation and dismantling. Let us help you make your presence unforgettable at the NORWALK BOAT SHOW 2025. \nCustom Booth Models\nDiscover our popular booth sizes that cater to the various needs of exhibitors: 10×10\, 10×20\, and 20×20. The 10×10 model is perfect for startups looking to make a strong first impression\, while the 20×20 option provides ample space for larger inventories and exhibits. Check out our Snap Exhibitions Custom Booth Models for more ideas. We ensure your setup is tailored to enhance visitor engagement in the boating and family recreation sectors. \nFor further assistance\, our full-service exhibit support covers everything needed for a seamless exhibit experience. Don’t hesitate to contact our team for personalized service. \nFAQ\n1. What is the NORWALK BOAT SHOW 2025 booth rental experience like?\nExperience a vibrant atmosphere filled with opportunities to engage with boating enthusiasts and families. Our team ensures your rental booth is both appealing and functional. \n2. What are the hours and dates for the event?\nThe NORWALK BOAT SHOW 2025 runs from May 10 to May 12\, 9:00 AM to 5:00 PM. \n3. What booth sizes do you recommend for the boating category?\nWe recommend a 10×20 or 20×20 booth for showcasing multiple boats or activities effectively as they offer more space for engaging presentations. \n4. Why is an aluminum booth better than wood?\nAluminum booths are more durable\, lightweight\, and easy to transport compared to wooden exhibits\, making them a preferred choice for many exhibitors.\n5. What can I expect from Norwalk as a host city for my booth?\nNorwalk is a vibrant city with a rich maritime history\, offering engaging activities and local attractions for visitors beyond the trade show. \n6. How can SNAP EXHIBITIONS help me create the perfect booth?\nWe specialize in providing personalized turnkey solutions tailored to your needs from design to execution\, ensuring your booth stands out. \nWith NORWALK BOAT SHOW 2025 booth rental\, we invite you to transform your exhibit experience. Visit us at contact our team to get started!
URL:https://modex2026.com/event/norwalk-boat-show-2025/
CATEGORIES:Boating,Family - Childs & Adolescents,Sailing & Water Sports,Sports,Tourism - Travel
END:VEVENT
BEGIN:VEVENT
DTSTART;TZID=UTC:20250911T090000
DTEND;TZID=UTC:20250914T235959
DTSTAMP:20260422T163725
CREATED:20251110T041808Z
LAST-MODIFIED:20251110T041808Z
UID:26061-1757581200-1757894399@modex2026.com
SUMMARY:NEWPORT BOAT SHOW 2025
DESCRIPTION:NEWPORT BOAT SHOW 2025 — Exhibitor Guide & Ultimate Options\nAbout NEWPORT BOAT SHOW 2025\nNEWPORT BOAT SHOW 2025 booth rental is an excellent opportunity for exhibitors interested in reaching a vibrant audience in the boating\, sailing\, and water sports sectors. This event showcases a vast range of powerboats and sailboats\, offering a comprehensive platform for exhibitors to connect with potential clients. Experience everything the City-by-the-Sea has to offer while gaining exposure through this premier event. \nKey Details: Sep 11–14\, 2025\, Newport Harbor\, Newport\, RI\, United States. For more information\, visit the event website. \nIndustries & Audience: Boating\, Sailing & Water Sports\, Sports. \nVenue & Location\nThe event will take place at Newport Harbor\, located at Newport\, RI\, United States. Central access and an inviting atmosphere make it a prime location for showcasing innovative marine products and engaging with visitors. \nNewport\, RI: Our Services\nIn Newport\, RI\, we DESIGN\, PRODUCE\, INSTALL & DISMANTLE turnkey booth rentals. Our scope includes concept/design\, modular frames\, branded SEG graphics\, reception/storage\, TV mounts\, and comprehensive on-site installation and dismantling services. \nCustom Booth Models\nWe offer various popular footprints including 10×10\, 10×20\, and 20×20 booth rentals tailored to fit exhibitors from the boating sector. These configurations allow ample space to display products while ensuring high visibility among visitors. Visit Snap Exhibitions Custom Booth Models for more details on our designs. For a complete range of support\, view our full-service exhibit support options. Don’t forget to contact our team to discuss your needs! \nFAQ\nWhat is the NEWPORT BOAT SHOW 2025 booth rental?A rental option offering exhibitors a vetted space to showcase their marine products\, maximizing exposure to a targeted audience. \nWhat are the event hours for the NEWPORT BOAT SHOW 2025?The event runs from September 11 to 14\, 2025. \nWhat booth sizes do you recommend for boating sectors?A booth size of 10×20 is often ideal as it provides enough space to display multiple products while maintaining a manageable footprint. \nWhy is an aluminum booth better than wood?Aluminum booths are lighter\, more durable\, and easier to transport\, offering a modern look that attracts visitors. \nHow can I find services in Newport\, RI?We provide a full range of turnkey booth rentals designed for exhibitors\, ensuring you will have what you need for success. \nWhat should I expect at the NEWPORT BOAT SHOW 2025?Expect to see a variety of boats and engage with industry leaders who can provide valuable insights and networking opportunities. \nHow can SNAP EXHIBITIONS help create the perfect booth?We design and manage every aspect of your booth\, ensuring it stands out while fitting your vision for an impactful showcase. \nIn conclusion\, NEWPORT BOAT SHOW 2025 booth rental offers exhibitors a unique platform to connect with a passionate audience in the boating and water sports industries. If you’re interested in making the most of this opportunity\, we encourage you to contact our team for comprehensive support and seamless execution.
URL:https://modex2026.com/event/newport-boat-show-2025/
CATEGORIES:Boating,Sailing & Water Sports,Sports
END:VEVENT
BEGIN:VEVENT
DTSTART;TZID=UTC:20250904T090000
DTEND;TZID=UTC:20250907T235959
DTSTAMP:20260422T163725
CREATED:20251105T045153Z
LAST-MODIFIED:20251105T045153Z
UID:25717-1756976400-1757289599@modex2026.com
SUMMARY:ATLANTIC CITY IN-WATER POWER BOAT SHOW 2025
DESCRIPTION:ATLANTIC CITY IN-WATER POWER BOAT SHOW 2025 Booth Rental — Ultimate Guide\nShow Details\nWelcome to the ATLANTIC CITY IN-WATER POWER BOAT SHOW 2025! This premier event is a must-attend for enthusiasts of boating\, sailing and water sports\, and fishing. Visitors will experience a wide range of exhibits showcasing sport cruisers\, express yachts\, marine electronics\, fishing supplies\, and more. \nKey Details:\nDates: May 5–7\, 2025\, 10:00 AM–6:00 PM\nLocation: Frank S. Farley State Marina\, 600 Huron Ave. Atlantic City\, NJ 08401\, United States\nFor more information\, visit the event website. \nIndustries & Audience: Boating\, Sailing & Water Sports\, Sports\, Hunting & Fishing. \nVenue & Location\nThe Frank S. Farley State Marina is situated at 600 Huron Ave. Atlantic City\, NJ 08401\, United States. This location offers excellent logistics for exhibitors\, including easy access for installation and dismantling. \nAtlantic City NJ: Our Services\nIn Atlantic City NJ\, we DESIGN\, PRODUCE\, INSTALL & DISMANTLE turnkey booth rentals. We specialize in a scope that includes concept designs\, modular frames\, branded graphics\, reception areas\, storage solutions\, TV mounts\, and more\, tailored specifically for this city. \nCustom Booth Models\nWe offer a variety of popular footprints in booth rentals\, such as:\n– **10×10 units**: Ideal for smaller showcases\, great for fishing supplies and marine electronics.\n– **10×20 setups**: Perfect for sport fishing and cruising enthusiasts\, giving ample space to display multiple products.\n– **20×20 configurations**: Optimal for larger exhibits\, particularly for showcasing multiple yacht models and marine equipment. \nFor more information\, check our Snap Exhibitions Custom Booth Models\, or contact our full-service exhibit support team. \nFAQ\nQ1: What is the ATLANTIC CITY IN-WATER POWER BOAT SHOW 2025 booth rental?\nA: The ATLANTIC CITY IN-WATER POWER BOAT SHOW 2025 booth rental offers exhibitors a high-quality space to showcase their marine products and services in a vibrant environment. \nQ2: What are the event hours for ATLANTIC CITY IN-WATER POWER BOAT SHOW 2025?\nA: The show will take place from May 5–7\, 2025\, from 10:00 AM to 6:00 PM each day. \nQ3: What booth sizes are recommended for the Boating & Water Sports category?\nA: For this category\, popular booth sizes include 10×10\, 10×20\, and 20×20 depending on the extent of exhibit needs. \nQ4: Why is an aluminum booth better than a wood one?\nA: Aluminum booths are lighter\, more durable\, and easier to set up\, making them a preferred option for many exhibitors. \nQ5: What amenities can I find at Frank S. Farley State Marina?\nA: The marina offers essential services such as fuel\, docking facilities\, and access to various marine product displays. \nQ6: How can Snap Exhibitions help make everything perfect for my booth?\nA: We manage the entire booth rental process\, from design to installation\, ensuring your display meets all your needs seamlessly. \nIn summary\, the ATLANTIC CITY IN-WATER POWER BOAT SHOW 2025 booth rental is the ultimate avenue for connecting with your target audience. To create a memorable and engaging exhibit\, contact our team today!
URL:https://modex2026.com/event/atlantic-city-in-water-power-boat-show-2025/
CATEGORIES:Boating,Hunting & Fishing,Sailing & Water Sports,Sports
END:VEVENT
END:VCALENDAR