BEGIN:VCALENDAR
VERSION:2.0
PRODID:-//MODEX 2026 Atlanta — Local Booth Builder &amp; Rentals - ECPv6.15.13.1//NONSGML v1.0//EN
CALSCALE:GREGORIAN
METHOD:PUBLISH
X-WR-CALNAME:MODEX 2026 Atlanta — Local Booth Builder &amp; Rentals
X-ORIGINAL-URL:https://modex2026.com
X-WR-CALDESC:Events for MODEX 2026 Atlanta — Local Booth Builder &amp; Rentals
REFRESH-INTERVAL;VALUE=DURATION:PT1H
X-Robots-Tag:noindex
X-PUBLISHED-TTL:PT1H
BEGIN:VTIMEZONE
TZID:UTC
BEGIN:STANDARD
TZOFFSETFROM:+0000
TZOFFSETTO:+0000
TZNAME:UTC
DTSTART:20240101T000000
END:STANDARD
END:VTIMEZONE
BEGIN:VEVENT
DTSTART;TZID=UTC:20260201T090000
DTEND;TZID=UTC:20260203T235959
DTSTAMP:20260422T101052
CREATED:20251106T111307Z
LAST-MODIFIED:20251106T111307Z
UID:25839-1769936400-1770163199@modex2026.com
SUMMARY:NY NOW 2025
DESCRIPTION:NY NOW 2025 Booth Rental — Exhibitor Guide & Ultimate Options\nAbout NY NOW 2025\nVenue & Location\nNew York NY: Our Services\nCustom Booth Models\nFAQ\nAbout NY NOW 2025\nNY NOW 2025 booth rental offers an unbeatable opportunity for exhibitors in the Decoration\, Home & Office Design\, and related sectors. This premier multi-day wholesale event unites thousands of established and emerging brands\, allowing them to showcase their newest collections to esteemed buyers from across the globe. By participating\, exhibitors will connect directly with a diverse audience eager for innovation and quality. \nKey Details:Feb 4–7\, 2025\, 9:00 AM–6:00 PMJacob K. Javits Convention Center655 West 34th Street\, New York\, NY 10001-1188\, USALearn more about the event here. \nIndustries & Audience: Decoration\, Home & Office Design\, Furniture\, Lighting\, Household Appliances\, Consumer Electronics\, Gifts & Souvenirs\, Toys & Games\, Textiles. \nVenue & Location\nThe NY NOW 2025 will be held at the Jacob K. Javits Convention Center\, located at 655 West 34th Street\, New York\, NY\, a premier venue that offers excellent logistics for exhibitors. This facility ensures easy access for move-in and dock access\, making it convenient for setup and logistics. \nNew York NY: Our Services\nWe DESIGN\, PRODUCE\, INSTALL & DISMANTLE turnkey booth rentals in New York\, NY. Our services include concept and design development\, modular frames\, branded SEG graphics\, reception/storage areas\, TV mounts\, and on-site installation and dismantling. \nCustom Booth Models\nDiscover our Snap Exhibitions Custom Booth Models\, which can be tailored to fit your unique needs. Popular footprints like 10×10\, 10×20\, and 20×20 are perfect for the diverse sectors represented at NY NOW 2025\, providing ample space for interaction and display while ensuring an engaging experience for attendees. Our full-service exhibit support guarantees that your booth is not only visually appealing but also fully functional. \nFAQ\nQ: What is NY NOW 2025 booth rental?A: NY NOW 2025 booth rental refers to the turnkey booth solutions we provide for exhibitors participating in the event. \nQ: When is NY NOW 2025?A: The event runs from February 4 to 7\, 2025\, from 9:00 AM to 6:00 PM each day. \nQ: What booth sizes do you recommend for the Decoration sector?A: For the Decoration sector\, we recommend 10×10 for startups and 20×20 for established brands seeking more visibility. \nQ: Why is an aluminum booth better than wood?A: Aluminum booths are lighter\, easier to set up\, and more durable than wooden ones\, making them a smart choice for trade shows. \nQ: What makes New York an ideal venue for trade shows?A: New York City attracts global buyers and offers a vibrant marketplace\, making it an ideal venue for showcasing products. \nQ: How can SNAP EXHIBITIONS help me make everything perfect for my booth?A: We manage all aspects from design to installation\, ensuring a seamless booth experience tailored to your needs. \nIn conclusion\, NY NOW 2025 booth rental provides an exciting opportunity for exhibitors. We invite you to contact our team to learn more about how we can assist you in creating the perfect exhibition experience.
URL:https://modex2026.com/event/ny-now-2025/
CATEGORIES:Consumers Electronics,Decoration,Furniture,Gifts & Souvenirs,Home & Office Design,Household Appliances - Domestic Appliance Technology,Lighting,Textiles - Fabrics for Decoration,Toys & Games
END:VEVENT
BEGIN:VEVENT
DTSTART;TZID=UTC:20260106T090000
DTEND;TZID=UTC:20260109T235959
DTSTAMP:20260422T101052
CREATED:20251109T182804Z
LAST-MODIFIED:20251109T182804Z
UID:25869-1767690000-1768003199@modex2026.com
SUMMARY:INTERNATIONAL CES 2026
DESCRIPTION:INTERNATIONAL CES 2026 booth rental — Ultimate Exhibitor Guide & Custom Booth Options\nTable of Contents\n\nAbout INTERNATIONAL CES 2026\nVenue & Location\nLas Vegas NV: Our Services\nCustom Booth Models\nFAQ\n\nAbout INTERNATIONAL CES 2026\nINTERNATIONAL CES 2026 booth rental is your key to an impactful presence at the world’s greatest tradeshow for consumer technology. Taking place from Jan 5–8\, 2026\, at the Las Vegas Convention Center\, this event showcases a vast range of companies including manufacturers\, developers\, and suppliers of consumer technology hardware\, content\, technology delivery systems\, and more. Attendees will engage with the latest innovations across categories like Consumers Electronics\, Multimedia Technologies\, Sound & Image Technologies\, and more. \nKey Details: January 5–8\, 2026\, Las Vegas Convention Center\, 3150 Paradise Road\, Las Vegas\, NV 89109\, United States. \nIndustries & Audience: The event emphasizes sectors such as Consumer Electronics\, Multimedia Technologies\, Telecommunications\, and more\, providing direct interactions and engagement opportunities for exhibitors. \nVenue & Location\nLas Vegas Convention Center is the premier venue for INTERNATIONAL CES 2026. The expansive facility offers convenient logistics for exhibitors\, including mobility options for setup and quality access points. For inquiries\, you can reach out at the provided phone number. \nLas Vegas NV: Our Services\nIn this city\, we DESIGN\, PRODUCE\, INSTALL & DISMANTLE turnkey booth rentals in Las Vegas NV. Our services encompass the entire booth experience: concept and design\, modular frames\, branded SEG graphics\, as well as reception/storage solutions\, TV mounts\, and on-site installation and dismantling. \nCustom Booth Models\nWe offer a diverse range of booth footprints that cater to different exhibitor needs\, including popular options like 10×10\, 10×20\, and 20×20 models\, ensuring they resonate with attendees from sectors such as Telecommunications and Interactive Entertainment. Check out our Snap Exhibitions Custom Booth Models for more ideas on how to showcase your products effectively! \nFor complete support\, we also provide full-service exhibit support to help you navigate through design to setup seamlessly. \nFAQ\nQ: What is the schedule for INTERNATIONAL CES 2026 booth rental?A: The event will take place from January 5 to January 8\, 2026. \nQ: How can I make the most of my INTERNATIONAL CES 2026 booth rental?A: We encourage you to collaborate closely with our team to tailor the booth design\, ensuring it fits your branding and goals perfectly. Feel free to contact our team for personalized assistance! \nQ: What are the recommended booth sizes for different sectors?A: Depending on the category\, we recommend booth sizes that allow for maximum engagement. For example\, a 10×20 booth is ideal for consumer electronics brands aiming for visibility and interaction. \nQ: Why is choosing an aluminum booth better than a wooden one?A: Aluminum booths are lighter\, easier to transport\, and more modular than wooden booths. They also offer sleek aesthetics that appeal to modern audiences. \nQ: What should I know about the Las Vegas Convention Center?A: The Las Vegas Convention Center is a significant venue known for its vast space and superior facilities to accommodate large-scale exhibitions like CES. \nQ: What makes INTERNATIONAL CES 2026 significant?A: It allows exhibitors to showcase cutting-edge technologies to a global audience\, making it an unparalleled opportunity to network and promote innovations in technology. \nIn conclusion\, the INTERNATIONAL CES 2026 booth rental is your gateway to an incredible exhibitor experience. For optimal results and support in making your booth perfect\, please contact our team for assistance!
URL:https://modex2026.com/event/international-ces-2026/
CATEGORIES:Computers,Computers Networks,Consumers Electronics,Household Appliances - Domestic Appliance Technology,Internet & Intranet,Multimedia Technologies,Sound & Image Technologies,Telecommunications,Video Games - Interactive Entertainment
END:VEVENT
BEGIN:VEVENT
DTSTART;TZID=UTC:20251203T090000
DTEND;TZID=UTC:20251209T235959
DTSTAMP:20260422T101052
CREATED:20251109T183801Z
LAST-MODIFIED:20251109T183801Z
UID:25889-1764752400-1765324799@modex2026.com
SUMMARY:LIVE DESIGN INTERNATIONAL (LDI) 2025
DESCRIPTION:LIVE DESIGN INTERNATIONAL (LDI) 2025 Booth Rental — Essential Guide\nAbout LIVE DESIGN INTERNATIONAL (LDI) 2025\nLIVE DESIGN INTERNATIONAL (LDI) 2025 booth rental is your gateway to the future of live entertainment technology. Taking place from Nov 30 – Dec 3\, 2025\, this show is the premier event that connects professionals in the broadcasting\, television\, multimedia\, and consumer electronics sectors. Visitors and exhibitors alike will experience state-of-the-art gear and receive unparalleled training from industry leaders during this exciting show. \n\nKey Details:\nDate: Nov 30 – Dec 3\, 2025\, 9:00 AM – 5:00 PM\nLocation: Las Vegas Convention Center\nAddress: 3150 Paradise Road\, Las Vegas\, NV 89109\, United States\nWebsite: www.ldishow.com\n\nThe key industries represented at LDI include: Broadcasting\, Television & Entertainment\, Sound & Image Technologies\, Multimedia Technologies\, Music\, Consumers Electronics. \nVenue & Location\nThe event will be held at the Las Vegas Convention Center\, located at 3150 Paradise Road\, Las Vegas\, NV 89109\, United States. This venue provides excellent logistic access\, ensuring easy move-in and move-out for exhibitors. \nLas Vegas NV: Our Services\nIn Las Vegas\, we DESIGN\, PRODUCE\, INSTALL & DISMANTLE turnkey booth rentals. Our services encompass everything from concept and design to modular frames\, branded SEG graphics\, reception and storage solutions\, TV mounts\, and on-site installation and dismantling. Whatever your needs\, we have you covered. \nCustom Booth Models\nAt LDI 2025\, we offer a variety of popular booth footprints including: \n\n10×10 booths: Perfect for basic setups\, ideal for first-time exhibitors.\n10×20 booths: A versatile option suitable for medium-sized displays\, allowing for expanded branding opportunities.\n20×20 booths: An impressive choice for larger brands wanting to capture significant attention at the event.\n\nFor more information on specific options\, check out our Snap Exhibitions Custom Booth Models. \nWe also provide full-service exhibit support to ensure every detail of your booth is perfect. For inquiries\, please contact our team. \nFAQ\n\nWhat is the focus of LIVE DESIGN INTERNATIONAL (LDI) 2025 booth rental? Our primary focus is to provide exhibitors with a seamless experience in presenting state-of-the-art technology at the event.\nWhat are the event hours for LDI 2025? The event will take place from Nov 30 to Dec 3\, 2025\, open daily from 9:00 AM to 5:00 PM.\nWhat booth sizes are recommended for the broadcasting sector? We recommend 10×20 or larger booths for maximum impact within the broadcasting community.\nWhy is an aluminum booth better than wood? Aluminum booths are lighter\, more durable\, and easier to assemble\, providing a modern and sleek look ideal for events.\nWhat can attendees expect at LIVE DESIGN INTERNATIONAL (LDI) 2025? Attendees can expect top-notch exhibits\, insightful training sessions\, and networking opportunities with industry experts.\nHow does being in Las Vegas benefit exhibitors? Las Vegas is a major hub for events and offers a variety of attractions\, making it a prime location for networking and exposure.\nHow can SNAP EXHIBITIONS help make everything perfect about their booth? We ensure high-quality design\, manufacturing\, and support\, providing a complete turnkey solution tailored to your unique requirements.\n\nIn conclusion\, if you’re looking for LIVE DESIGN INTERNATIONAL (LDI) 2025 booth rental\, we are your best choice for high-quality\, seamless\, and impactful exhibit solutions. For more information\, contact our team to get started today!
URL:https://modex2026.com/event/live-design-international-ldi-2025/
CATEGORIES:Broadcasting,Consumers Electronics,Multimedia Technologies,Music,Sound & Image Technologies,Television & Entertainment
END:VEVENT
BEGIN:VEVENT
DTSTART;TZID=UTC:20251112T090000
DTEND;TZID=UTC:20251116T235959
DTSTAMP:20260422T101052
CREATED:20251106T105233Z
LAST-MODIFIED:20251106T105233Z
UID:25797-1762938000-1763337599@modex2026.com
SUMMARY:CHRISTMAS GIFT + HOBBY SHOW 2025
DESCRIPTION:CHRISTMAS GIFT + HOBBY SHOW 2025 booth rental — Premium Exhibitor Guide & Custom Booth Options\nAbout CHRISTMAS GIFT + HOBBY SHOW 2025\nCHRISTMAS GIFT + HOBBY SHOW 2025 booth rental options are perfect for exhibitors eager to showcase their products effectively. This event occurs from Dec 6–8\, 2025\, at the Indiana State Fairgrounds\, Indianapolis\, IN. Exhibitors can expect to connect with a diverse audience interested in commercial fairs\, gifts and souvenirs\, toys and games\, fashion clothing\, and home and office design. \nVisitors to the show will find everything from innovative decorations to unique gifts\, making it a must-attend event for all. Our booth rental solutions enhance the exhibitor experience by providing seamless logistics and support. \n\nKey Details:\nDate: Dec 6–8\, 2025\, 9:00 AM–5:00 PM\nLocation: Indiana State Fairgrounds\, 1202 E. 38th Street\, Indianapolis\, IN\, USA\n\nIndustries & Audience: Commercial Fairs\, Gifts & Souvenirs\, Toys & Games\, Fashion – Clothing\, Decoration\, Home & Office Design\, Furniture\, Lighting\, Consumers Electronics. \nVenue & Location\nThe Indiana State Fairgrounds is conveniently located at 1202 E. 38th Street\, Indianapolis\, IN\, USA. Central access and a robust infrastructure make it easy for exhibitors and attendees alike. While specific move-in windows and dock access details are not provided\, our team ensures a smooth setup experience. \nFor inquiries\, feel free to reach us at {Phone}. \nIndianapolis\, IN: Our Services\nIn Indianapolis\, we DESIGN\, PRODUCE\, INSTALL & DISMANTLE turnkey booth rentals. Our comprehensive offerings include custom concept and design\, modular frames\, branded SEG graphics\, reception/storage\, TV mounts\, and on-site installation and dismantling. We ensure your booth effectively represents your brand and attracts attendees. \nCustom Booth Models\nWe provide a variety of popular booth footprints including 10×10\, 10×20\, and 20×20 models. Each size is designed to accommodate various audiences engaging with products in the commercial fairs and gifts sectors. \nDiscover our Snap Exhibitions Custom Booth Models for more options. Our full-service exhibit support guarantees a hassle-free experience from beginning to end. We encourage you to contact our team for personalized solutions to meet your needs! \nFAQ\nQ: What is the process for CHRISTMAS GIFT + HOBBY SHOW 2025 booth rental? \nA: Our booth rental includes full design and logistics support for a seamless exhibitor experience. \nQ: What are the hours for CHRISTMAS GIFT + HOBBY SHOW 2025? \nA: The event runs from Dec 6–8\, 2025\, from 9:00 AM to 5:00 PM. \nQ: What booth sizes are recommended for the various sectors represented? \nA: We recommend a 10×20 booth for most categories to maximize engagement. \nQ: Why is an aluminum booth better than wood? \nA: Aluminum booths offer lightweight construction\, easier transport\, and greater durability compared to wood options. \nQ: What unique offerings will be at the CHRISTMAS GIFT + HOBBY SHOW 2025? \nA: Expect a vibrant display of gifts and hobby products\, with something for everyone. \nQ: How can SNAP EXHIBITIONS help create the perfect booth? \nA: We specialize in customized turnkey booth rentals tailored to your specified needs\, ensuring an excellent representation of your brand. \nUltimately\, CHRISTMAS GIFT + HOBBY SHOW 2025 booth rental will elevate your presence at the event. To get started and secure your spot\, contact our team today!
URL:https://modex2026.com/event/christmas-gift-hobby-show-2025/
CATEGORIES:Collectors - Hobby,Commercial Fairs,Consumers Electronics,Decoration,Family - Childs & Adolescents,Fashion - Clothing,Furniture,Gifts & Souvenirs,Home & Office Design,Lighting,Toys & Games
END:VEVENT
BEGIN:VEVENT
DTSTART;TZID=UTC:20251107T090000
DTEND;TZID=UTC:20251109T235959
DTSTAMP:20260422T101052
CREATED:20251106T105757Z
LAST-MODIFIED:20251106T105757Z
UID:25808-1762506000-1762732799@modex2026.com
SUMMARY:DES MOINES HOLIDAY BOUTIQUE 2025
DESCRIPTION:Des Moines booth rental for DES MOINES HOLIDAY BOUTIQUE 2025 — Ultimate Exhibitor Guide\nAbout DES MOINES HOLIDAY BOUTIQUE 2025\nExplore our Des Moines booth rental for DES MOINES HOLIDAY BOUTIQUE 2025\, a premier event set to showcase an array of holiday decor\, apparel\, toys\, and treats. This event will attract numerous visitors\, offering exhibitors the chance to engage with an enthusiastic audience\, making it a significant opportunity for brands in various sectors including holiday gifts and home design. \n\nKey Details: Dec 6–8\, 2025\, 10:00 AM–6:00 PM\nLocation: Iowa Events Center\, 730 Third Street\, Des Moines\, IA 50309\, United States\n\nIndustries & Audience: Commercial Fairs\, Gifts & Souvenirs\, Decoration\, Home & Office Design\, Furniture\, Lighting\, Consumers Electronics\, Toys & Games\, Fashion – Clothing\, Catering & Hospitality Industries\, Family – Childs & Adolescents. This array of categories promises a diverse mix of attendees and potential clients. \nVenue & Location\nThe Iowa Events Center\, located at 730 Third Street\, Des Moines\, IA 50309\, USA\, is the venue for the DES MOINES HOLIDAY BOUTIQUE 2025. Attendees can expect excellent facilities and logistic support for a seamless exhibitor experience. \nDes Moines IA: Our Services\nIn Des Moines\, IA\, we DESIGN\, PRODUCE\, INSTALL & DISMANTLE turnkey booth rentals. Our comprehensive services include concept design\, modular frames\, branded SEG graphics\, reception/storage areas\, TV mounts\, and onsite installation & dismantling (I&D) to ensure everything runs smoothly throughout the event. \nCustom Booth Models\nOur popular footprints include: \n\n10×10 Booths: Ideal for smaller displays\, providing a cozy yet effective space for interaction with attendees.\n10×20 Booths: A balanced option that offers enough space to showcase products while still being manageable and impactful.\n20×20 Booths: Perfect for larger brands looking to make an impactful statement and accommodate more extensive product displays.\n\nThese models are tailored to meet the needs of industries represented at Des Moines Holiday Boutique. For more options\, check our Snap Exhibitions Custom Booth Models. \nFAQ\n1. What is Des Moines booth rental for DES MOINES HOLIDAY BOUTIQUE 2025? \nOur booth rental services provide you with a fully designed and operational booth space tailored for the event\, ensuring an engaging brand presence. \n2. What are the event hours and dates for DES MOINES HOLIDAY BOUTIQUE 2025? \nThe event runs from Dec 6 to Dec 8\, 2025\, with hours from 10:00 AM to 6:00 PM. \n3. What booth sizes do you recommend for the categories present at the event? \nFor diverse industries represented at the boutique\, we recommend 10×10 or 10×20 booths as they provide ample space without overwhelming attendees. \n4. Why is aluminum better than wood for your booth? \nAluminum is lighter\, more durable\, and offers a modern aesthetic compared to traditional wood\, making setup and transportation easier. \n5. What attractions are there in Des Moines? \nDes Moines is known for its vibrant arts scene\, food festivals\, and beautiful parks\, making it a lively city to visit during the holiday season. \n6. How can SNAP EXHIBITIONS help make everything perfect about their booth? \nWe handle every detail from design to installation\, ensuring your booth not only stands out but operates flawlessly throughout the event. \nDes Moines booth rental for DES MOINES HOLIDAY BOUTIQUE 2025 is designed to maximize your exhibitor experience. With our expertise\, we ensure effortless execution. Contact us today at contact our team to get started!
URL:https://modex2026.com/event/des-moines-holiday-boutique-2025/
CATEGORIES:Catering & Hospitality Industries,Commercial Fairs,Consumers Electronics,Decoration,Family - Childs & Adolescents,Fashion - Clothing,Furniture,Gifts & Souvenirs,Home & Office Design,Lighting,Toys & Games
END:VEVENT
BEGIN:VEVENT
DTSTART;TZID=UTC:20251015T090000
DTEND;TZID=UTC:20251016T235959
DTSTAMP:20260422T101052
CREATED:20251109T183508Z
LAST-MODIFIED:20251109T183508Z
UID:25882-1760518800-1760659199@modex2026.com
SUMMARY:WHITE LABEL EXPO WORLD EXPO - USA - LAS VEGAS 2025
DESCRIPTION:WHITE LABEL EXPO WORLD EXPO – USA – LAS VEGAS 2025 booth rental — Ultimate\nAbout WHITE LABEL EXPO WORLD EXPO – USA – LAS VEGAS 2025\nWHITE LABEL EXPO WORLD EXPO – USA – LAS VEGAS 2025 booth rental is perfect for those looking to showcase their business at this premier event. This expo gathers thousands of global leaders\, entrepreneurs\, online sellers\, retailers\, and distributors. Attendees can expect to engage with countless business and startup owners\, enhancing their networking opportunities and growth potential. \n\nKey Details: May 14–15\, 2025\, 9:00 AM–5:00 PM\nLocation: Las Vegas Convention Center\nAddress: 3150 Paradise Road\, Las Vegas\, NV 89109\, USA\nIndustries & Audience: Marketing & Selling\, Public Relations & Advertising\, Investors\, Internet & Intranet\, Consumers Electronics\, Fashion – Clothing\, Household Appliances – Domestic Appliance Technology\, Catering & Hospitality Industries\n\nVenue & Location\nThe event will be held at the Las Vegas Convention Center\, located at 3150 Paradise Road\, Las Vegas\, NV\, USA. The venue offers convenient access for exhibitors to set up their displays. \nLas Vegas NV: Our Services\nIn Las Vegas\, we DESIGN\, PRODUCE\, INSTALL & DISMANTLE turnkey booth rentals. Our comprehensive service includes booth design\, modular frames\, branded SEG graphics\, and full support throughout the event. Whether you need reception areas or storage solutions\, we’re equipped to meet your needs right here in this exciting city. \nCustom Booth Models\nWe offer a variety of popular booth sizes to accommodate the diverse exhibitors attending the show: \n\n10×10 booths: Ideal for startups and small businesses\, providing an effective way to engage with attendees without overwhelming space.\n10×20 booths: A flexible option that allows for more extensive displays and interactions\, suitable for growing brands.\n20×20 booths: Great for larger businesses wishing to make a significant impact through eye-catching designs and ample interaction space.\n\n> All our models include features that enhance visibility and engagement\, ensuring your business thrives at events. Check out our Snap Exhibitions Custom Booth Models for more details. \nWith our full-service exhibit support\, we ensure that your exhibition experience is seamless and impactful. To learn more about how we can help make your booth perfect\, contact our team. \nFAQ\n\nWhat are the dates and hours of WHITE LABEL EXPO WORLD EXPO – USA – LAS VEGAS 2025?It takes place from May 14–15\, 2025\, from 9:00 AM to 5:00 PM.\nWhat is WHITE LABEL EXPO WORLD EXPO – USA – LAS VEGAS 2025 booth rental?WHITE LABEL EXPO WORLD EXPO – USA – LAS VEGAS 2025 booth rental is designed for exhibitors to showcase their brands and products effectively.\nWhat booth sizes do you recommend for the Marketing and Selling sectors?We recommend a 10×10 booth for small brands\, a 10×20 for medium-sized businesses\, and a 20×20 for major players in the industry.\nWhy is an aluminum booth better than wood?Aluminum booths are lighter\, more durable\, and often provide a modern aesthetic that is appealing at trade shows.\nWhat services can I expect from Snap Exhibitions in Las Vegas?We provide design\, production\, installation\, and dismantling of your booth to ensure everything runs smoothly.\nHow does your team ensure a perfect booth experience?Our team collaborates with you to customize your booth to fit your brand’s unique needs and goals.\nAre there any other upcoming events in Las Vegas?Las Vegas hosts numerous large-scale events throughout the year\, each offering great networking opportunities.\n\nIn conclusion\, our WHITE LABEL EXPO WORLD EXPO – USA – LAS VEGAS 2025 booth rental provides everything you need for a successful event. Join us and elevate your brand—visit contact our team to get started!
URL:https://modex2026.com/event/white-label-expo-world-expo-usa-las-vegas-2025/
CATEGORIES:Catering & Hospitality Industries,Consumers Electronics,Fashion - Clothing,Household Appliances - Domestic Appliance Technology,Internet & Intranet,Investors,Marketing & Selling,Public Relations & Advertising
END:VEVENT
END:VCALENDAR