BEGIN:VCALENDAR
VERSION:2.0
PRODID:-//MODEX 2026 Atlanta — Local Booth Builder &amp; Rentals - ECPv6.15.20//NONSGML v1.0//EN
CALSCALE:GREGORIAN
METHOD:PUBLISH
X-ORIGINAL-URL:https://modex2026.com
X-WR-CALDESC:Events for MODEX 2026 Atlanta — Local Booth Builder &amp; Rentals
REFRESH-INTERVAL;VALUE=DURATION:PT1H
X-Robots-Tag:noindex
X-PUBLISHED-TTL:PT1H
BEGIN:VTIMEZONE
TZID:UTC
BEGIN:STANDARD
TZOFFSETFROM:+0000
TZOFFSETTO:+0000
TZNAME:UTC
DTSTART:20250101T000000
END:STANDARD
END:VTIMEZONE
BEGIN:VEVENT
DTSTART;TZID=UTC:20260209T090000
DTEND;TZID=UTC:20260211T235959
DTSTAMP:20260424T095903
CREATED:20251109T194119Z
LAST-MODIFIED:20251109T194119Z
UID:25935-1770627600-1770854399@modex2026.com
SUMMARY:AERO-ENGINES AMERICA 2026
DESCRIPTION:AERO-ENGINES AMERICA 2026 Booth Rental — Ultimate Exhibitor Guide\nAbout AERO-ENGINES AMERICA 2026\nVenue & Location\nTampa FL: Our Services\nCustom Booth Models\nFAQ\nAERO-ENGINES AMERICA 2026: What to Expect\nAERO-ENGINES AMERICA 2026 booth rental is your gateway to one of the industry’s most significant events focusing on advancements in aerospace engines. This two-day conference attracts senior engine attendees and is dedicated to trends and issues in the aero engine community. Gain insights and connect with key stakeholders across the entire value chain. \nKey Details: \n\nDate: December 10-11\, 2026\, 9:00 AM – 5:00 PM\nLocation: Marriott Tampa Westshore\nAddress: 001 N Westshore Boulevard\, Tampa\, FL 33607\, USA\nEvent Website\n\nIndustries & Audience: Aeronautics – Space\, Sciences for Engineers – Research & Development\, Subcontracting\, Suppliers & Partners\, Advanced Materials\, Quality & Maintenance\, Measurement\, Control & Testing\, Environmental Protection. \nVenue & Location\nThe AERO-ENGINES AMERICA 2026 will be hosted at Marriott Tampa Westshore\, located at 001 N Westshore Boulevard\, Tampa\, FL 33607\, USA. The venue offers ample space for exhibitors and convenient logistics for loading and unloading. While specific details about move-in windows are not provided\, our team can assist on-site to ensure a smooth process. \nFor inquiries\, please call: (Phone not provided). \nTampa FL: Our Services\nWe DESIGN\, PRODUCE\, INSTALL & DISMANTLE turnkey booth rentals in Tampa FL. Our comprehensive scope includes concept/design\, modular frames\, branded SEG graphics\, reception/storage\, TV mounts\, and on-site installation and dismantling (I&D). \nCustom Booth Models\nAt AERO-ENGINES AMERICA 2026\, we offer various popular booth sizes that cater to the needs of the aeronautics and engineering sectors.  \n\n10×10 Booths: Ideal for individual exhibitors\, providing enough space for product displays and first engagements with visitors.\n10×20 Booths: A great choice for showcasing more extensive product lines and engaging with larger audiences effectively.\n20×20 Booths: Perfect for companies looking to create an impact with a spacious layout\, suitable for demos and in-depth interactions.\n\nFor innovative designs\, check out our Snap Exhibitions Custom Booth Models. We also provide full-service exhibit support to make your exhibition experience seamless. \nFAQ\n\nWhat is AERO-ENGINES AMERICA 2026 booth rental all about?\nAERO-ENGINES AMERICA 2026 booth rental offers you the chance to present your innovations at one of the premier aerospace events. Engage with industry leaders and showcase your capabilities.\nWhat are the event dates and hours?\nThe event runs from December 10-11\, 2026\, from 9:00 AM to 5:00 PM each day.\nWhat booth sizes are recommended for the aerospace categories?\nTypically\, we recommend 10×10 for new businesses\, while 10×20 or 20×20 could be more suitable for established brands looking to attract a larger audience.\nWhy is an aluminum booth better than wood?\nAluminum booths tend to be lighter and more durable\, making transportation and setup easier while maintaining a modern look.\nWhat services does Snap Exhibitions provide in Tampa?\nWe offer complete turnkey booth rental services\, including design\, installation\, and dismantling\, tailored to your unique needs.\nWhat makes AERO-ENGINES AMERICA significant for the industry?\nAERO-ENGINES AMERICA gathers thought leaders and key stakeholders to discuss pivotal changes and advancements in the aeroengine sector\, creating a collaborative space for innovation.\nHow can Snap Exhibitions help me make everything perfect about my booth?\nWe provide personalized support from concept to execution\, ensuring your booth aligns with your brand and engages effectively with attendees. Contact our team to learn more.\n\nDon’t miss out on the AERO-ENGINES AMERICA 2026 booth rental opportunity. We are dedicated to making this your best expo experience. For inquiries and to secure your booth\, reach out to us today!
URL:https://modex2026.com/event/aero-engines-america-2026/
CATEGORIES:Advanced Materials,Aeronautics - Space,Control & Testing,Environmental Protection,Measurement,Quality & Maintenance,Sciences for Engineers - Research & Development,Subcontracting,Suppliers & Partners
END:VEVENT
BEGIN:VEVENT
DTSTART;TZID=UTC:20260117T090000
DTEND;TZID=UTC:20260122T235959
DTSTAMP:20260424T095903
CREATED:20251109T203122Z
LAST-MODIFIED:20251109T203122Z
UID:26014-1768640400-1769126399@modex2026.com
SUMMARY:SPIE PHOTONICS WEST 2026
DESCRIPTION:SPIE PHOTONICS WEST 2026 booth rental — Impactful Exhibitor Guide & Custom Booth Options\nAbout SPIE PHOTONICS WEST 2026\nSPIE PHOTONICS WEST 2026 booth rental offers an unparalleled opportunity for exhibitors to showcase innovative products in the fields of Optics\, Lasers\, and Biomedical Technologies. Attending this event\, held at the renowned Moscone Convention Center in San Francisco\, CA\, is a must for companies looking to connect with key industry players and potential clients. Through engaging exhibitions\, attendees can gain insights into cutting-edge advancements in optoelectronics\, optics\, and medical technologies. \n\nKey Details: Jan 18–20\, 2026\, 9:00 AM–5:00 PM\nLocation: Moscone Convention Center\nAddress: 747 Howard Street\, San Francisco\, CA 94103\, United States\n\nThe exhibition covers a spectrum of industries & audience interests including Optoelectronics\, Optics – Eyewear\, Equipment & Technologies for Medical and Surgery\, Electronic Design & Components\, Measurement\, Control & Testing. \nVenue & Location\nWe welcome you to the Moscone Convention Center\, located at 747 Howard Street\, San Francisco\, CA 94103\, United States. This venue features excellent logistics for moving in and out of your exhibits\, ensuring a seamless experience for all exhibitors. While no specific phone lines are provided\, attendees can enjoy the proximity to various amenities and central access to this vibrant city. \nSan Francisco\, CA: Our Services\nIn San Francisco\, we DESIGN\, PRODUCE\, INSTALL & DISMANTLE turnkey booth rentals. Our comprehensive services include concept design\, modular frames\, branded SEG graphics\, reception and storage areas\, TV mounts\, and on-site installation and dismantle support. \nCustom Booth Models\nWe offer a variety of popular booth sizes\, including 10×10\, 10×20\, and 20×20 configurations\, tailored to meet the needs of exhibitors in this essential industry. Each footprint is designed to maximize engagement with attendees in the optical and medical technology sectors. For more information\, check out our Snap Exhibitions Custom Booth Models and our full-service exhibit support. \nIf you want to elevate your presence\, please contact our team for tailored solutions! \nFAQ\nQ: What is SPIE PHOTONICS WEST 2026 booth rental?A: SPIE PHOTONICS WEST 2026 booth rental refers to the comprehensive services offered to exhibitors at the 2026 photography and optics exhibition where companies can showcase their products. \nQ: What are the event hours/dates for SPIE PHOTONICS WEST 2026?A: The event runs from Jan 18 to Jan 20\, 2026\, between 9:00 AM and 5:00 PM. \nQ: What booth size do you recommend for companies in the optical technology sector?A: A 10×20 or 20×20 booth is often ideal for larger displays and attracting foot traffic in the optical technology sector. \nQ: Why is an aluminum booth better than wood?A: Aluminum booths are generally lighter\, more durable\, and easier to assemble and disassemble compared to wooden booths. \nQ: What services does Snap Exhibitions provide for SPIE PHOTONICS WEST 2026?A: We provide turnkey booth rental services including design\, production\, installation\, and dismantling. \nQ: What can I expect from SPIE PHOTONICS WEST 2026?A: Expect to connect with industry leaders and discover groundbreaking innovations in the field. \nQ: How can Snap Exhibitions help make everything perfect about their booth?A: We handle every detail from design to dismantling to ensure a successful exhibition experience. \nOur SPIE PHOTONICS WEST 2026 booth rental services are tailored to bring your vision to life and enhance your presence at the event. Let us assist you in making the most of this opportunity — contact us today!
URL:https://modex2026.com/event/spie-photonics-west-2026/
CATEGORIES:Control & Testing,Electronic Design & Components,Equipments & Technologies for Medical and Surgery,Measurement,Optics - Eyewear,Optoelectronics
END:VEVENT
END:VCALENDAR