BEGIN:VCALENDAR
VERSION:2.0
PRODID:-//MODEX 2026 Atlanta — Local Booth Builder &amp; Rentals - ECPv6.15.13.1//NONSGML v1.0//EN
CALSCALE:GREGORIAN
METHOD:PUBLISH
X-WR-CALNAME:MODEX 2026 Atlanta — Local Booth Builder &amp; Rentals
X-ORIGINAL-URL:https://modex2026.com
X-WR-CALDESC:Events for MODEX 2026 Atlanta — Local Booth Builder &amp; Rentals
REFRESH-INTERVAL;VALUE=DURATION:PT1H
X-Robots-Tag:noindex
X-PUBLISHED-TTL:PT1H
BEGIN:VTIMEZONE
TZID:UTC
BEGIN:STANDARD
TZOFFSETFROM:+0000
TZOFFSETTO:+0000
TZNAME:UTC
DTSTART:20250101T000000
END:STANDARD
END:VTIMEZONE
BEGIN:VEVENT
DTSTART;TZID=UTC:20260429T090000
DTEND;TZID=UTC:20260430T235959
DTSTAMP:20260422T163544
CREATED:20251109T200756Z
LAST-MODIFIED:20251109T200756Z
UID:25989-1777453200-1777593599@modex2026.com
SUMMARY:B2B MARKETING AND SALES INNOVATION EXPO - MIAMI 2026
DESCRIPTION:B2B MARKETING AND SALES INNOVATION EXPO – MIAMI 2026 Booth Rental — Impactful\nAbout B2B MARKETING AND SALES INNOVATION EXPO – MIAMI 2026\nVenue & Location\nMiami: Our Services\nCustom Booth Models\nFAQ\nB2B MARKETING AND SALES INNOVATION EXPO – MIAMI 2026 — Effective Marketing Solutions\nB2B MARKETING AND SALES INNOVATION EXPO – MIAMI 2026 booth rental is essential for exhibitors looking to stand out in the competitive marketing sector. This event will host hundreds of suppliers and expert speakers demonstrating the latest technologies and discussing innovative services to enhance marketing efforts. Whether you’re looking for insights on public relations\, advertising\, or artificial intelligence\, this expo is a must-visit. \nKey Details: Jan 23–25\, 2026\, 9:00 AM–5:00 PM\, Miami Beach Convention Center\, 1901 Convention Center Drive\, Miami Beach\, United States. For more information\, visit the event website. \nIndustries & Audience: Marketing & Selling\, Decision Helping Tools & Management Services\, Knowledge Based Systems & Artificial Intelligence\, Public Relations & Advertising. \nVenue & Location\nThe B2B MARKETING AND SALES INNOVATION EXPO will take place at the Miami Beach Convention Center\, located at 1901 Convention Center Drive\, Miami Beach\, United States. This venue offers excellent logistics\, ensuring a smooth experience for exhibitors. \nMiami: Our Services\nWe DESIGN\, PRODUCE\, INSTALL & DISMANTLE turnkey booth rentals in Miami. Our services cover the whole spectrum from concept and design to modular frames\, branded SEG graphics\, reception/storage areas\, TV mounts\, and on-site installation and dismantling (I&D). \nCustom Booth Models\nWe offer a selection of Snap Exhibitions Custom Booth Models suitable for various event setups. Popular sizes like the 10×10\, 10×20\, and 20×20 are fantastic for exhibitors looking to make an impact. These booth footprints cater perfectly to attendees in the marketing sector\, providing ample space for interaction and engagement. Whether you’re showcasing AI tools or management services\, our booths will help you connect effectively with your audience. \nAdditionally\, we offer full-service exhibit support to ensure your presence at the expo is seamless. \nFAQ\n1. What is B2B MARKETING AND SALES INNOVATION EXPO – MIAMI 2026 booth rental? It refers to the rental of booths at the expo specifically designed for marketing and sales professionals. \n2. When does the event take place? The event is scheduled from January 23–25\, 2026\, from 9:00 AM–5:00 PM. \n3. What are recommended booth sizes for the marketing sector? Popular booth sizes include 10×10\, 10×20\, and 20×20\, ideal for accommodating marketing displays and engagements. \n4. Why is an aluminum booth better than wood? Aluminum booths are lighter\, more durable\, and easier to transport\, making them a popular choice for rental setups. \n5. What services do SNAP EXHIBITIONS offer in Miami? We provide comprehensive booth rental solutions including design\, production\, installation\, and dismantling services. \n6. What can I expect at the B2B MARKETING AND SALES INNOVATION EXPO – MIAMI 2026? The expo features exhibitors showcasing innovative marketing technologies and workshops led by industry experts. \n7. How can SNAP EXHIBITIONS help make my booth perfect? We work closely with exhibitors to customize booth designs tailored to their specific needs\, ensuring a standout presence at the event. For further assistance\, contact our team. \nIn conclusion\, if you are looking for B2B MARKETING AND SALES INNOVATION EXPO – MIAMI 2026 booth rental\, our seamless services can elevate your event experience. Reach out to contact our team today!
URL:https://modex2026.com/event/b2b-marketing-and-sales-innovation-expo-miami-2026/
CATEGORIES:Decision Helping Tools & Management Services,Knowledge Based Systems & Artificial Intelligence,Marketing & Selling,Public Relations & Advertising
END:VEVENT
BEGIN:VEVENT
DTSTART;TZID=UTC:20260517T090000
DTEND;TZID=UTC:20260520T235959
DTSTAMP:20260422T163544
CREATED:20251109T193404Z
LAST-MODIFIED:20251109T193404Z
UID:25919-1779008400-1779321599@modex2026.com
SUMMARY:ATD INTERNATIONAL CONFERENCE & EXPOSITION 2026
DESCRIPTION:ATD INTERNATIONAL CONFERENCE & EXPOSITION 2026 booth rental — Ultimate Guide\nAbout ATD INTERNATIONAL CONFERENCE & EXPOSITION 2026\nVenue & Location\nLos Angeles CA: Our Services\nCustom Booth Models\nFAQ\nATD INTERNATIONAL CONFERENCE & EXPOSITION 2026\nATD INTERNATIONAL CONFERENCE & EXPOSITION 2026 booth rental is essential for maximizing your impact at this premier event. This conference unites professionals from various sectors\, including **Decision Helping Tools & Management Services**\, **Education & Training**\, **Computers**\, and **Telecommunications**. Attendees will gain unparalleled insights and networking opportunities\, helping them thrive in their fields. \nThe event runs from **January 21–25\, 2026**\, featuring sessions that cover the full spectrum of training and development practices. Key Details include: \n\nDates: January 21–25\, 2026\nLocation: Los Angeles\, CA\, USA\nWebsite: [Visit](#) (No link provided)\n\nJoin us as we explore innovative learning strategies that will elevate your organization\, giving you the tools necessary to succeed. \nVenue & Location\nThe conference will be hosted at the vibrant site of **Los Angeles\, CA**. This central location makes it ideal for easy access and logistics. While exact move-in details are pending\, rest assured that we will facilitate seamless transitions on the day of the event. \nLos Angeles CA: Our Services\nIn **Los Angeles\, CA**\, we DESIGN\, PRODUCE\, INSTALL & DISMANTLE turnkey booth rentals. Our comprehensive service includes everything from tailored concept designs and modular frames to branded SEG graphics and efficient on-site installation and dismantling. \nCustom Booth Models\nWe offer an array of popular booth footprints\, ideal for decision-making sectors like education and telecommunications. Consider these options: \n\n10×10 booths are great for maximized engagement without overwhelming space.\n10×20 booths allow for more elaborate displays\, perfect for interactive demos.\n20×20 booths offer expansive areas to showcase larger products or services.\n\nFor more information on our Snap Exhibitions Custom Booth Models\, visit our site for DIY guidelines to suit your needs. \nTo explore our full-service exhibit support\, or simply contact our team for a consultation. \nFAQ\n1. What is the significance of ATD INTERNATIONAL CONFERENCE & EXPOSITION 2026 booth rental?This booth rental enhances your outreach and visibility at the event\, helping you connect directly with key industry figures. \n2. When is the event scheduled?The event is scheduled for **January 21–25\, 2026**. \n3. What booth sizes do you recommend for Education & Training sectors?We suggest the 10×20 and 20×20 options for impactful presentations. \n4. Why is an aluminum booth better than wood?Aluminum offers better durability and is significantly lighter\, making it easier to install and manage. \n5. What is the location of the event?The event will take place in **Los Angeles\, CA**. \n6. How can I make my booth perfect with SNAP EXHIBITIONS?We’ll handle everything from design to installation for a seamless experience. \nWe look forward to providing you with top-notch booth rental services at the **ATD INTERNATIONAL CONFERENCE & EXPOSITION 2026 booth rental** experience. Please reach out to us for tailored solutions that ensure your presence at the event is impactful! [Contact Us](https://snapexhibitions.com/contact-snap-exhibitions/)
URL:https://modex2026.com/event/atd-international-conference-exposition-2026/
CATEGORIES:Computers,Computers Networks,Decision Helping Tools & Management Services,Education & Training,Internet & Intranet,Sciences for Engineers - Research & Development,Telecommunications
END:VEVENT
BEGIN:VEVENT
DTSTART;TZID=UTC:20260623T090000
DTEND;TZID=UTC:20260625T235959
DTSTAMP:20260422T163544
CREATED:20251110T041724Z
LAST-MODIFIED:20251110T041724Z
UID:26059-1782205200-1782431999@modex2026.com
SUMMARY:COMMERCENEXT 2026
DESCRIPTION:COMMERCENEXT 2026 booth rental — Essential Exhibitor Guide & Custom Booth Options\nAbout COMMERCENEXT 2026\nVenue & Location\nNew York: Our Services\nCustom Booth Models\nFAQ\nAbout COMMERCENEXT 2026\nCOMMERCENEXT 2026 booth rental offers an essential opportunity for exhibitors to engage audiences at one of the largest global eCommerce events. Attendees can expect to connect with speakers from leading retailers\, direct-to-consumer (DTC) brands\, and innovative tech companies. This is a unique chance for meaningful peer-to-peer networking and to gain insights from industry leaders through both in-person and virtual content. \nKey Details:  Sep 18–20\, 2026 (9:00 AM–5:00 PM)  New York Hilton Midtown\, 1335 Avenue of the Americas\, New York\, NY\, United States  [Visit the official site](http://commercenext.com) \nIndustries & Audience: Marketing & Selling\, Internet & Intranet\, Retail & Shop Fitting Equipment & Service\, Logistics & Transportation Engineering – Handling Operations – Storage\, Public Relations & Advertising\, Decision Helping Tools & Management Services. \nVenue & Location\nThe event will take place at New York Hilton Midtown\, located at 1335 Avenue of the Americas\, New York\, NY\, United States. The venue allows for convenient logistics such as move-in access and centralized docking facilities\, ensuring smooth operations for your setup. \nNew York: Our Services\nWe DESIGN\, PRODUCE\, INSTALL & DISMANTLE turnkey booth rentals in New York. Our comprehensive services encompass concept/design\, modular frames\, branded SEG graphics\, reception/storage solutions\, TV mounting\, and on-site installation & dismantling. \nCustom Booth Models\nExplore our Snap Exhibitions Custom Booth Models that fit various booth sizes\, including popular footprints: 10×10\, 10×20\, and 20×20. These designs are tailored to resonate with audiences in the categories mentioned earlier\, providing stunning branding while optimizing visibility. \nFor those requiring comprehensive support\, discover our full-service exhibit support that caters to all your booth needs. Don’t hesitate to contact our team today to help turn your vision into a reality. \nFAQ\nWhat is COMMERCENEXT 2026 booth rental?COMMERCE NEXT 2026 booth rental provides businesses with tailored solutions to set up their presence at this major eCommerce event. \nWhat are the event hours for COMMERCENEXT 2026?The event runs from Sep 18 to Sep 20\, 2026\, from 9:00 AM to 5:00 PM. \nWhat booth sizes do you recommend for Marketing & Selling sectors?We recommend 10×10 and 10×20 booth sizes for optimal visibility and engagement in the Marketing & Selling sectors. \nWhy is an aluminum booth better than wood?Aluminum booths are typically lighter\, more durable\, and easier to transport than wooden alternatives\, making them ideal for multiple events. \nWhat can I expect at the COMMERCENEXT 2026 in New York?You can anticipate engaging workshops\, valuable networking opportunities\, and industry-leading presentations that will empower your business. \nHow can SNAP EXHIBITIONS help ensure my booth is perfect?We specialize in comprehensive turnkey booth rentals\, taking care of every detail from design to setup\, ensuring a seamless experience. \nJoin us at COMMERCENEXT 2026 booth rental and take your exhibition experience to the next level. For more information\, contact our team today!
URL:https://modex2026.com/event/commercenext-2026/
CATEGORIES:Decision Helping Tools & Management Services,Internet & Intranet,Logistics & Transportation Engineering - Handling Operations - Storage,Marketing & Selling,Public Relations & Advertising,Retail & Shop Fitting Equipment & Service
END:VEVENT
BEGIN:VEVENT
DTSTART;TZID=UTC:20270519T090000
DTEND;TZID=UTC:20270520T235959
DTSTAMP:20260422T163544
CREATED:20251106T110923Z
LAST-MODIFIED:20251106T110923Z
UID:25831-1810717200-1810857599@modex2026.com
SUMMARY:EAST PACK 2027
DESCRIPTION:EAST PACK 2027 booth rental — Ultimate Exhibitor Guide & Custom Booth Options\nAbout EAST PACK 2027\nVenue & Location\nNew York NY: Our Services\nCustom Booth Models\nFAQ\nAre you looking for EAST PACK 2027 booth rental? You’ve come to the right place! The EAST PACK 2027 event is East Coast’s Largest Annual Design & Manufacturing Event\, drawing a diverse audience from CAD/CAM design\, applied computer engineering\, to mechanical components. This is a perfect opportunity for exhibitors to showcase their products and engage with industry professionals. \nKey Details: September 12–14\, 9:00 AM–5:00 PM\, Jacob K. Javits Convention Center\, 655 West 34th Street\, New York\, NY 10001-1188\, United States. For more information\, visit the official website. \nIndustries & Audience: CAD/CAM – Design – Modelisation\, Applied Computer & Industrial Engineering\, Plastics\, Rubber\, Composites\, Mechanical Components\, Decision Helping Tools & Management Services. \nEAST PACK 2027 booth rental – Venue & Logistics\nThe event will take place at the Jacob K. Javits Convention Center\, known for its central location and excellent accessibility. Attendees and exhibitors will appreciate the convenient logistics\, allowing for a smooth setup and takedown of displays. Our team will ensure that all you have to focus on is making impactful connections. \nFor inquiries\, feel free to reach us at +1 (212) 600-3000. \nEAST PACK 2027 booth rental – New York NY: Our Services\nAt Snap Exhibitions\, we DESIGN\, PRODUCE\, INSTALL & DISMANTLE turnkey booth rentals in New York NY. Our comprehensive services cover everything from concept/design to modular frames\, branded SEG graphics\, reception/storage solutions\, and TV mounts. We are committed to providing a seamless experience for exhibitors. \nEAST PACK 2027 booth rental – Custom Booth Models\nWe offer a range of customizable booth sizes to suit your exhibiting needs. Popular footprints include: \n\n10×10: Ideal for small spaces where engagement is key.\n10×20: Offers ample room for a dynamic display\, perfect for attracting attention.\n20×20: Great for larger exhibitions\, allows for elaborate setups.\n\nExplore our Snap Exhibitions Custom Booth Models for more design inspirations. We also provide full-service exhibit support to ensure that your booth stands out. \nFAQ\n\nWhat is EAST PACK 2027 booth rental?It’s a turnkey solution for exhibitors participating in EAST PACK 2027\, providing all necessary displays and services.\nWhat are the dates and hours for EAST PACK 2027?September 12–14\, from 9:00 AM to 5:00 PM.\nWhat booth sizes do you recommend for CAD/CAM sectors?We recommend at least a 10×20 booth for impactful engagement in the CAD/CAM industry.\nWhy is an aluminum booth better than wood?Aluminum structures are lightweight\, reusable\, and offer greater design flexibility compared to wood.\nWhat can I expect at EAST PACK 2027 in New York?You’ll connect with industry leaders\, discover innovative solutions\, and build valuable partnerships.\nHow can Snap Exhibitions help perfect my booth?We specialize in turnkey booth rentals\, ensuring that your exhibit is visually captivating and within your specifications.\n\nIn conclusion\, if you are seeking the best EAST PACK 2027 booth rental options\, look no further! We are here to assist you in creating a memorable exhibition experience. Contact our team today to get started!
URL:https://modex2026.com/event/east-pack-2027/
CATEGORIES:Applied Computer & Industrial Engineering,CAD/CAM - Design - Modelisation,Composites,Decision Helping Tools & Management Services,Mechanical Components,Plastics,Rubber
END:VEVENT
BEGIN:VEVENT
DTSTART;TZID=UTC:20280926T090000
DTEND;TZID=UTC:20280928T235959
DTSTAMP:20260422T163544
CREATED:20251109T183736Z
LAST-MODIFIED:20251109T183736Z
UID:25888-1853571600-1853798399@modex2026.com
SUMMARY:MINEXPO INTERNATIONAL 2028
DESCRIPTION:Las Vegas booth rental for MINEXPO INTERNATIONAL 2028 — Essential Guide\nAbout MINEXPO INTERNATIONAL 2028\nLas Vegas booth rental for MINEXPO INTERNATIONAL 2028 is an opportunity not to be missed! This premier mining show takes place from September 12–14\, 2028\, 9:00 AM–5:00 PM at the Las Vegas Convention Center\, 3150 Paradise Road\, Las Vegas\, NV 89109\, United States. MINExpo INTERNATIONAL features over 1800 exhibitors presenting cutting-edge technology\, equipment\, and services essential for the mining industry\, including exploration\, extraction\, and safety. Attendees can gain valuable insights into the latest advancements that will help them stay ahead in the mining sector. \n\nKey Details:\nEvent Dates: September 12–14\, 2028\nLocation: Las Vegas Convention Center\nAddress: 3150 Paradise Road\, Las Vegas\, NV 89109\nCountry: United States\nEvent Website\n\nIndustries & Audience: This event caters to individuals in Mining Technologies\, Building Machinery\, Decision Helping Tools & Management Services\, Security – Risk Management\, establishing a critical networking platform. \nVenue & Location\nThe Las Vegas Convention Center is a prime venue for hosting large-scale events like MINEXPO INTERNATIONAL 2028. Exhibitors can look forward to convenient logistics\, including move-in windows and easy dock access\, ensuring a smooth setup experience. \nWith central access points and proximity to major transport links\, Las Vegas offers an attractive destination for exhibitors and visitors alike. \nLas Vegas NV: Our Services\nWe DESIGN\, PRODUCE\, INSTALL & DISMANTLE turnkey booth rentals in Las Vegas NV. Our offerings cover every aspect of your exhibitor needs: concept/design\, modular frames\, branded SEG graphics\, reception/storage facilities\, TV mounts\, and on-site installation & dismantling (I&D). \nLooking for a flexible booth rental? Here at SNAP Exhibitions\, we focus on popular footprints such as: \n\n10×10: Ideal for startups seeking a compact booth that attracts attention.\n10×20: Optimal for brands aiming to showcase a wider range of products.\n20×20: Perfect for larger businesses needing ample space to engage potential clients.\n\nCustom Booth Models\nExplore our Snap Exhibitions Custom Booth Models for tailored solutions that fit your marketing strategy. With our full-service exhibit support\, we enable exhibitors to shine at events like MINEXPO INTERNATIONAL. \nWe understand every space counts when it comes to maximizing impact. Utilize engaging designs and interactive elements for booths of all sizes. \nIf you’re ready to enhance your presence at the MINEXPO\, contact our team to learn more about how we can help you craft the perfect exhibit experience. \nFAQ\n\nWhat is the Las Vegas booth rental for MINEXPO INTERNATIONAL 2028?\nThis includes a variety of customizable booth options tailored to your exhibit needs and preferences at the event.\nWhen are the event hours for MINEXPO INTERNATIONAL 2028?\nThe event runs from September 12 to 14\, 2028\, 9:00 AM to 5:00 PM.\nWhat booth sizes are recommended for Mining Technologies sectors?\nBooth sizes like 10×20 or 20×20 are typically recommended to effectively showcase larger machinery and technology.\nWhy is an aluminum booth better than wood?\nAluminum booths are lighter\, more versatile\, and easier to transport compared to wooden ones\, offering a sleek and modern look.\nWhat should I know about Las Vegas before attending MINEXPO?\nLas Vegas is not just entertainment; it’s a hub for business with great venues and facilities for trade shows.\nWhat is MINEXPO INTERNATIONAL known for?\nIt’s known for showcasing innovations in mining and provides networking opportunities for professionals in the industry.\nHow can SNAP EXHIBITIONS help make my booth perfect?\nWe offer complete support from design to installation\, ensuring your booth meets all your requirements for a standout performance.\n\nIn conclusion\, our Las Vegas booth rental for MINEXPO INTERNATIONAL 2028 will help you stand out and connect with your target audience. Don’t hesitate to contact us today!
URL:https://modex2026.com/event/minexpo-international-2028/
CATEGORIES:Building Machinery,Decision Helping Tools & Management Services,Mining Technologies,Security - Risk Management
END:VEVENT
END:VCALENDAR