BEGIN:VCALENDAR
VERSION:2.0
PRODID:-//MODEX 2026 Atlanta — Local Booth Builder &amp; Rentals - ECPv6.15.20//NONSGML v1.0//EN
CALSCALE:GREGORIAN
METHOD:PUBLISH
X-WR-CALNAME:MODEX 2026 Atlanta — Local Booth Builder &amp; Rentals
X-ORIGINAL-URL:https://modex2026.com
X-WR-CALDESC:Events for MODEX 2026 Atlanta — Local Booth Builder &amp; Rentals
REFRESH-INTERVAL;VALUE=DURATION:PT1H
X-Robots-Tag:noindex
X-PUBLISHED-TTL:PT1H
BEGIN:VTIMEZONE
TZID:UTC
BEGIN:STANDARD
TZOFFSETFROM:+0000
TZOFFSETTO:+0000
TZNAME:UTC
DTSTART:20250101T000000
END:STANDARD
END:VTIMEZONE
BEGIN:VEVENT
DTSTART;TZID=UTC:20260503T090000
DTEND;TZID=UTC:20260504T235959
DTSTAMP:20260424T213129
CREATED:20251109T195419Z
LAST-MODIFIED:20251109T195419Z
UID:25965-1777798800-1777939199@modex2026.com
SUMMARY:THE MAKEUP SHOW - NYC 2026
DESCRIPTION:THE MAKEUP SHOW – NYC 2026 booth rental — Ultimate Exhibitor Guide & Custom Booth Options\nAbout THE MAKEUP SHOW – NYC 2026\nVenue & Location\nNew York NY: Our Services\nCustom Booth Models\nFAQ\nAbout THE MAKEUP SHOW – NYC 2026\nWelcome to THE MAKEUP SHOW – NYC 2026 booth rental! This premier event in New York City offers beauty professionals an exceptional opportunity to enhance their skills. Attendees can partake in two days filled with educational seminars\, demo stages\, and networking with top makeup artists and beauty experts. Get ready to learn the latest trends and techniques that will boost your career! \nKey Details: Sep 28–29\, 2026\, 9:00 AM–5:00 PM\, Metropolitan Pavilion\, 125 West 18 TH Street\, New York\, NY 10011\, USA. For more information\, visit THE MAKEUP SHOW – NYC 2026. \nThe event focuses on the Beauty & Personal Care\, Fashion – Clothing industries\, delivering value-driven content and insight to professionals. \nVenue & Location\nThis year’s venue is the Metropolitan Pavilion\, located at 125 West 18 TH Street\, New York\, NY 10011\, USA. It offers convenient access for exhibitors regarding logistics\, making it easy to set up and dismantle your booth. \nNew York NY: Our Services\nWe design\, produce\, install\, and dismantle turnkey booth rentals in New York NY. Our services encompass concept/design\, modular frames\, branded SEG graphics\, reception/storage\, TV mount\, and on-site installation and dismantling. \nCustom Booth Models\nExplore our popular booth footprints that cater to various needs\, including: \n\n10×10 — ideal for personal care brands\, providing a compact yet efficient space.\n10×20 — perfect for showcasing fashion lines\, offering enough room for display and interaction.\n20×20 — best for large brands\, ensuring a spacious area to make an impactful impression.\n\nFor more details about our offerings\, check out our Snap Exhibitions Custom Booth Models and our full-service exhibit support. \nFAQ\n\nWhat is THE MAKEUP SHOW – NYC 2026 booth rental?\nOur booth rental service provides comprehensive solutions to exhibitors at THE MAKEUP SHOW – NYC 2026\, ensuring an exceptional display.\nWhat are the event hours and dates for THE MAKEUP SHOW – NYC 2026?\nThe event takes place on Sep 28–29\, 2026\, from 9:00 AM to 5:00 PM.\nWhat booth sizes do you recommend for the Beauty & Personal Care sector?\nWe recommend starting with a 10×10 booth for personal care brands\, while 10×20 or larger footprints suit established brands needing more exhibition space.\nWhy is an aluminum booth better than a wood booth?\nAluminum booths are lighter\, customizable\, and easier to install and dismantle than wooden options—making them more practical for trade shows.\nWhat services does Snap Exhibitions offer in New York?\nWe offer tailored booth rental services\, including design\, installation\, and logistical support tailored for the New York market.\nHow can SNAP EXHIBITIONS help make everything perfect about their booth?\nWe provide a seamless experience from design to execution\, ensuring your exhibition booth stands out and delivers maximum impact at the event.\n\nWe hope to see you at THE MAKEUP SHOW – NYC 2026 booth rental. For any inquiries or to start planning\, contact our team today!
URL:https://modex2026.com/event/the-makeup-show-nyc-2026/
CATEGORIES:Beauty & Personal Care,Fashion - Clothing
END:VEVENT
BEGIN:VEVENT
DTSTART;TZID=UTC:20260709T090000
DTEND;TZID=UTC:20260712T235959
DTSTAMP:20260424T213129
CREATED:20251109T203507Z
LAST-MODIFIED:20251109T203507Z
UID:26021-1783587600-1783900799@modex2026.com
SUMMARY:INTERNATIONAL FOLK ART MARKET 2026
DESCRIPTION:INTERNATIONAL FOLK ART MARKET booth rental — Essential Exhibitor Guide & Custom Booth Options\nAbout INTERNATIONAL FOLK ART MARKET\nINTERNATIONAL FOLK ART MARKET booth rental provides a great opportunity for exhibitors to showcase their unique offerings. This vibrant event draws attention to textiles\, handmade jewelry\, and much more\, ensuring each booth stands out. Visitors can connect with artisans\, explore diverse cultures\, and experience folk art and music like never before. Key Details: \n\nDates: Nov 6–8\, 2026\, 9:00 AM–5:00 PM\nLocation: Museum Hill\, 710 Camino Lejo\, Santa Fe\, NM\, United States\nWebsite: Visit Here\n\nThe INDUSTRIES & AUDIENCE for this event include Handicraft Products\, Fashion – Clothing\, Decoration\, Home & Office Design\, Furniture\, Lighting\, Music. Exhibitors can expect to attract a diverse audience eager to experience the richness of folk art. \nVenue & Location\nThe event will take place at the Museum Hill\, located at 710 Camino Lejo\, Santa Fe\, NM\, USA. The venue offers spacious areas for booth setups\, ensuring seamless access for logistics. Attendees will find convenient docking facilities for easy move-in. \nSanta Fe\, NM: Our Services\nWe DESIGN\, PRODUCE\, INSTALL & DISMANTLE turnkey booth rentals in Santa Fe\, NM. Our service scope includes customized concept design\, modular frames\, branded SEG graphics\, reception/storage areas\, TV mounts\, and on-site installation and dismantling services. We aim to streamline your experience\, allowing you to focus on connecting with your audience. \nCustom Booth Models\nExplore our options\, including popular footprints like 10×10\, 10×20\, and 20×20 that perfectly meet the needs of exhibitors in the Handicraft Products\, Fashion\, Decoration\, and Home Design sectors. For detailed designs\, check out our Snap Exhibitions Custom Booth Models to see how we can elevate your presence. \nAdditionally\, with our full-service exhibit support\, we handle everything needed to set your booth up for success. If you’re looking for a specific design or support structure\, contact our team for personalized consultation. \nFAQ\nQ: What is the INTERNATIONAL FOLK ART MARKET booth rental?A: It’s an opportunity to exhibit at a vibrant festival celebrating various folk art forms. \nQ: When does the INTERNATIONAL FOLK ART MARKET take place?A: The event runs from Nov 6–8\, 2026\, from 9:00 AM to 5:00 PM. \nQ: What booth sizes do you recommend for exhibitors in the fashion and decoration sectors?A: We suggest 10×20 or 20×20 booths for optimal exposure and engagement. \nQ: Why is an aluminum booth better than wood?A: Aluminum booths are lighter\, more durable\, and easier to assemble compared to traditional wood options. \nQ: What can attendees expect in Santa Fe during the market?A: They can enjoy a rich assortment of folk art\, engage with artists\, and participate in cultural activities. \nQ: How can SNAP EXHIBITIONS help in making everything perfect about their booth?A: We offer comprehensive services from design to execution\, ensuring your booth meets all expectations. \nINTERNATIONAL FOLK ART MARKET booth rental is your pathway to an unforgettable exhibition experience. For customized solutions that captivate\, contact us today at Snap Exhibitions.
URL:https://modex2026.com/event/international-folk-art-market-2026/
CATEGORIES:Decoration,Fashion - Clothing,Furniture,Handicraft Products,Home & Office Design,Lighting,Music
END:VEVENT
BEGIN:VEVENT
DTSTART;TZID=UTC:20260710T090000
DTEND;TZID=UTC:20260711T235959
DTSTAMP:20260424T213129
CREATED:20251109T200444Z
LAST-MODIFIED:20251109T200444Z
UID:25982-1783674000-1783814399@modex2026.com
SUMMARY:FLORIDA SUPERCON 2026
DESCRIPTION:FLORIDA SUPERCON 2026 booth rental — Ultimate Exhibitor Guide & Custom Booth Options\nAbout FLORIDA SUPERCON 2026\nVenue & Location\nMiami Beach: Our Services\nCustom Booth Models\nFAQ\nFLORIDA SUPERCON 2026 — Trade Show Overview\nFLORIDA SUPERCON 2026 booth rental will offer exhibitors an unparalleled opportunity at one of the leading pop culture conventions. This event\, occurring over three electrifying days\, is packed full of anime\, celebrities\, gaming\, comics\, and pop culture. Visitors will immerse themselves in an engaging atmosphere that celebrates creativity and innovation. Our booth rentals provide a platform for exhibitors to showcase their brands and connect with a vibrant audience. \n\nKey Details: July 7–9\, 2026\, 10:00 AM–6:00 PM\nLocation: Miami Beach Convention Center\, 1901 Convention Center Drive\, Miami Beach\, United States\n\nIndustries & Audience: Broadcasting\, Television & Entertainment\, Books\, Music\, Fashion – Clothing\, Art and Antiques. \nVenue & Location\nThe Miami Beach Convention Center is a premier venue located at 1901 Convention Center Drive\, Miami Beach\, United States. With ample space for exhibitors and easy logistics\, it’s the perfect location for trade shows like the FLORIDA SUPERCON 2026. With convenient access and on-site support\, exhibitors can prepare efficiently for a successful event. \nMiami Beach: Our Services\nIn this city\, we DESIGN\, PRODUCE\, INSTALL & DISMANTLE turnkey booth rentals. Our services include concept and design\, modular frames\, branded SEG graphics\, reception/storage areas\, TV mounts\, and on-site installation and dismantling. We create spaces that captivate and engage. \nCustom Booth Models\nAt Snap Exhibitions\, we offer multiple Snap Exhibitions Custom Booth Models suitable for various categories. Popular footprints include 10×10\, 10×20\, and 20×20 booths\, each tailored to enhance visibility and appeal to attendees in the broadcasting\, television\, entertainment\, books\, music\, fashion\, and art sectors. Our full-service exhibit support ensures a seamless experience\, from design to execution. Looking to elevate your presence? Please contact our team to discuss your exhibition needs! \nFAQ\nWhat is FLORIDA SUPERCON 2026 booth rental?\nFLORIDA SUPERCON 2026 booth rental allows you to secure a space to feature your products and engage directly with a diverse audience. \nWhat are the event hours for FLORIDA SUPERCON 2026?\nThe event runs from July 7–9\, 2026\, with hours from 10:00 AM to 6:00 PM. \nWhat booth sizes do you recommend for Broadcasting\, Television & Entertainment sectors?\nFor these sectors\, we recommend 10×20 or 20×20 booth sizes for optimal space and engagement. \nWhy is an aluminum booth better than wood?\nAluminum booths are lighter\, easier to assemble\, and offer more modern aesthetics compared to traditional wood booths. \nWhat can I expect at FLORIDA SUPERCON 2026?\nExpect a vibrant environment filled with activities centered around anime\, celebrities\, gaming\, and pop culture\, making it a hub for fans and exhibitors alike. \nHow can Snap Exhibitions help make everything perfect about your booth?\nWe specialize in seamless turnkey booth rentals that ensure your exhibition is flawless. From design to installation\, we handle all aspects to deliver an impactful presence. \nDon’t miss the chance to showcase at FLORIDA SUPERCON 2026 booth rental. Join us and ensure your brand stands out at this premier event. For personalized service and to secure your booth today\, contact our team!
URL:https://modex2026.com/event/florida-supercon-2026/
CATEGORIES:Art and Antiques,Books,Broadcasting,Fashion - Clothing,Music,Television & Entertainment
END:VEVENT
BEGIN:VEVENT
DTSTART;TZID=UTC:20260727T090000
DTEND;TZID=UTC:20260729T235959
DTSTAMP:20260424T213129
CREATED:20251110T044436Z
LAST-MODIFIED:20251110T044436Z
UID:26078-1785142800-1785369599@modex2026.com
SUMMARY:PGA FALL EXPO 2026
DESCRIPTION:PGA FALL EXPO 2026 booth rental — Ultimate Exhibitor Guide & Custom Booth Options\nAbout PGA FALL EXPO 2026\nVenue & Location\nFrisco TX: Our Services\nCustom Booth Models\nFAQ\nAbout PGA FALL EXPO 2026\nPGA FALL EXPO 2026 booth rental is your perfect opportunity to connect with thousands of buyers and PGA professionals at the premier Golf Industry Professionals Show. Attendees can explore the latest apparel trends\, innovative equipment releases\, and new accessories that enhance their offerings. The expo will occur from October 26–27\, 2026\, 9:00 AM–5:00 PM\, at the Omni Frisco Hotel\, 11 Cowboys Way\, Frisco\, TX\, United States. For more details\, visit the official website. \nKey Details:Dates: October 26–27\, 2026Location: Omni Frisco HotelAddress: 11 Cowboys Way\, Frisco\, TX 75034\, USA \nIndustries & Audience: Sports\, Equipments for Amenity Areas\, Fashion – Clothing. \nVenue & Location\nThe PGA FALL EXPO 2026 will take place at the Omni Frisco Hotel\, located at 11 Cowboys Way\, Frisco\, TX\, USA. The venue provides excellent logistics for exhibitors\, including adequate move-in windows and dock access for setup. \nFrisco TX: Our Services\nWe DESIGN\, PRODUCE\, INSTALL & DISMANTLE turnkey booth rentals in Frisco\, TX. Our services encompass concept design\, modular frames\, branded SEG graphics\, reception and storage areas\, TV mounts\, and on-site installation & dismantling (I&D) services. \nCustom Booth Models\nExplore our popular footprints that cater to attendees in the sports\, equipment\, and fashion sectors. With options like 10×10\, 10×20\, and 20×20\, our Snap Exhibitions Custom Booth Models are tailored for your needs. Each size is designed to maximize engagement and visibility at the expo. \nOur full-service exhibit support ensures everything is managed from concept to completion\, helping you focus on attracting attendees. \nReady to make an impact? Contact our team today to learn more about your booth rental options! \nFAQ\nQ1: What is PGA FALL EXPO 2026 booth rental?A1: It offers exhibitors a chance to showcase their products at the premier Golf Industry convention. \nQ2: When is the PGA FALL EXPO 2026?A2: The event runs from October 26 to 27\, 2026\, from 9:00 AM to 5:00 PM. \nQ3: What are recommended booth sizes for the sports industry?A3: Popular sizes include 10×10 and 10×20\, which provide sufficient space for displays. \nQ4: Why are aluminium booths better than wood?A4: Aluminium booths are lighter\, more durable\, and often have a more modern aesthetic than traditional wood booths. \nQ5: What services does Frisco offer for exhibitors?A5: Frisco provides a vibrant market atmosphere and excellent venue logistics. \nQ6: What can I expect from the PGA FALL EXPO 2026?A6: Expect high-quality networking\, trendy product showcases\, and a chance to engage with industry leaders. \nQ7: How can SNAP EXHIBITIONS help with my booth needs?A7: We offer complete PGA FALL EXPO 2026 booth rental services\, ensuring that your exhibition is hassle-free and successful. \nIn summary\, that’s why choosing a PGA FALL EXPO 2026 booth rental is essential for connecting with industry professionals and buyers. For all your booth needs\, don’t hesitate to contact our team for a seamless exhibition experience!
URL:https://modex2026.com/event/pga-fall-expo-2026/
CATEGORIES:Equipments for Amenity Areas,Fashion - Clothing,Sports
END:VEVENT
BEGIN:VEVENT
DTSTART;TZID=UTC:20270511T090000
DTEND;TZID=UTC:20270513T235959
DTSTAMP:20260424T213129
CREATED:20251105T061425Z
LAST-MODIFIED:20251105T061425Z
UID:25747-1810026000-1810252799@modex2026.com
SUMMARY:TEXPROCESS AMERICAS 2027
DESCRIPTION:TEXPROCESS AMERICAS 2027 Booth Rental — Essential Guide & Custom Booth Options\nAbout TEXPROCESS AMERICAS 2027\nTEXPROCESS AMERICAS 2027 booth rental is an excellent opportunity to showcase your brand at this leading exhibition focused on the latest technology and equipment in fabrics and clothing textiles. Taking place from May 10–12\, 2027\, this event will gather industry professionals\, exhibitors\, and suppliers looking for innovative solutions for the development and production of sewn products. The exhibition provides a space for networking\, learning about new trends\, and discovering the latest advancements in the clothing machinery sector. \n\nKey Details:\nDate: May 10–12\, 2027\nLocation: Georgia World Congress Center\, 285 Andrew Young International Blvd.\, NW Atlanta\, Georgia 30313-1591\, United States\nMore Information: TexprocessAmericas.com\n\nIndustries & Audience: Clothing Machines\, Fabrics – Clothing Textiles\, Fashion – Clothing. \nVenue & Location\nThe TEXPROCESS AMERICAS 2027 will be held at the Georgia World Congress Center\, conveniently situated in Atlanta\, Georgia. This venue is known for exceptional facilities\, including ample space for exhibitors and easy access for attendees. Phone inquiries can be made to the venue if needed. \nAtlanta GA: Our Services\nAt SNAP EXHIBITIONS\, we DESIGN\, PRODUCE\, INSTALL & DISMANTLE turnkey booth rentals in this city. Our scope includes concept design\, modular frames\, branded SEG graphics\, reception/storage solutions\, TV mounts\, and on-site installation & dismantling services tailored to each exhibitor’s unique needs. \nCustom Booth Models\nOur popular booth footprints include: \n\n10×10: Ideal for small businesses looking to make a bold impression.\n10×20: Provides more space for engagement and interaction.\n20×20: Perfect for larger brands aiming for maximum visibility and presence.\n\nWe work closely with our clients to ensure our Snap Exhibitions Custom Booth Models meet their branding goals efficiently. For a complete experience\, we offer full-service exhibit support for seamless participation in the event. For any needs regarding booth design or installation\, contact our team today! \nFAQ\n\nWhat is TEXPROCESS AMERICAS 2027? TEXPROCESS AMERICAS 2027 is an exhibition focusing on equipment and technology for the clothing and textile industries.\nWhat are the event hours/dates? The event takes place from May 10–12\, 2027\, typically from 9:00 AM to 5:00 PM.\nWhat booth sizes do you recommend for Clothing industry sectors? We recommend sizes like 10×10\, 10×20\, or 20×20 based on space needs and interaction goals.\nWhy is an aluminum booth better than wood? Aluminum booths are lighter\, reusable\, and offer a sleek modern look compared to traditional wood booths.\nWhat should I know about Atlanta before attending TEXPROCESS AMERICAS? Atlanta is a vibrant city known for its rich culture and strong industry presence\, making it an excellent location for trade shows.\nHow can SNAP EXHIBITIONS help ensure everything is perfect about my booth? We provide complete turnkey booth rental services\, ensuring all aspects from design to execution are expertly handled for your success.\n\nOverall\, TEXPROCESS AMERICAS 2027 booth rental is your chance to shine at this premier event. We at SNAP EXHIBITIONS are eager to help you make an impact — contact us today for consultation!
URL:https://modex2026.com/event/texprocess-americas-2027/
CATEGORIES:Clothing Machines,Fabrics - Clothing Textiles,Fashion - Clothing
END:VEVENT
END:VCALENDAR