BEGIN:VCALENDAR
VERSION:2.0
PRODID:-//MODEX 2026 Atlanta — Local Booth Builder &amp; Rentals - ECPv6.15.13.1//NONSGML v1.0//EN
CALSCALE:GREGORIAN
METHOD:PUBLISH
X-ORIGINAL-URL:https://modex2026.com
X-WR-CALDESC:Events for MODEX 2026 Atlanta — Local Booth Builder &amp; Rentals
REFRESH-INTERVAL;VALUE=DURATION:PT1H
X-Robots-Tag:noindex
X-PUBLISHED-TTL:PT1H
BEGIN:VTIMEZONE
TZID:UTC
BEGIN:STANDARD
TZOFFSETFROM:+0000
TZOFFSETTO:+0000
TZNAME:UTC
DTSTART:20250101T000000
END:STANDARD
END:VTIMEZONE
BEGIN:VEVENT
DTSTART;TZID=UTC:20260116T090000
DTEND;TZID=UTC:20260117T235959
DTSTAMP:20260423T010101
CREATED:20251105T061707Z
LAST-MODIFIED:20251105T061707Z
UID:25753-1768554000-1768694399@modex2026.com
SUMMARY:FRANCHISE EXPO SOUTH 2026
DESCRIPTION:Franchise Expo South 2026 Booth Rental — Essential Solutions\nAbout Franchise Expo South 2026\nVenue & Location\nFort Lauderdale: Our Services\nCustom Booth Models\nFAQ\nAbout Franchise Expo South 2026\nFranchise Expo South 2026 booth rental is a fantastic opportunity for businesses in Fort Lauderdale. This event brings together hundreds of franchise concepts across various industries\, allowing visitors and exhibitors to make valuable connections. As an exhibitor\, you can gain direct access to the region’s most qualified prospects\, driving potential growth and long-lasting partnerships. This is your chance to showcase your franchise opportunity! \nKey Details: March 12–14\, 2026\, 9:00 AM–5:00 PM\, Greater Ft. Lauderdale – Broward County Convention Center\, 1950 Eisenhower Blvd. Fort Lauderdale 33316\, United States. For more information\, visit Franchise Expo South 2026. \nIndustries & Audience: Franchising\, Marketing & Selling\, Investors. \nVenue & Location\nJoin us at the Greater Ft. Lauderdale – Broward County Convention Center\, located at 1950 Eisenhower Blvd. in Fort Lauderdale\, United States. This venue is equipped with essential logistical features that facilitate easy access for exhibitors and visitors alike. \nFort Lauderdale: Our Services\nWe proudly DESIGN\, PRODUCE\, INSTALL & DISMANTLE turnkey booth rentals in Fort Lauderdale\, Florida. Our services encompass concept/design\, modular frames\, branded SEG graphics\, reception/storage\, and TV mount installations. We ensure you arrived ready to impress! \nCustom Booth Models\nExplore our popular booth footprints\, including 10×10\, 10×20\, and 20×20\, as they fit a variety of exhibitors in the franchising and marketing sectors. \nFor those interested in creative options\, check out our Snap Exhibitions Custom Booth Models. \nWe provide full-service exhibit support to help your booth stand out. \nIf you have questions or need assistance\, contact our team for a consultation tailored to your needs. \nFAQ\nQ1: What are the event hours for Franchise Expo South 2026?A1: The event will be held from March 12–14\, 2026\, from 9:00 AM to 5:00 PM. \nQ2: What is Franchise Expo South 2026 booth rental?A2: Franchise Expo South 2026 booth rental refers to the opportunity for businesses to showcase their franchise concepts at the expo. \nQ3: What booth sizes do you recommend for exhibitors in franchising sectors?A3: We typically recommend a 10×10 or 10×20 booth size to accommodate various displays while ensuring a welcoming atmosphere. \nQ4: Why is an aluminum booth better than wood?A4: Aluminum booths are lighter\, more durable\, and easier to transport and assemble compared to wooden ones. \nQ5: What advantages does Fort Lauderdale offer for exhibitors?A5: Fort Lauderdale’s location is pivotal for reaching diverse markets\, along with excellent amenities and access facilities. \nQ6: How can Snap Exhibitions help ensure everything is perfect about my booth?A6: We offer comprehensive services from design to installation\, ensuring a seamless and impactful exhibition experience for you. \nFranchise Expo South 2026 booth rental provides a premier opportunity for businesses to connect with potential franchisees. If you want to make your presence felt at this essential event\, contact our team today!
URL:https://modex2026.com/event/franchise-expo-south-2026/
CATEGORIES:Franchising,Investors,Marketing & Selling
END:VEVENT
END:VCALENDAR