BEGIN:VCALENDAR
VERSION:2.0
PRODID:-//MODEX 2026 Atlanta — Local Booth Builder &amp; Rentals - ECPv6.15.13.1//NONSGML v1.0//EN
CALSCALE:GREGORIAN
METHOD:PUBLISH
X-WR-CALNAME:MODEX 2026 Atlanta — Local Booth Builder &amp; Rentals
X-ORIGINAL-URL:https://modex2026.com
X-WR-CALDESC:Events for MODEX 2026 Atlanta — Local Booth Builder &amp; Rentals
REFRESH-INTERVAL;VALUE=DURATION:PT1H
X-Robots-Tag:noindex
X-PUBLISHED-TTL:PT1H
BEGIN:VTIMEZONE
TZID:UTC
BEGIN:STANDARD
TZOFFSETFROM:+0000
TZOFFSETTO:+0000
TZNAME:UTC
DTSTART:20250101T000000
END:STANDARD
END:VTIMEZONE
BEGIN:VEVENT
DTSTART;TZID=UTC:20260116T090000
DTEND;TZID=UTC:20260125T235959
DTSTAMP:20260423T064329
CREATED:20251106T105258Z
LAST-MODIFIED:20251106T105258Z
UID:25798-1768554000-1769385599@modex2026.com
SUMMARY:INDIANAPOLIS HOME SHOW 2026
DESCRIPTION:Indianapolis booth rental for INDIANAPOLIS HOME SHOW 2026 — Premium Solutions\nAbout INDIANAPOLIS HOME SHOW 2026\nVenue & Location\nIndianapolis IN: Our Services\nCustom Booth Models\nFAQ\nIndianapolis booth rental for INDIANAPOLIS HOME SHOW 2026\nThe INDIANAPOLIS HOME SHOW 2026 is a must-attend event for anyone in the home design and renovation industry. Visitors will discover innovative products while networking with hundreds of experts all under one roof. From kitchen and bathroom remodeling to furniture and lighting solutions\, there is something for everyone. \nKey Details: \n\nDates: Mar 15–17\, 9:00 AM–5:00 PM\nLocation: Indiana State Fairgrounds\nAddress: 1202 E. 38th Street Indianapolis\, IN 46205\nCountry: United States\n\nExplore the Home Show\, Renovations\, Kitchen & Bathroom\, Decoration\, Home & Office Design\, Furniture\, Lighting\, Gardening sectors. \nVenue & Location\nThe Indiana State Fairgrounds is located conveniently in the heart of Indianapolis\, making it accessible for all attendees. With ample logistics\, including efficient move-in windows and general access for exhibitors\, it provides an ideal location for showcasing your products. \nIf you need assistance\, feel free to reach out at Phone. \nIndianapolis IN: Our Services\nIn Indianapolis\, IN\, we DESIGN\, PRODUCE\, INSTALL & DISMANTLE turnkey booth rentals. We offer a comprehensive range of services including concept/design\, modular frames\, branded SEG graphics\, and ample reception/storage units. Our on-site installation and dismantle ensure a seamless experience for exhibitors. \nCustom Booth Models\nWe feature popular booth footprints like: \n\n10×10: Perfect for small brands to make a significant impact.\n10×20: Ideal for showcasing multiple products or features.\n20×20: Best suited for larger presentations and gathering crowds.\n\nFor more information about our booth options\, check out our Snap Exhibitions Custom Booth Models. We provide full-service exhibit support throughout the event. If you have more inquiries or wish to create a standout exhibition\, contact our team today! \nFAQ\nQ: What is Indianapolis booth rental for INDIANAPOLIS HOME SHOW 2026? \nA: It’s a service that provides exhibitors with fully designed and constructed booths for the show. \nQ: When is the INDIANAPOLIS HOME SHOW 2026? \nA: The show runs from Mar 15 to Mar 17\, open from 9:00 AM to 5:00 PM each day. \nQ: What booth sizes do you recommend for the Home Show sectors? \nA: We suggest 10×10 for smaller displays\, 10×20 for more extensive presentations\, and 20×20 for creating larger immersive experiences. \nQ: Why would an aluminum booth be better than wood? \nA: Aluminum booths are lighter\, more durable\, and often allow for more creative design possibilities than traditional wood constructs. \nQ: What can I expect from the Indianapolis area during the home show? \nA: Indianapolis offers numerous attractions and a welcoming atmosphere for home design professionals and enthusiasts alike. \nQ: How can SNAP EXHIBITIONS help me make my booth perfect? \nA: We offer tailored services that ensure your exhibition space is not only visually appealing but also functional through our turnkey booth rentals. \nJoin us at the Indianapolis booth rental for INDIANAPOLIS HOME SHOW 2026 and take your exhibition experience to the next level! Contact us now!
URL:https://modex2026.com/event/indianapolis-home-show-2026/
CATEGORIES:Decoration,Furniture,Gardening,Home & Office Design,Home Show,Kitchen & Bathroom,Lighting,Renewal - Renovations
END:VEVENT
BEGIN:VEVENT
DTSTART;TZID=UTC:20260123T090000
DTEND;TZID=UTC:20260125T235959
DTSTAMP:20260423T064329
CREATED:20251105T060322Z
LAST-MODIFIED:20251105T060322Z
UID:25727-1769158800-1769385599@modex2026.com
SUMMARY:NORTH ATLANTA HOME SHOW 2026
DESCRIPTION:NORTH ATLANTA HOME SHOW 2026 Booth Rental — Ultimate Exhibitor Guide\n#show\n#venue\n#city-services\n#booth-models\n#faq\nNORTH ATLANTA HOME SHOW 2026: Overview\nNORTH ATLANTA HOME SHOW 2026 booth rental is your go-to solution in Duluth for showcasing innovative home products and services. As one of the premier home shows\, it attracts a diverse audience eager to explore renovations\, kitchen and bathroom designs\, heating and air conditioning innovations\, decoration tips\, office design\, furniture options\, lighting solutions\, and gardening ideas. Being at this event connects you with hundreds of experts\, enhancing your exposure and potential sales.  \nKey Details:\nDates: Jun 24–25\, 2026\, 10:00 AM–6:00 PM\nLocation: Gas South Convention Center\nAddress: 6400 Sugarloaf Pkwy\, Duluth\, GA 30097\, USA \nIndustries & Audience: Home Show\, Renovations\, Kitchen & Bathroom\, Heating – Air Conditioning\, Decoration\, Home & Office Design\, Furniture\, Lighting\, Gardening. \nVenue & Location\nGas South Convention Center in Duluth\, GA is positioned centrally\, making it easily accessible for visitors and exhibitors alike. The venue provides ample space for booths and networking opportunities\, with convenient move-in windows and dock access to facilitate setup. \nReach us at our phone number for any inquiries. \nDuluth GA: Our Services\nWe DESIGN\, PRODUCE\, INSTALL & DISMANTLE turnkey booth rentals in Duluth\, GA. At this city\, we manage everything from concept to design\, using modular frames\, branded SEG graphics\, and offering amenities such as reception/storage setups and TV mounts to enhance your booth experience. \nCustom Booth Models\nWe offer a variety of booth footprints tailored to meet the expectations of attendees from sectors including those mentioned. Popular options include: \n\n10×10: Ideal for newcomers\, this size offers a compact yet impactful presence.\n10×20: A mid-sized option that allows for more elaborate displays and product showcases.\n20×20: Perfect for established brands looking to make a bold statement and engage attendees fully.\n\nCheck out our Snap Exhibitions Custom Booth Models for more options\, or explore our full-service exhibit support. \nFor inquiries\, contact our team for assistance in making your booth perfect. \nFAQ\n\nWhat is the NORTH ATLANTA HOME SHOW 2026 booth rental?NORTH ATLANTA HOME SHOW 2026 booth rental refers to the rental space for exhibitors at the event\, allowing them to showcase their products.\nWhen are the event hours for NORTH ATLANTA HOME SHOW 2026?The event runs from Jun 24–25\, 2026\, from 10:00 AM to 6:00 PM each day.\nWhat booth sizes are recommended for the Home Show and Renovation categories?Popular sizes include 10×10 for newcomers\, 10×20 for mid-level exhibitors\, and 20×20 for large brands.\nWhy is an aluminum booth better than wood?Aluminum booths are lightweight\, durable\, and allow for more modular designs compared to traditional wood structures.\nWhat local attractions are near the Gas South Convention Center?Explore Duluth’s vibrant dining and entertainment scene within a short distance from the venue.\nWhat can I expect at the NORTH ATLANTA HOME SHOW 2026?Expect to meet industry leaders\, gain insights\, and explore the latest home innovations.\nHow can SNAP EXHIBITIONS help me make everything perfect about my booth?We provide comprehensive services that cover booth design\, installation\, and support throughout the event.\n\nTo secure your booth space at the NORTH ATLANTA HOME SHOW 2026 booth rental\, contact our team today for a seamless experience!
URL:https://modex2026.com/event/north-atlanta-home-show-2026/
CATEGORIES:Decoration,Furniture,Gardening,Heating - Air Conditioning,Home & Office Design,Home Show,Kitchen & Bathroom,Lighting,Renewal - Renovations
END:VEVENT
BEGIN:VEVENT
DTSTART;TZID=UTC:20260123T090000
DTEND;TZID=UTC:20260125T235959
DTSTAMP:20260423T064329
CREATED:20251110T044258Z
LAST-MODIFIED:20251110T044258Z
UID:26074-1769158800-1769385599@modex2026.com
SUMMARY:OKLAHOMA CITY HOME + GARDEN SHOW 2026
DESCRIPTION:Oklahoma City booth rental — Exhibitor Guide & Custom Booth Options\nAbout Oklahoma City Home + Garden Show 2026\nOklahoma City booth rental is essential for showcasing your products effectively at the upcoming Oklahoma City Home + Garden Show 2026. This event brings together innovative products and hundreds of experts\, providing a perfect platform for exhibitors to engage with a targeted audience. Attendees can expect to gain insights into home renovations\, gardening tips\, and the latest products\, ensuring your display makes a significant impact. \n\nKey Details: Mar 25–27\, 2026\, 10:00 AM–6:00 PM\, OKC Fairground\, 3001 General Pershing Blvd\, Oklahoma City\, OK 73107\, United States.\nIndustries & Audience: Home Show\, Renovations\, Kitchen & Bathroom\, Heating & Air Conditioning\, Decoration\, Home & Office Design\, Furniture\, Lighting\, and Gardening.\n\nVenue & Location\nThe event will take place at OKC Fairground\, located at 3001 General Pershing Blvd\, Oklahoma City\, OK 73107\, United States. This venue has convenient access for move-ins and logistics\, making it suitable for exhibitors. We recommend planning ahead for smooth setup and takedown\, utilizing the dock access available for your booth materials. \nFor inquiries\, reach us at the venue phone number. \nOklahoma City OK: Our Services\nWe DESIGN\, PRODUCE\, INSTALL & DISMANTLE turnkey booth rentals in Oklahoma City. Our services cover everything from concept and design to modular frames\, branded SEG graphics\, storage and reception areas\, TV mounts\, and on-site installation and dismantle services. \nCustom Booth Models\nOur booth rental solutions include popular footprints such as: \n\n10×10 – Ideal for small setups focusing on individual products.\n10×20 – Perfect for brands wanting to make a larger statement.\n20×20 – Suited for expansive displays that attract significant foot traffic.\n\nOur full-service exhibit support ensures your booth meets the specific needs of your target audience in these key sectors. \nFAQ\n\nWhat is Oklahoma City booth rental? Oklahoma City booth rental involves renting a customizable space at trade shows to effectively showcase products and services.\nWhat are the hours and dates for the Oklahoma City Home + Garden Show? The show runs from Mar 25–27\, 2026\, from 10:00 AM to 6:00 PM.\nWhat booth sizes are recommended for the Home Show category? We recommend sizes like 10×10 for smaller exhibits and 10×20 or 20×20 for brands looking to make a bigger impact.\nWhy is an aluminum booth better than wood? Aluminum booths are lighter\, more durable and can be designed with sleek lines for modern aesthetics compared to traditional wood booths.\nWhat can I expect from the Oklahoma City Home + Garden Show? Expect a vibrant atmosphere with numerous exhibitors showcasing the latest in home and garden innovations.\nHow can SNAP EXHIBITIONS help me perfect my booth? We work with you closely\, ensuring that every aspect of your booth aligns with your vision and meets all logistical requirements.\nWhat services does SNAP EXHIBITIONS offer? We provide comprehensive booth rentals including design\, production\, installation\, and dismantle services\, ensuring a seamless experience.\n\nMake the most of your presence at the Oklahoma City Home + Garden Show 2026 with our Oklahoma City booth rental. For more information and to get started\, contact our team today!
URL:https://modex2026.com/event/oklahoma-city-home-garden-show-2026/
CATEGORIES:Decoration,Furniture,Gardening,Heating - Air Conditioning,Home & Office Design,Home Show,Kitchen & Bathroom,Lighting,Renewal - Renovations
END:VEVENT
END:VCALENDAR