BEGIN:VCALENDAR
VERSION:2.0
PRODID:-//MODEX 2026 Atlanta — Local Booth Builder &amp; Rentals - ECPv6.15.13.1//NONSGML v1.0//EN
CALSCALE:GREGORIAN
METHOD:PUBLISH
X-ORIGINAL-URL:https://modex2026.com
X-WR-CALDESC:Events for MODEX 2026 Atlanta — Local Booth Builder &amp; Rentals
REFRESH-INTERVAL;VALUE=DURATION:PT1H
X-Robots-Tag:noindex
X-PUBLISHED-TTL:PT1H
BEGIN:VTIMEZONE
TZID:UTC
BEGIN:STANDARD
TZOFFSETFROM:+0000
TZOFFSETTO:+0000
TZNAME:UTC
DTSTART:20250101T000000
END:STANDARD
END:VTIMEZONE
BEGIN:VEVENT
DTSTART;TZID=UTC:20260504T090000
DTEND;TZID=UTC:20260506T235959
DTSTAMP:20260422T182334
CREATED:20251106T030257Z
LAST-MODIFIED:20251106T030257Z
UID:25776-1777885200-1778111999@modex2026.com
SUMMARY:CERAMICS EXPO 2026
DESCRIPTION:CERAMICS EXPO 2026 booth rental — Impactful Exhibitor Guide & Custom Booth Options\nAbout CERAMICS EXPO 2026\nCERAMICS EXPO 2026 booth rental is your key to making a significant impact at this notable exhibition dedicated to the ceramic industry supply chain. Attendees can learn about the latest industry developments\, source next-generation materials\, and forge valuable business connections during this vibrant event. \nKey Details: Apr 25–27\, 9:00 AM–5:00 PM\, Huntington Convention Center of Cleveland\, 300 Lakeside Ave E\, Cleveland\, OH 44113\, United States. For more information\, visit CERAMICS EXPO 2026 website. \nIndustries & Audience: Advanced Materials\, Stone\, Marble & Ceramics\, Sciences for Engineers – Research & Development\, Aeronautics – Space\, Automotive Engineering – Systems & Components\, Decoration\, Home & Office Design\, Furniture\, Lighting. \nVenue & Location\nThe event will be held at the Huntington Convention Center of Cleveland\, located at 300 Lakeside Ave E\, Cleveland\, OH 44113\, United States. The venue offers excellent logistics with ample space for move-in and dock access to facilitate exhibitors. \nCleveland OH: Our Services\nIn Cleveland\, we design\, produce\, install & dismantle turnkey booth rentals. Our services encompass everything from concept design to branded SEG graphics\, reception areas\, and storage solutions\, ensuring your exhibition presence is seamless and impactful. \nCustom Booth Models\nWe offer a range of popular booth footprints\, including: \n\n10×10: Ideal for start-ups looking to make a strong entrance.\n10×20: A fantastic choice for established companies wanting to optimize visibility.\n20×20: Perfect for brands requiring significant engagement space and interactivity.\n\nLearn more about our Snap Exhibitions Custom Booth Models. For comprehensive support tailored to your needs\, don’t hesitate to utilize our full-service exhibit support. Ready to elevate your presence at CERAMICS EXPO 2026? Contact our team today! \nFAQ\nWhat are the dates and hours of CERAMICS EXPO 2026? The event runs from Apr 25 to Apr 27\, 2026\, from 9:00 AM to 5:00 PM. \nHow can I benefit from a CERAMICS EXPO 2026 booth rental? With our last booth\, you’ll maximize your visibility and enhance engagement\, ensuring your presence is impactful. \nWhat is the recommended booth size for the categories represented at this event? Depending on the purpose\, we recommend the 10×20 or 20×20 formats for ample engagement. \nWhy is an aluminum booth better than wood? Aluminum booths are lighter\, more durable\, and provide greater design flexibility compared to traditional wood booths. \nWhat services does SNAP EXHIBITIONS offer for CERAMICS EXPO 2026 in Cleveland? We provide comprehensive support\, including design\, installation\, and dismantling of booth rentals tailored to your needs. \nWhat can I expect at CERAMICS EXPO 2026? Attendees can look forward to networking opportunities and insights into the latest ceramic technologies and materials. \nHow can SNAP EXHIBITIONS help me make everything perfect about my booth? We handle every detail to ensure your booth is visually captivating and operationally smooth. Reach out to us to see how we can help! \nIf you’re looking for a strong presence at the event\, our CERAMICS EXPO 2026 booth rental is your best choice—connect with us now at Snap Exhibitions!
URL:https://modex2026.com/event/ceramics-expo-2026/
CATEGORIES:Advanced Materials,Aeronautics - Space,Automotive Engineering - Systems & Components,Decoration,Furniture,Home & Office Design,Lighting,Marble & Ceramics,Sciences for Engineers - Research & Development,Stone
END:VEVENT
BEGIN:VEVENT
DTSTART;TZID=UTC:20260505T090000
DTEND;TZID=UTC:20260507T235959
DTSTAMP:20260422T182334
CREATED:20251109T193906Z
LAST-MODIFIED:20251109T193906Z
UID:25930-1777971600-1778198399@modex2026.com
SUMMARY:HD EXPO + CONFERENCE 2026
DESCRIPTION:HD EXPO + CONFERENCE 2026 Booth Rental — Ultimate Guide\nAbout HD EXPO + CONFERENCE 2026\nVenue & Location\nLas Vegas: Our Services\nCustom Booth Models\nFAQ\nAbout HD EXPO + CONFERENCE 2026\nHD EXPO + CONFERENCE 2026 in Las Vegas is an exceptional opportunity for businesses in the *Catering & Hospitality Industries*\, *Retail & Shop Fitting Equipment & Service*\, *Architecture*\, *Decoration*\, *Home & Office Design*\, *Furniture*\, and *Lighting*. This expo is more than just a showcase; it fosters enduring business relationships\, inspires innovative concepts\, and drives product innovation. \nKey Details:\n**Dates:** Oct 28–30\, 2026\n**Location:** Mandalay Bay Convention Center\n**Address:** 3950 Las Vegas Blvd. South\, Las Vegas\, Nevada\, 89119\, USA\n**Website:** [Visit Event Website](http://www.hdexpo.com)   \nVenue & Location\nThe HD EXPO + CONFERENCE 2026 will take place at the *Mandalay Bay Convention Center* located at 3950 Las Vegas Blvd. South\, Las Vegas\, Nevada\, USA. This venue offers excellent logistics for exhibitors with convenient access points to help in setting up your booth effectively. \nLas Vegas: Our Services\nIn Las Vegas\, we DESIGN\, PRODUCE\, INSTALL & DISMANTLE turnkey **booth rentals**. We handle everything from **concept/design** to modular frames\, branded SEG graphics\, and on-site installation & dismantling. Your booth rental in Las Vegas includes everything you need for a successful show. \nCustom Booth Models\nFor our clients\, we provide a variety of booth sizes such as 10×10\, 10×20\, and 20×20 options. These footprints are particularly suited for *Catering & Hospitality Industries* and *Retail & Shop Fitting Equipment & Service* sectors. Each rental is tailored for maximum engagement. For more details\, check out our [Snap Exhibitions Custom Booth Models](https://snapexhibitions.com/works/las-vegas-custom-booth-models/). We also offer [full-service exhibit support](https://snapexhibitions.com/pages/services-snap-exhibitions/) to ensure smooth execution. \nFor inquiries\, feel free to [contact our team](https://snapexhibitions.com/contact-snap-exhibitions/). \nFAQ\n**Q: What is HD EXPO + CONFERENCE 2026?**\n*A: HD EXPO + CONFERENCE 2026 is a premier event for the hospitality design industry\, designed to connect professionals and drive innovation.*   \n**Q: What are the event hours for HD EXPO + CONFERENCE 2026?**\n*A: The event runs from Oct 28–30\, 2026\, with specific hours to be announced closer to the date.*   \n**Q: What booth sizes do you recommend for the hospitality category?**\n*A: Common recommended sizes are 10×10 and 10×20\, which provide ample space for display while facilitating visitor engagement.*   \n**Q: Why is an aluminum booth better than wood?**\n*A: Aluminum booths are lighter\, more durable\, and offer better modularity compared to wood\, making setup and transportation easier.*   \n**Q: What services do you offer in Las Vegas for the booth rental?**\n*A: We offer a full suite of services including design\, production\, installation\, and dismantling right here in Las Vegas.*   \n**Q: How can SNAP EXHIBITIONS ensure a perfect booth experience?**\n*A: We take care of every detail from design to execution\, ensuring your booth is a perfect fit for showcasing your brand effectively.*   \n**Q: Where is Mandalay Bay Convention Center located?**\n*A: It is located at 3950 Las Vegas Blvd. South\, Las Vegas\, Nevada\, 89119\, USA.*   \nIn conclusion\, if you’re looking for HD EXPO + CONFERENCE 2026 booth rental\, we are here to help make your experience seamless and impactful. Reach out to us at [Snap Exhibitions](https://snapexhibitions.com/contact-snap-exhibitions/) to get started!
URL:https://modex2026.com/event/hd-expo-conference-2026/
CATEGORIES:Architecture,Catering & Hospitality Industries,Decoration,Furniture,Home & Office Design,Lighting,Retail & Shop Fitting Equipment & Service
END:VEVENT
BEGIN:VEVENT
DTSTART;TZID=UTC:20260609T090000
DTEND;TZID=UTC:20260610T235959
DTSTAMP:20260422T182334
CREATED:20251106T105543Z
LAST-MODIFIED:20251106T105543Z
UID:25804-1780995600-1781135999@modex2026.com
SUMMARY:BCB - BAR CONVENT BROOKLYN 2026
DESCRIPTION:BCB – BAR CONVENT BROOKLYN 2026 booth rental — Premium Exhibitor Guide & Custom Booth Options\nAbout BCB – BAR CONVENT BROOKLYN 2026\nAt BCB – BAR CONVENT BROOKLYN 2026 booth rental\, bar and beverage professionals gather to network with peers and learn about new trends\, techniques\, and products in domestic and international markets. Attendees will benefit from an array of opportunities to showcase their services and connect with industry leaders. The event highlights categories such as Catering & Hospitality Industries\, Wine & Spirits – Viticulture & Enology – Beer\, Retail & Shop Fitting Equipment & Service\, Decoration\, Home & Office Design\, Furniture\, Lighting\, Marketing & Selling. \n\nKey Details:\nDate: Jun 10–12\, 2026\, 9:00 AM–5:00 PM\nLocation Name: Industry City\nAddress: 220 36th St 2A\, Brooklyn\, NY 11232\nCountry: United States\n\nVenue & Location\nThe event will take place at Industry City\, located at 220 36th St 2A\, Brooklyn\, NY 11232\, United States. The venue offers convenient logistics with sufficient access for move-in and onsite support. \nBrooklyn NY: Our Services\nWe DESIGN\, PRODUCE\, INSTALL & DISMANTLE turnkey booth rentals in Brooklyn NY. Our services cover everything from concept and design to modular frames\, branded SEG graphics\, reception/storage areas\, TV mounts\, and on-site installation and dismantling. \nCustom Booth Models\nConsider our Snap Exhibitions Custom Booth Models tailored for your needs. Popular footprints like 10×10\, 10×20\, and 20×20 work well for professionals in the mentioned categories\, providing adequate space for engaging customers. \nAt BCB\, a full-service exhibit support experience is essential\, providing fruitful networks and collaborations. Click for our full-service exhibit support. For inquiries\, contact our team for your custom solutions. \nFAQ\n\nWhat is BCB – BAR CONVENT BROOKLYN 2026 booth rental?\nBCB – BAR CONVENT BROOKLYN 2026 booth rental involves creating custom booths for exhibitors to showcase their products and services at the event.\nWhat are the event hours for BCB – BAR CONVENT BROOKLYN 2026?\nThe event will take place from Jun 10–12\, 2026\, from 9:00 AM to 5:00 PM.\nWhat recommended booth sizes work best for the Catering & Hospitality Industries?\nPopular booth sizes include 10×10 for individual displays\, 10×20 for more substantial setups\, and 20×20 for extensive showcases.\nWhy is an aluminum booth better than wood?\nAluminum booths are typically lighter\, more robust and easier to customize than wooden structures\, making them a preferred choice for flexibility and design.\nWhat can I expect at BCB – BAR CONVENT BROOKLYN 2026?\nYou can expect engaging networking opportunities\, insightful discussions on trends\, and a display of various industry innovations.\nHow can SNAP EXHIBITIONS help make my booth perfect?\nWe offer comprehensive booth rental solutions\, managing design\, production\, setup\, and dismantling for a stress-free experience.\n\nAs a leading provider of BCB – BAR CONVENT BROOKLYN 2026 booth rental\, we are committed to delivering unforgettable experiences. Contact us today to get started!
URL:https://modex2026.com/event/bcb-bar-convent-brooklyn-2026/
CATEGORIES:Catering & Hospitality Industries,Decoration,Furniture,Home & Office Design,Lighting,Marketing & Selling,Retail & Shop Fitting Equipment & Service,Wine & Spirits - Viticulture & Enology - Beer
END:VEVENT
BEGIN:VEVENT
DTSTART;TZID=UTC:20260627T090000
DTEND;TZID=UTC:20260628T235959
DTSTAMP:20260422T182334
CREATED:20251109T203622Z
LAST-MODIFIED:20251109T203622Z
UID:26024-1782550800-1782691199@modex2026.com
SUMMARY:LAKESHORE ART FESTIVAL IN MUSKEGON 2026
DESCRIPTION:LAKESHORE ART FESTIVAL IN MUSKEGON 2026 — Exhibitor Guide & Premium Booth Rentals\nAbout Lakeshore Art Festival in Muskegon 2026\nLAKESHORE ART FESTIVAL IN MUSKEGON 2026 booth rental offers a fantastic opportunity to showcase your talents in the vibrant Downtown Muskegon. This festival celebrates fine art\, handcrafted goods\, music\, and food\, making it a must-attend event for enthusiasts of all things creative. Exhibitors will benefit from engaging an audience that appreciates unique artistic expressions. \nKey Details:\nDates: Jun 30 – Jul 2\, 2026\nLocation: Muskegon\, MI\nAddress: USA\nEvent website: Lakeshore Art Festival \nIndustries & Audience: Handicraft Products\, Collectors – Hobby\, Decoration\, Home & Office Design\, Furniture\, Lighting\, Art and Antiques. \nVenue & Location\nThe Lakeshore Art Festival will take place at Muskegon\, MI\, USA. This central venue offers easy accessibility and logistical support for moving in and out during the event. Although no phone number is provided\, attendees will find the location accommodating for set up. \nMuskegon\, MI: Our Services\nWe DESIGN\, PRODUCE\, INSTALL & DISMANTLE turnkey booth rentals in Muskegon\, MI. We provide a range of services including concept development\, modular frame setups\, branded SEG graphics\, reception areas\, storage solutions\, and TV mounting services to ensure your booth stands out. \nCustom Booth Models\nWe offer Snap Exhibitions Custom Booth Models that accommodate various footprints like 10×10\, 10×20\, and 20×20\, ideal for attracting visitors interested in our listed categories. Explore our full-service exhibit support for all your exhibition needs\, and contact our team today to start planning your ideal booth. \nFAQ\nWhat is the Lakeshore Art Festival in Muskegon 2026 booth rental?\nIt’s a rental option that allows exhibitors to showcase their unique creations at a vibrant festival. \nWhat are the dates and hours for the event?\nThe event will be held from Jun 30 to Jul 2\, 2026. \nWhat booth sizes are recommended for the handicraft products sector?\nBooths in the 10×10 and 10×20 sizes tend to be popular among exhibitors showcasing handicraft products. \nWhy is an aluminum booth better than wood?\nAluminum booths are generally lighter\, offer better durability\, and allow for more sophisticated design options compared to wood. \nWhat can I expect from the Lakeshore Art Festival in Muskegon?\nExpect a vibrant atmosphere with a blend of fine arts\, food\, and community engagement. \nHow can SNAP EXHIBITIONS help ensure my booth is perfect?\nWe specialize in turnkey solutions\, managing every detail from design to installation\, so you can focus on your exhibition goals. \nIn summary\, LAKESHORE ART FESTIVAL IN MUSKEGON 2026 booth rental is your chance to shine in a vibrant artistic environment. Don’t hesitate—contact us today to secure your booth space and be part of this exciting festival!
URL:https://modex2026.com/event/lakeshore-art-festival-in-muskegon-2026/
CATEGORIES:Art and Antiques,Collectors - Hobby,Decoration,Furniture,Handicraft Products,Home & Office Design,Lighting
END:VEVENT
BEGIN:VEVENT
DTSTART;TZID=UTC:20260709T090000
DTEND;TZID=UTC:20260712T235959
DTSTAMP:20260422T182334
CREATED:20251109T203507Z
LAST-MODIFIED:20251109T203507Z
UID:26021-1783587600-1783900799@modex2026.com
SUMMARY:INTERNATIONAL FOLK ART MARKET 2026
DESCRIPTION:INTERNATIONAL FOLK ART MARKET booth rental — Essential Exhibitor Guide & Custom Booth Options\nAbout INTERNATIONAL FOLK ART MARKET\nINTERNATIONAL FOLK ART MARKET booth rental provides a great opportunity for exhibitors to showcase their unique offerings. This vibrant event draws attention to textiles\, handmade jewelry\, and much more\, ensuring each booth stands out. Visitors can connect with artisans\, explore diverse cultures\, and experience folk art and music like never before. Key Details: \n\nDates: Nov 6–8\, 2026\, 9:00 AM–5:00 PM\nLocation: Museum Hill\, 710 Camino Lejo\, Santa Fe\, NM\, United States\nWebsite: Visit Here\n\nThe INDUSTRIES & AUDIENCE for this event include Handicraft Products\, Fashion – Clothing\, Decoration\, Home & Office Design\, Furniture\, Lighting\, Music. Exhibitors can expect to attract a diverse audience eager to experience the richness of folk art. \nVenue & Location\nThe event will take place at the Museum Hill\, located at 710 Camino Lejo\, Santa Fe\, NM\, USA. The venue offers spacious areas for booth setups\, ensuring seamless access for logistics. Attendees will find convenient docking facilities for easy move-in. \nSanta Fe\, NM: Our Services\nWe DESIGN\, PRODUCE\, INSTALL & DISMANTLE turnkey booth rentals in Santa Fe\, NM. Our service scope includes customized concept design\, modular frames\, branded SEG graphics\, reception/storage areas\, TV mounts\, and on-site installation and dismantling services. We aim to streamline your experience\, allowing you to focus on connecting with your audience. \nCustom Booth Models\nExplore our options\, including popular footprints like 10×10\, 10×20\, and 20×20 that perfectly meet the needs of exhibitors in the Handicraft Products\, Fashion\, Decoration\, and Home Design sectors. For detailed designs\, check out our Snap Exhibitions Custom Booth Models to see how we can elevate your presence. \nAdditionally\, with our full-service exhibit support\, we handle everything needed to set your booth up for success. If you’re looking for a specific design or support structure\, contact our team for personalized consultation. \nFAQ\nQ: What is the INTERNATIONAL FOLK ART MARKET booth rental?A: It’s an opportunity to exhibit at a vibrant festival celebrating various folk art forms. \nQ: When does the INTERNATIONAL FOLK ART MARKET take place?A: The event runs from Nov 6–8\, 2026\, from 9:00 AM to 5:00 PM. \nQ: What booth sizes do you recommend for exhibitors in the fashion and decoration sectors?A: We suggest 10×20 or 20×20 booths for optimal exposure and engagement. \nQ: Why is an aluminum booth better than wood?A: Aluminum booths are lighter\, more durable\, and easier to assemble compared to traditional wood options. \nQ: What can attendees expect in Santa Fe during the market?A: They can enjoy a rich assortment of folk art\, engage with artists\, and participate in cultural activities. \nQ: How can SNAP EXHIBITIONS help in making everything perfect about their booth?A: We offer comprehensive services from design to execution\, ensuring your booth meets all expectations. \nINTERNATIONAL FOLK ART MARKET booth rental is your pathway to an unforgettable exhibition experience. For customized solutions that captivate\, contact us today at Snap Exhibitions.
URL:https://modex2026.com/event/international-folk-art-market-2026/
CATEGORIES:Decoration,Fashion - Clothing,Furniture,Handicraft Products,Home & Office Design,Lighting,Music
END:VEVENT
END:VCALENDAR