BEGIN:VCALENDAR
VERSION:2.0
PRODID:-//MODEX 2026 Atlanta — Local Booth Builder &amp; Rentals - ECPv6.15.20//NONSGML v1.0//EN
CALSCALE:GREGORIAN
METHOD:PUBLISH
X-ORIGINAL-URL:https://modex2026.com
X-WR-CALDESC:Events for MODEX 2026 Atlanta — Local Booth Builder &amp; Rentals
REFRESH-INTERVAL;VALUE=DURATION:PT1H
X-Robots-Tag:noindex
X-PUBLISHED-TTL:PT1H
BEGIN:VTIMEZONE
TZID:UTC
BEGIN:STANDARD
TZOFFSETFROM:+0000
TZOFFSETTO:+0000
TZNAME:UTC
DTSTART:20240101T000000
END:STANDARD
END:VTIMEZONE
BEGIN:VEVENT
DTSTART;TZID=UTC:20251105T090000
DTEND;TZID=UTC:20251108T235959
DTSTAMP:20260424T211912
CREATED:20251105T060421Z
LAST-MODIFIED:20251105T060421Z
UID:25729-1762333200-1762646399@modex2026.com
SUMMARY:THE SMOKY MOUNTAIN GIFT SHOW 2025
DESCRIPTION:THE SMOKY MOUNTAIN GIFT SHOW 2025 BOOTH RENTAL — Ultimate Exhibitor Guide & Custom Booth Options\nAbout THE SMOKY MOUNTAIN GIFT SHOW 2025\nVenue & Location\nGatlinburg TN: Our Services\nCustom Booth Models\nFAQ\nTHE SMOKY MOUNTAIN GIFT SHOW 2025 — Your Gateway to New Trends\nWelcome to THE SMOKY MOUNTAIN GIFT SHOW 2025\, the place for gift and souvenir retailers to discover the latest trends in the gifts & souvenirs sector. At this show\, you will be able to browse new trends and shop the latest products from the top brands in the gift & souvenir business. Connect with industry leaders and enhance your offerings to customers. \n\nKey Details: Jan 15–17\, 9:00 AM–5:00 PM\nLocation: Gatlinburg Convention Center\nAddress: 303 Reagan Drive\, Gatlinburg\, TN 37738\, USA\nIndustries & Audience: Gifts & Souvenirs\, Decoration\, Home & Office Design\, Furniture\, Lighting\, Handicraft Products\, Catering & Hospitality.\n\nVenue & Location\nThe Gatlinburg Convention Center is strategically located at 303 Reagan Drive\, Gatlinburg\, TN 37738\, USA. This venue is equipped with facilities that support easy logistics for exhibitors. Central access and proximity to major attractions make it a favored spot for events. \nFor inquiries\, feel free to reach us at the given phone number. \nGatlinburg TN: Our Services\nIn Gatlinburg TN\, we design\, produce\, install\, and dismantle turnkey booth rentals. Our services encompass concept/design\, modular frames\, branded SEG graphics\, reception/storage areas\, TV mounts\, and on-site installation & dismantling. We ensure that your booth stands out\, making a significant impact in connecting with visitors. \nCustom Booth Models\nFor your needs at THE SMOKY MOUNTAIN GIFT SHOW 2025\, we offer various booth sizes like 10×10\, 10×20\, and 20×20. Each model is tailored to fit your specific industry needs. For more details\, visit our Snap Exhibitions Custom Booth Models. \nMoreover\, we provide full-service exhibit support to ensure that all elements of your exhibit are seamless and professional.  \nIf you’re ready to enhance your exhibit experience\, don’t hesitate to contact our team to find out how we can help. \nFAQ\nWhat is THE SMOKY MOUNTAIN GIFT SHOW 2025 booth rental? \nYour ticket to unparalleled visibility and engagement at the trade show! \nWhat are the event hours for THE SMOKY MOUNTAIN GIFT SHOW 2025? \nThe show will take place from Jan 15 to Jan 17\, 9:00 AM to 5:00 PM. \nWhat booth sizes are recommended for the gifts & souvenirs sector? \nWe typically recommend 10×10 or 10×20 booths for optimal visibility in the gifts & souvenirs market. \nWhy is an aluminum booth better than wood? \nAluminum is lighter\, more durable\, and easier to assemble. This makes it ideal for temporary setups at trade shows. \nWhat can I expect at THE SMOKY MOUNTAIN GIFT SHOW 2025? \nExpect to connect with top suppliers and see exciting new products to enrich your inventory. \nHow can SNAP EXHIBITIONS help me make everything perfect about my booth? \nWe provide comprehensive turnkey booth rentals that cater to every aspect of your exhibit\, ensuring a flawless experience. \nJoin us at THE SMOKY MOUNTAIN GIFT SHOW 2025 and explore the benefits of our booth rental options. We can’t wait to help you shine at this vibrant event! For more information\, contact our team today!
URL:https://modex2026.com/event/the-smoky-mountain-gift-show-2025/
CATEGORIES:Catering & Hospitality Industries,Decoration,Furniture,Gifts & Souvenirs,Handicraft Products,Home & Office Design,Lighting
END:VEVENT
BEGIN:VEVENT
DTSTART;TZID=UTC:20251010T090000
DTEND;TZID=UTC:20251013T235959
DTSTAMP:20260424T211912
CREATED:20251109T195956Z
LAST-MODIFIED:20251109T195956Z
UID:25970-1760086800-1760399999@modex2026.com
SUMMARY:JIS FALL 2025
DESCRIPTION:JIS FALL 2025 booth rental — Essential Exhibitor Guide & Custom Booth Options\nAbout JIS FALL 2025\nJoin us at JIS FALL 2025\, a premier event for those in the Jewelry\, Luxury Industry\, and Gifts & Souvenirs sectors. The JIS Fall Show is one of the largest jewelry tradeshows and brings together a variety of manufacturers\, wholesalers\, and brands right in time for the holidays\, one of the most important restocking seasons of the year. This event takes place from October 9–12\, 2025\, at the Miami Beach Convention Center\, 1901 Convention Center Drive\, United States. \nKey Details: October 9–12\, 2025 Miami Beach Convention Center 1901 Convention Center Drive\, USA \nIndustries & Audience: This event attracts professionals from the Jewelry\, Luxury Industry\, Gifts & Souvenirs sectors. \nVenue & Location\nThe JIS FALL 2025 will be held at the Miami Beach Convention Center located at 1901 Convention Center Drive\, USA. Expect central access with efficient logistics and sufficient docking facilities for exhibit setup and dismantle. \nMiami: Our Services\nWe DESIGN\, PRODUCE\, INSTALL & DISMANTLE turnkey booth rentals in Miami\, Florida. Our comprehensive service includes concept design\, modular frames\, branded SEG graphics\, reception and storage areas\, TV mounts\, and on-site installation and dismantling. \nCustom Booth Models\nOur Snap Exhibitions Custom Booth Models cater to diverse exhibitor needs in Jewelry and Luxury Industry sectors. Popular footprints include: \n\n10×10 booths — ideal for startups and smaller brands looking to make an impactful presence.\n10×20 booths — a perfect balance for those wanting to showcase more extensive collections.\n20×20 booths — excellent for major industry players wanting to stand out with spacious layouts.\n\nFor full-service exhibit support combined with innovative designs\, reach out via our full-service exhibit support. \nFAQ\n1. What is the JIS FALL 2025 booth rental? \nJIS FALL 2025 booth rental provides exhibitors with the opportunity to showcase their products effectively during this major jewelry trade show. \n2. What are the dates and hours for the event? \nJIS FALL 2025 will be held from October 9 to 12\, 2025\, operating from 9:00 AM to 5:00 PM each day. \n3. What booth sizes are recommended for the Jewelry industry? \nFor jewelry\, we recommend a 10×10 booth for smaller collections and a 10×20 or 20×20 booth for larger exhibits to effectively showcase your offerings. \n4. Why is an aluminum booth better than wood? \nAluminum booths are generally lighter\, more durable\, and offer a sleek\, modern finish compared to wooden displays\, making setup easier and enhancing the aesthetic appeal. \n5. What can I expect at the JIS FALL 2025? \nExpect a gathering of top industry professionals\, unique products\, and valuable networking opportunities at this pivotal event. \n6. How can SNAP EXHIBITIONS help make everything perfect about my booth? \nWe provide seamless turnkey booth rentals to ensure you stand out\, providing tailored designs\, high-quality materials\, and a hassle-free installation process. \nDon’t miss out on the chance to showcase your collection at JIS FALL 2025 with our tailored rental solutions. For more information on JIS FALL 2025 booth rental\, contact our team today!
URL:https://modex2026.com/event/jis-fall-2025/
CATEGORIES:Gifts & Souvenirs,Jewelry,Luxury Industry
END:VEVENT
BEGIN:VEVENT
DTSTART;TZID=UTC:20251003T090000
DTEND;TZID=UTC:20251005T235959
DTSTAMP:20260424T211912
CREATED:20251102T205152Z
LAST-MODIFIED:20251102T205152Z
UID:25697-1759482000-1759708799@modex2026.com
SUMMARY:HARVEST FESTIVAL - ORIGINAL ART & CRAFT - DEL MAR 2025
DESCRIPTION:HARVEST FESTIVAL – ORIGINAL ART & CRAFT – DEL MAR 2025 Booth Rental — Ultimate Guide\nAbout HARVEST FESTIVAL – ORIGINAL ART & CRAFT – DEL MAR 2025\nHARVEST FESTIVAL – ORIGINAL ART & CRAFT – DEL MAR 2025 booth rental offers opportunities to connect with a diverse audience passionate about handmade crafts and artistry. As an exhibitor\, you can showcase your unique products\, network with fellow artisans\, and create lasting connections with potential customers. This event features hundreds of artisans presenting American handmade items such as beautiful jewelry\, clothing\, specialty foods\, photography\, original art\, hand-turned wood\, music\, ceramics\, and much more. It’s a vibrant celebration of creativity and craftsmanship. \nKey Details: Mar 3–5\, 9:00 AM–5:00 PM\, Del Mar Fairgrounds\, 2260 Jimmy Durante Boulevard\, Del Mar\, California 92014-2216\, United States. For more information\, visit our event website. \nThe event is targeted towards attendees interested in Handicraft Products\, Gifts & Souvenirs\, Decoration\, Home & Office Design\, Furniture\, Lighting\, Fashion – Clothing. \nVenue & Location\nThe event will be held at the Del Mar Fairgrounds\, located at 2260 Jimmy Durante Boulevard\, Del Mar\, California 92014-2216\, United States. The venue offers convenient logistics for move-in\, ensuring a smooth exhibition setup process. \nDel Mar CA: Our Services\nWe DESIGN\, PRODUCE\, INSTALL & DISMANTLE turnkey booth rentals in this city. Our services cover everything from concept and design to modular frames\, branded SEG graphics\, reception areas\, storage solutions\, TV mounts\, and on-site installation and dismantling. We help create an inviting atmosphere for your exhibitions. \nCustom Booth Models\nExplore our Snap Exhibitions Custom Booth Models suitable for various footprints including: \n\n10×10: Ideal for smaller displays that prioritize personal interaction.\n10×20: Offers a spacious option for showcasing a wider range of products.\n20×20: Perfect for larger brands wanting to create a significant impact.\n\nEach size accommodates the needs of exhibitors across the handicraft sector. \nFor full-service exhibit support\, visit our services page. Ready to elevate your exhibition? Contact our team today! \nFAQ\nQ: What can I expect at the HARVEST FESTIVAL – ORIGINAL ART & CRAFT – DEL MAR 2025 booth rental?A: You can showcase your handmade products\, engage with customers\, and network with other artisans. \nQ: What are the event hours for the HARVEST FESTIVAL?A: The event runs from Mar 3–5\, 9:00 AM to 5:00 PM. \nQ: What booth sizes do you recommend for handicraft exhibitors?A: We recommend starting with a 10×10 for intimate displays\, but 10×20 or 20×20 for more extensive product showcases. \nQ: Why is an aluminum booth better than wood?A: Aluminum booths are more lightweight\, durable\, and easier to transport\, making them a smart choice for exhibitions. \nQ: What services does Snap Exhibitions provide in Del Mar?A: We offer complete turnkey booth rentals\, including design\, production\, installation\, and dismantling. \nQ: Why should I participate in the Harvest Festival?A: It’s an excellent platform to showcase unique products\, connect with creative individuals\, and reach customers eager for original art and crafts. \nQ: How can Snap Exhibitions help ensure that everything is perfect about my booth?A: We provide comprehensive support\, from booth design to execution\, ensuring a seamless and successful exhibition experience. \nJoin us at HARVEST FESTIVAL – ORIGINAL ART & CRAFT – DEL MAR 2025 and secure your HARVEST FESTIVAL – ORIGINAL ART & CRAFT – DEL MAR 2025 booth rental today for a remarkable exhibition experience! Contact us now!
URL:https://modex2026.com/event/harvest-festival-original-art-craft-del-mar-2025/
CATEGORIES:Decoration,Fashion - Clothing,Furniture,Gifts & Souvenirs,Handicraft Products,Home & Office Design,Lighting
END:VEVENT
BEGIN:VEVENT
DTSTART;TZID=UTC:20250916T090000
DTEND;TZID=UTC:20250919T235959
DTSTAMP:20260424T211912
CREATED:20251109T183713Z
LAST-MODIFIED:20251109T183713Z
UID:25887-1758013200-1758326399@modex2026.com
SUMMARY:LAS VEGAS SOUVENIR & RESORT GIFT SHOW 2025
DESCRIPTION:LAS VEGAS SOUVENIR & RESORT GIFT SHOW 2025 — Exhibitor Guide & Premium Options\nAbout LAS VEGAS SOUVENIR & RESORT GIFT SHOW 2025\nLAS VEGAS SOUVENIR & RESORT GIFT SHOW 2025 booth rental for a successful exhibition in Las Vegas. This premier event brings together thousands of visitors eager to discover the latest in souvenirs and gift items. Get ready to showcase your products in a vibrant environment that highlights the best in Gifts & Souvenirs\, Handicraft Products\, Decoration\, Home & Office Design\, Furniture\, Lighting. Join us to connect with vendors and retailers enhancing their offerings at this bustling destination. \n\nKey Details: Jan 6–8\, 9:00 AM–5:00 PM\nLocation: Las Vegas Convention Center\nAddress: 3150 Paradise Road\, Las Vegas\, NV 89109\, United States\nEvent Website\n\nVenue & Location\nThe event will be held at Las Vegas Convention Center\, located at 3150 Paradise Road\, Las Vegas\, NV 89109\, United States. With easy dock access and smooth logistics\, this venue promises a fantastic experience for exhibitors and attendees alike. Make the most out of your booth with strategic move-in windows and support. \nLas Vegas NV: Our Services\nWe DESIGN\, PRODUCE\, INSTALL & DISMANTLE turnkey booth rentals in Las Vegas NV. Our service encompasses every phase from concept/design to on-site installation and dismantle\, ensuring a seamless experience tailored for your exhibition needs. Expect features like modular frames\, branded SEG graphics\, and reception/storage solutions that enhance your booth’s appeal. Our professional team stands ready to assist in crafting the perfect representation of your brand. \nCustom Booth Models\nExplore our popular Snap Exhibitions Custom Booth Models. Whether you prefer a 10×10\, 10×20\, or 20×20 footprint\, each design is optimized for relevant sectors including Gifts & Souvenirs\, Handicraft Products\, Decoration. These booths cater to the unique engagement styles of attendees while showcasing your products effectively. For a comprehensive full-service exhibit support\, look no further than Snap Exhibitions. \nFAQ\n\nWhat is LAS VEGAS SOUVENIR & RESORT GIFT SHOW 2025 booth rental?We offer exclusive booth rentals specifically designed for the LAS VEGAS SOUVENIR & RESORT GIFT SHOW 2025\, catering to brands looking to showcase their offerings in Las Vegas effectively.\nWhen are the event hours?The event will run from Jan 6 to Jan 8\, 2025\, from 9:00 AM to 5:00 PM each day.\nWhat booth sizes do you recommend for the Gifts & Souvenirs sector?We recommend starting with a 10×10 booth for smaller brands and expanding to 10×20 or 20×20 for larger displays. The choice depends on the volume of products you wish to showcase.\nWhy is an aluminum booth better than wood?Aluminum booths are lighter\, easier to transport\, and offer modern aesthetics compared to traditional wood booths. They are also more durable under various conditions.\nWhat services are available in Las Vegas for exhibitors?Las Vegas offers a comprehensive suite of services including logistics\, display setup\, and storage solutions to ensure your exhibit runs smoothly.\nWhat can I expect from the LAS VEGAS Convention Center?This venue provides extensive facilities\, easy access points\, and a vibrant atmosphere suitable for a successful trade show.\nHow can SNAP EXHIBITIONS help make everything perfect about my booth?We aim to provide a seamless experience from conceptual design through to installation and take-down\, ensuring that your booth is not just seen but remembered.\n\nWe believe LAS VEGAS SOUVENIR & RESORT GIFT SHOW 2025 booth rental will elevate your exhibiting experience. For inquiries about our services\, please contact our team today!
URL:https://modex2026.com/event/las-vegas-souvenir-resort-gift-show-2025/
CATEGORIES:Decoration,Furniture,Gifts & Souvenirs,Handicraft Products,Home & Office Design,Lighting
END:VEVENT
END:VCALENDAR