BEGIN:VCALENDAR
VERSION:2.0
PRODID:-//MODEX 2026 Atlanta — Local Booth Builder &amp; Rentals - ECPv6.15.13.1//NONSGML v1.0//EN
CALSCALE:GREGORIAN
METHOD:PUBLISH
X-WR-CALNAME:MODEX 2026 Atlanta — Local Booth Builder &amp; Rentals
X-ORIGINAL-URL:https://modex2026.com
X-WR-CALDESC:Events for MODEX 2026 Atlanta — Local Booth Builder &amp; Rentals
REFRESH-INTERVAL;VALUE=DURATION:PT1H
X-Robots-Tag:noindex
X-PUBLISHED-TTL:PT1H
BEGIN:VTIMEZONE
TZID:UTC
BEGIN:STANDARD
TZOFFSETFROM:+0000
TZOFFSETTO:+0000
TZNAME:UTC
DTSTART:20240101T000000
END:STANDARD
END:VTIMEZONE
BEGIN:VEVENT
DTSTART;TZID=UTC:20251110T090000
DTEND;TZID=UTC:20251113T235959
DTSTAMP:20260423T051845
CREATED:20251109T194702Z
LAST-MODIFIED:20251109T194702Z
UID:25949-1762765200-1763078399@modex2026.com
SUMMARY:ISSA/INTERCLEAN NORTH AMERICA 2025
DESCRIPTION:ISSA/INTERCLEAN NORTH AMERICA 2025 booth rental — Premium Options\nAbout ISSA/INTERCLEAN NORTH AMERICA 2025\nVenue & Location\nChicago IL: Our Services\nCustom Booth Models\nFAQ\nISSA/INTERCLEAN NORTH AMERICA 2025 booth rental is the ideal opportunity for exhibitors to make a significant impact. This event is scheduled from June 1–4\, 2025\, at the prestigious McCormick Place Convention Center\, located at 2301 S. Lake Shore Drive\, Chicago\, Illinois\, USA. This trade show serves the dynamic sectors of Industrial Cleaning\, Hygiene\, Maintenance\, Building & Construction\, Subcontracting\, Suppliers & Partners. This week-long exhibition is where industry associations and professionals converge to explore new business opportunities and the latest innovations in commercial and institutional cleaning. \nKey Details: June 1–4\, 2025\, McCormick Place Convention Center\, 2301 S. Lake Shore Drive\, Chicago\, IL\, United States. For more information\, visit ISSA/INTERCLEAN website. \nVenue & Location\nMcCormick Place Convention Center is the prime location for ISSA/INTERCLEAN NORTH AMERICA 2025. It offers convenient logistics including ample space for move-in and dock access\, ensuring a smooth setup experience for exhibitors. \nChicago IL: Our Services\nWe DESIGN\, PRODUCE\, INSTALL & DISMANTLE turnkey booth rentals in Chicago IL. Our comprehensive services include booth concept/design\, modular frames\, branded SEG graphics\, reception/storage\, and TV mount installations\, ensuring a seamless experience from start to finish. \nCustom Booth Models\nDiscover our popular booth footprints designed to fit the needs of exhibitors in various sectors: \n\n10×10: Ideal for newcomers making their first impression.\n10×20: Provides additional space\, perfect for established brands.\n20×20: Spacious options for larger displays\, accommodating various products.\n\nExplore our Snap Exhibitions Custom Booth Models for tailored solutions. \nFAQ\nWhat are the benefits of ISSA/INTERCLEAN NORTH AMERICA 2025 booth rental? This booth rental offers exhibitors a platform to showcase products and connect with industry leaders\, enhancing visibility and business opportunities. \nWhen are the event hours for ISSA/INTERCLEAN NORTH AMERICA 2025? The event runs from June 1st to June 4th\, 2025\, with varied hours each day. \nWhat booth sizes are recommended for the Industrial Cleaning category? For the Industrial Cleaning sector\, we recommend spaces ranging from 10×10 to 20×20 to provide adequate visibility and engagement. \nWhy is aluminum better than wood for booths? Aluminum is lighter\, more durable\, and can be reused more efficiently than wood\, making it a practical choice for traveling exhibits. \nWhat should I know about the McCormick Place Convention Center? The McCormick Place Convention Center is renowned for its modern facilities and accessibility\, making it an excellent choice for trade shows. \nHow can SNAP EXHIBITIONS help me create the perfect booth? We provide comprehensive support for your booth\, ensuring that every detail is addressed to create a stunning display that attracts visitors. \nFor your ISSA/INTERCLEAN NORTH AMERICA 2025 booth rental\, we invite you to contact our team for assistance in making your exhibitor presence seamless and impactful.
URL:https://modex2026.com/event/issa-interclean-north-america-2025/
CATEGORIES:Building & Construction,Hygiene,Industrial Cleaning,Maintenance,Subcontracting,Suppliers & Partners
END:VEVENT
BEGIN:VEVENT
DTSTART;TZID=UTC:20251110T090000
DTEND;TZID=UTC:20251113T235959
DTSTAMP:20260423T051845
CREATED:20251109T193824Z
LAST-MODIFIED:20251109T193824Z
UID:25928-1762765200-1763078399@modex2026.com
SUMMARY:ISSA SHOW NORTH AMERICA 2025
DESCRIPTION:ISSA SHOW NORTH AMERICA 2025 booth rental — Essential Exhibitor Guide & Custom Booth Options\nAbout ISSA SHOW NORTH AMERICA 2025\nISSA SHOW NORTH AMERICA 2025 booth rental is crucial for exhibitors in Industrial Cleaning\, Hygiene\, Maintenance\, Building & Construction\, Subcontracting\, Suppliers & Partners. At this event\, professionals gather to enhance their careers\, manage organizations efficiently\, and discover cutting-edge cleaning technologies. The ISSA Show promises a wealth of opportunities for companies looking to innovate in the cleaning sector. \nKey Details:Start: Aug 10–12\, 2025\, 9:00 AM–5:00 PMLocation: Mandalay Bay Convention CenterAddress: 3950 Las Vegas Blvd. South\, Las Vegas\, Nevada\, 89119\, USAVisit Event Website \nIndustries & Audience: This event caters to professionals from various sectors\, including Industrial Cleaning\, Hygiene\, Maintenance\, Building & Construction\, Subcontracting\, Suppliers & Partners. \nVenue & Location\nJoin us at the **Mandalay Bay Convention Center**\, a top-tier venue located at 3950 Las Vegas Blvd. South\, Las Vegas\, Nevada\, USA. The convention center offers ample logistics options for ease of access\, making it a prime location for exhibitors. Please check their official guidelines for details on move-in windows and dock access. \nLas Vegas NV: Our Services\nAt Snap Exhibitions\, we DESIGN\, PRODUCE\, INSTALL & DISMANTLE turnkey booth rentals in Las Vegas NV. Our comprehensive services include concept/design creation\, modular frames\, branded SEG graphics\, reception/storage areas\, and TV mounting—all tailored to enhance your presence at events. \nCustom Booth Models\nExplore our popular **booth footprints** such as the 10×10\, 10×20\, and 20×20 models\, ideal for engaging attendees in the identified sectors. Each model is designed to maximize visibility and interaction\, crucial for any exhibitor. Learn more about our Snap Exhibitions Custom Booth Models and experience our full-service exhibit support. \nFAQ\nWhat is ISSA SHOW NORTH AMERICA 2025 booth rental?It refers to the exhibition space we offer at the event tailored for enhancing your brand visibility. \nWhat are the event hours/dates?The ISSA Show will run from Aug 10–12\, 2025\, daily from 9:00 AM to 5:00 PM. \nWhat are recommended booth sizes for Industrial Cleaning?Popular sizes include 10×10 and 20×20\, allowing space for products and interactions. \nWhy is an aluminum booth better than wood?Aluminum booths are lighter\, more durable\, and easier to assemble/remove than traditional wood booths\, providing greater flexibility. \nHow can I enhance my presence at ISSA SHOW NORTH AMERICA 2025?Make use of our custom booth design and support services to ensure you stand out. \nWhat unique opportunities does Las Vegas offer for trade shows?Las Vegas is a top destination renowned for its extensive networking opportunities and vibrant exhibitor environment. \nHow can SNAP EXHIBITIONS help make my booth perfect?We offer end-to-end services\, ensuring your booth is designed\, built\, and executed flawlessly. \nISSA SHOW NORTH AMERICA 2025 booth rental is your gateway to a successful exhibition experience. Contact our team today for more information! Get in touch now!
URL:https://modex2026.com/event/issa-show-north-america-2025/
CATEGORIES:Building & Construction,Hygiene,Industrial Cleaning,Maintenance,Subcontracting,Suppliers & Partners
END:VEVENT
END:VCALENDAR