BEGIN:VCALENDAR
VERSION:2.0
PRODID:-//MODEX 2026 Atlanta — Local Booth Builder &amp; Rentals - ECPv6.15.13.1//NONSGML v1.0//EN
CALSCALE:GREGORIAN
METHOD:PUBLISH
X-WR-CALNAME:MODEX 2026 Atlanta — Local Booth Builder &amp; Rentals
X-ORIGINAL-URL:https://modex2026.com
X-WR-CALDESC:Events for MODEX 2026 Atlanta — Local Booth Builder &amp; Rentals
REFRESH-INTERVAL;VALUE=DURATION:PT1H
X-Robots-Tag:noindex
X-PUBLISHED-TTL:PT1H
BEGIN:VTIMEZONE
TZID:UTC
BEGIN:STANDARD
TZOFFSETFROM:+0000
TZOFFSETTO:+0000
TZNAME:UTC
DTSTART:20250101T000000
END:STANDARD
END:VTIMEZONE
BEGIN:VEVENT
DTSTART;TZID=UTC:20260517T090000
DTEND;TZID=UTC:20260520T235959
DTSTAMP:20260420T195038
CREATED:20251109T193404Z
LAST-MODIFIED:20251109T193404Z
UID:25919-1779008400-1779321599@modex2026.com
SUMMARY:ATD INTERNATIONAL CONFERENCE & EXPOSITION 2026
DESCRIPTION:ATD INTERNATIONAL CONFERENCE & EXPOSITION 2026 booth rental — Ultimate Guide\nAbout ATD INTERNATIONAL CONFERENCE & EXPOSITION 2026\nVenue & Location\nLos Angeles CA: Our Services\nCustom Booth Models\nFAQ\nATD INTERNATIONAL CONFERENCE & EXPOSITION 2026\nATD INTERNATIONAL CONFERENCE & EXPOSITION 2026 booth rental is essential for maximizing your impact at this premier event. This conference unites professionals from various sectors\, including **Decision Helping Tools & Management Services**\, **Education & Training**\, **Computers**\, and **Telecommunications**. Attendees will gain unparalleled insights and networking opportunities\, helping them thrive in their fields. \nThe event runs from **January 21–25\, 2026**\, featuring sessions that cover the full spectrum of training and development practices. Key Details include: \n\nDates: January 21–25\, 2026\nLocation: Los Angeles\, CA\, USA\nWebsite: [Visit](#) (No link provided)\n\nJoin us as we explore innovative learning strategies that will elevate your organization\, giving you the tools necessary to succeed. \nVenue & Location\nThe conference will be hosted at the vibrant site of **Los Angeles\, CA**. This central location makes it ideal for easy access and logistics. While exact move-in details are pending\, rest assured that we will facilitate seamless transitions on the day of the event. \nLos Angeles CA: Our Services\nIn **Los Angeles\, CA**\, we DESIGN\, PRODUCE\, INSTALL & DISMANTLE turnkey booth rentals. Our comprehensive service includes everything from tailored concept designs and modular frames to branded SEG graphics and efficient on-site installation and dismantling. \nCustom Booth Models\nWe offer an array of popular booth footprints\, ideal for decision-making sectors like education and telecommunications. Consider these options: \n\n10×10 booths are great for maximized engagement without overwhelming space.\n10×20 booths allow for more elaborate displays\, perfect for interactive demos.\n20×20 booths offer expansive areas to showcase larger products or services.\n\nFor more information on our Snap Exhibitions Custom Booth Models\, visit our site for DIY guidelines to suit your needs. \nTo explore our full-service exhibit support\, or simply contact our team for a consultation. \nFAQ\n1. What is the significance of ATD INTERNATIONAL CONFERENCE & EXPOSITION 2026 booth rental?This booth rental enhances your outreach and visibility at the event\, helping you connect directly with key industry figures. \n2. When is the event scheduled?The event is scheduled for **January 21–25\, 2026**. \n3. What booth sizes do you recommend for Education & Training sectors?We suggest the 10×20 and 20×20 options for impactful presentations. \n4. Why is an aluminum booth better than wood?Aluminum offers better durability and is significantly lighter\, making it easier to install and manage. \n5. What is the location of the event?The event will take place in **Los Angeles\, CA**. \n6. How can I make my booth perfect with SNAP EXHIBITIONS?We’ll handle everything from design to installation for a seamless experience. \nWe look forward to providing you with top-notch booth rental services at the **ATD INTERNATIONAL CONFERENCE & EXPOSITION 2026 booth rental** experience. Please reach out to us for tailored solutions that ensure your presence at the event is impactful! [Contact Us](https://snapexhibitions.com/contact-snap-exhibitions/)
URL:https://modex2026.com/event/atd-international-conference-exposition-2026/
CATEGORIES:Computers,Computers Networks,Decision Helping Tools & Management Services,Education & Training,Internet & Intranet,Sciences for Engineers - Research & Development,Telecommunications
END:VEVENT
BEGIN:VEVENT
DTSTART;TZID=UTC:20260520T090000
DTEND;TZID=UTC:20260521T235959
DTSTAMP:20260420T195038
CREATED:20251109T203528Z
LAST-MODIFIED:20251109T203528Z
UID:26022-1779267600-1779407999@modex2026.com
SUMMARY:HOME DELIVERY WORLD 2026
DESCRIPTION:HOME DELIVERY WORLD 2026 booth rental — Ultimate Exhibitor Guide & Custom Booth Options\nAbout HOME DELIVERY WORLD 2026\nVenue & Location\nNashville TN: Our Services\nCustom Booth Models\nFAQ\nHOME DELIVERY WORLD 2026 — Elevate Your Exhibitor Experience\nHOME DELIVERY WORLD 2026 booth rental is the perfect solution for exhibitors in the logistics and transportation engineering sectors\, ensuring a bold presence at this premier event. This trade show covers the entire spectrum of retail logistics and supply chain management. From inventory management to customer delivery experiences\, attendees will gain invaluable insights. \nKey Details: Sep 17–19\, 9:00 AM–5:00 PM Music City Center 201 Fifth Avenue South\, Nashville\, TN 37203\, United States Visit the event website \nIndustries & Audience: Logistics & Transportation Engineering\, Handling Operations\, Storage\, Trucks and Utility Vehicles\, Internet & Intranet\, Marketing & Selling. \nVenue & Location\nThe event will be held at the Music City Center\, a state-of-the-art facility located at 201 Fifth Avenue South\, Nashville\, TN. This venue provides excellent logistics support for exhibitors\, including easy access for load-in and setup. For any inquiries\, feel free to reach us at +1 (646) 619 1797. \nNashville TN: Our Services\nIn Nashville TN\, we DESIGN\, PRODUCE\, INSTALL & DISMANTLE turnkey booth rentals. Our comprehensive services cover every aspect of booth production\, including concept design\, modular frames\, branded SEG graphics\, reception/storage areas\, TV mounts\, and on-site installation and dismantling. Our expert team ensures your booth stands out while showcasing your brand effectively. \nCustom Booth Models\nWe offer a range of booth sizes to meet varying exhibitor needs. Popular footprints like 10×10 and 10×20 are ideal for showcasing products and services effectively in the logistics sector. Our Snap Exhibitions Custom Booth Models multiply your impact with innovative designs tailored to your brand. \nFor full exhibition support\, consider our full-service exhibit support\, ensuring a seamless experience from concept to completion. To learn how we can help you elevate your booth\, contact our team today! \nFrequently Asked Questions\n\nWhat benefits does HOME DELIVERY WORLD 2026 booth rental offer? HOME DELIVERY WORLD 2026 booth rental provides a strategic advantage to exhibitors by enhancing visibility and engagement\, tapping into the retail logistics industry insights.\nWhat are the event hours for HOME DELIVERY WORLD 2026? The event will take place from September 17–19\, 9:00 AM–5:00 PM.\nWhat booth sizes do you recommend for the logistics sector? We recommend booth sizes like 10×10 and 10×20 for effective engagement with attendees in the logistics sector.\nWhy is an aluminum booth better than wood? Aluminum booths are lighter\, more durable\, and offer better aesthetics compared to wooden structures\, ensuring a sophisticated display at events.\nWhat can I expect from the logistics industry in Nashville? Nashville serves as a growing hub for logistics\, providing unique opportunities for networking and learning from industry leaders at events like HOME DELIVERY WORLD 2026.\nHow can SNAP EXHIBITIONS help me create a perfect booth experience? Our team is dedicated to delivering seamless turnkey booth rentals\, ensuring every aspect from design to installation is handled with precision and expertise.\n\nIf you’re looking for a reliable HOME DELIVERY WORLD 2026 booth rental\, reach out to us to transform your vision into reality. Contact us today!
URL:https://modex2026.com/event/home-delivery-world-2026/
CATEGORIES:Internet & Intranet,Logistics & Transportation Engineering - Handling Operations - Storage,Marketing & Selling,Trucks and Utility Vehicles
END:VEVENT
BEGIN:VEVENT
DTSTART;TZID=UTC:20260520T090000
DTEND;TZID=UTC:20260521T235959
DTSTAMP:20260420T195038
CREATED:20251109T203559Z
LAST-MODIFIED:20251109T203559Z
UID:26023-1779267600-1779407999@modex2026.com
SUMMARY:HOME DELIVERY WORLD WEST 2026
DESCRIPTION:HOME DELIVERY WORLD WEST 2026 Booth Rental — Premium Exhibitor Guide & Custom Booth Options\nAbout HOME DELIVERY WORLD WEST 2026\nHOME DELIVERY WORLD WEST 2026 booth rental provides optimal opportunities for industry players. Join retailers\, SMEs\, and innovative solution providers at this premier exhibition\, dedicated to enhancing the home delivery and shipping landscape. Attendees will enjoy two days rich in learning\, networking\, and exploring the latest trends in this dynamic sector. \n\nKey Details: Sep 7–8\, 2026\, 9:00 AM–5:00 PM\nLocation: Music City Center\nAddress: 201 Fifth Avenue South\, Nashville\, TN 37203\nCountry: United States\nEvent Website\n\nIndustries & Audience: Logistics & Transportation Engineering\, Handling Operations\, Storage\, Trucks and Utility Vehicles\, Internet & Intranet\, Marketing & Selling. \nVenue & Location\nMusic City Center\, located at 201 Fifth Avenue South\, Nashville\, TN\, is an ideal venue for this event. Central access provides convenience for all exhibitors and attendees. While details on move-in logistics are not specified\, the venue is designed to facilitate a smooth transition for setup. \nNashville TN: Our Services\nWe DESIGN\, PRODUCE\, INSTALL & DISMANTLE turnkey booth rentals in Nashville TN. Our services encompass every aspect of the booth experience\, including concept/design\, modular frames\, branded SEG graphics\, reception/storage options\, and TV mounts. We ensure that your presence at HOME DELIVERY WORLD WEST 2026 is impactful and seamless. \nCustom Booth Models\nOur Snap Exhibitions Custom Booth Models cater to various needs with popular footprints like: \n\n10×10: Perfect for startups and small firms\, providing a compact yet effective space for engagement.\n10×20: Ideal for businesses looking to showcase a broader product range while maintaining an inviting atmosphere.\n20×20: Designed for larger exhibitors\, this space allows significant visibility and multiple interaction points.\n\nThese options fit well with the sectors represented at HOME DELIVERY WORLD WEST 2026. To explore our full-service exhibit support\, visit our site. \nFAQ\n\nWhat is HOME DELIVERY WORLD WEST 2026 Booth Rental?\nHOME DELIVERY WORLD WEST 2026 booth rental is your key to making a significant impact at the premier exhibition for home delivery solutions!\nWhat are the dates and hours for the event?\nThe event runs from Sep 7–8\, 2026\, with hours from 9:00 AM to 5:00 PM each day.\nWhat booth sizes are recommended for the Logistics & Transportation sectors?\nFor most exhibitors in logistics\, we recommend a 10×20 footprint for a balance of space and engagement capability.\nWhy is an aluminum booth better than wood?\nAluminum booths offer more durability and a lighter weight than wooden structures\, facilitating easier transport and setup.\nWhat services does Nashville offer for exhibitors?\nNashville offers a vibrant market for logistics\, providing numerous services and partnerships for enhanced outreach.\nWhat is the significance of HOME DELIVERY WORLD WEST 2026?\nThis event signifies the convergence of key players within the home delivery industry\, fostering learning and growth.\nHow can SNAP EXHIBITIONS help to make everything perfect about their booth?\nWe specialize in providing impactful turnkey booth rentals\, ensuring each detail aligns with your vision for an exceptional exhibition experience.\n\nFor your strategy at HOME DELIVERY WORLD WEST 2026 booth rental\, count on us. Contact our team today for a customized solution tailored to your needs!
URL:https://modex2026.com/event/home-delivery-world-west-2026/
CATEGORIES:Internet & Intranet,Logistics & Transportation Engineering - Handling Operations - Storage,Marketing & Selling,Trucks and Utility Vehicles
END:VEVENT
BEGIN:VEVENT
DTSTART;TZID=UTC:20260615T090000
DTEND;TZID=UTC:20260617T235959
DTSTAMP:20260420T195038
CREATED:20251105T061015Z
LAST-MODIFIED:20251105T061015Z
UID:25739-1781514000-1781740799@modex2026.com
SUMMARY:BROADBAND COMMUNITIES SUMMIT 2026
DESCRIPTION:Broadband Communities Summit 2026 booth rental — Essential Exhibitor Guide & Custom Booth Options\nAbout Broadband Communities Summit 2026\nBroadband Communities Summit 2026 booth rental is an essential opportunity for exhibitors looking to make an impact. The event\, hosted from March 19-21\, 2026\, at the George R. Brown Convention Center\, invites community leaders\, property owners\, network builders\, and telco service providers to explore connectivity solutions across the United States. The conference provides unparalleled networking opportunities and insights into the latest strategies for enhancing community connectivity. \nKey Details:\nMarch 19–21\, 2026\, 9:00 AM–5:00 PM\nGeorge R. Brown Convention Center\,\n1001 Avenida de las Americas\, Houston\, Texas 77010\, United States\nFor more details\, visit Broadband Communities Summit 2026. \nIndustries & Audience: Internet & Intranet\, Telecommunications\, Computers Networks\, Sound & Image Technologies\, Urban Equipment & Engineering\, Investors. \nVenue & Location\nThe Broadband Communities Summit 2026 will take place at the George R. Brown Convention Center\, located at 1001 Avenida de las Americas\, Houston\, Texas\, USA. This venue offers convenient logistics for exhibitor move-in and dock access\, ensuring a smooth setup for all participants. \nHouston: Our Services\nWe DESIGN\, PRODUCE\, INSTALL & DISMANTLE turnkey booth rentals in Houston\, Texas. Our comprehensive services include concept and design\, modular frames\, branded SEG graphics\, reception and storage solutions\, TV mounts\, and on-site installation and dismantling (I&D). \nCustom Booth Models\nWe provide a range of booth sizes to fit your needs. Our popular footprints include: \n\n10×10: Ideal for quick interactions; perfect for small displays.\n10×20: Offers more space for demonstrations; ideal for engaging with attendees.\n20×20: Allows for larger setups; great for maximum visibility and engagement.\n\nThese options ensure your booth meets the needs of attendees from the listed Internet & Intranet\, Telecommunications\, Computers Networks\, Sound & Image Technologies\, Urban Equipment & Engineering\, Investors sectors effectively. For examples\, check our Snap Exhibitions Custom Booth Models. We also provide full-service exhibit support to streamline your experience. If you’re ready to elevate your presence\, contact our team. \nFAQ\nQ: What is Broadband Communities Summit 2026 booth rental? A: Broadband Communities Summit 2026 booth rental involves securing a space at the summit to showcase your offerings and connect with your target audience. \nQ: When is the event? A: The event will take place from March 19–21\, 2026\, from 9:00 AM to 5:00 PM each day. \nQ: What are the recommended booth sizes for Internet & Intranet exhibitors? A: Recommended booth sizes include 10×10\, 10×20\, and 20×20\, depending on your objectives and engagement strategies. \nQ: Why is an aluminum booth better than wood? A: Aluminum booths offer durability\, lightweight designs\, and ease of setup\, making them more practical than traditional wooden booths. \nQ: What local services can I expect in Houston? A: Houston offers extensive logistical support\, networking opportunities\, and local vendors for your exhibit needs. \nQ: How can SNAP EXHIBITIONS help me make everything perfect about my booth? A: We specialize in turnkey booth rentals\, handling everything from design to installation\, ensuring a seamless experience. \nIn conclusion\, **BROADBAND COMMUNITIES SUMMIT 2026 booth rental** is your gateway to exciting opportunities in connectivity solutions. Reach out today and let us help you create an impactful presence! For more information and to secure your booth\, contact our team.
URL:https://modex2026.com/event/broadband-communities-summit-2026/
CATEGORIES:Computers Networks,Internet & Intranet,Investors,Sound & Image Technologies,Telecommunications,Urban Equipment & Engineering
END:VEVENT
BEGIN:VEVENT
DTSTART;TZID=UTC:20260623T090000
DTEND;TZID=UTC:20260625T235959
DTSTAMP:20260420T195038
CREATED:20251110T041724Z
LAST-MODIFIED:20251110T041724Z
UID:26059-1782205200-1782431999@modex2026.com
SUMMARY:COMMERCENEXT 2026
DESCRIPTION:COMMERCENEXT 2026 booth rental — Essential Exhibitor Guide & Custom Booth Options\nAbout COMMERCENEXT 2026\nVenue & Location\nNew York: Our Services\nCustom Booth Models\nFAQ\nAbout COMMERCENEXT 2026\nCOMMERCENEXT 2026 booth rental offers an essential opportunity for exhibitors to engage audiences at one of the largest global eCommerce events. Attendees can expect to connect with speakers from leading retailers\, direct-to-consumer (DTC) brands\, and innovative tech companies. This is a unique chance for meaningful peer-to-peer networking and to gain insights from industry leaders through both in-person and virtual content. \nKey Details:  Sep 18–20\, 2026 (9:00 AM–5:00 PM)  New York Hilton Midtown\, 1335 Avenue of the Americas\, New York\, NY\, United States  [Visit the official site](http://commercenext.com) \nIndustries & Audience: Marketing & Selling\, Internet & Intranet\, Retail & Shop Fitting Equipment & Service\, Logistics & Transportation Engineering – Handling Operations – Storage\, Public Relations & Advertising\, Decision Helping Tools & Management Services. \nVenue & Location\nThe event will take place at New York Hilton Midtown\, located at 1335 Avenue of the Americas\, New York\, NY\, United States. The venue allows for convenient logistics such as move-in access and centralized docking facilities\, ensuring smooth operations for your setup. \nNew York: Our Services\nWe DESIGN\, PRODUCE\, INSTALL & DISMANTLE turnkey booth rentals in New York. Our comprehensive services encompass concept/design\, modular frames\, branded SEG graphics\, reception/storage solutions\, TV mounting\, and on-site installation & dismantling. \nCustom Booth Models\nExplore our Snap Exhibitions Custom Booth Models that fit various booth sizes\, including popular footprints: 10×10\, 10×20\, and 20×20. These designs are tailored to resonate with audiences in the categories mentioned earlier\, providing stunning branding while optimizing visibility. \nFor those requiring comprehensive support\, discover our full-service exhibit support that caters to all your booth needs. Don’t hesitate to contact our team today to help turn your vision into a reality. \nFAQ\nWhat is COMMERCENEXT 2026 booth rental?COMMERCE NEXT 2026 booth rental provides businesses with tailored solutions to set up their presence at this major eCommerce event. \nWhat are the event hours for COMMERCENEXT 2026?The event runs from Sep 18 to Sep 20\, 2026\, from 9:00 AM to 5:00 PM. \nWhat booth sizes do you recommend for Marketing & Selling sectors?We recommend 10×10 and 10×20 booth sizes for optimal visibility and engagement in the Marketing & Selling sectors. \nWhy is an aluminum booth better than wood?Aluminum booths are typically lighter\, more durable\, and easier to transport than wooden alternatives\, making them ideal for multiple events. \nWhat can I expect at the COMMERCENEXT 2026 in New York?You can anticipate engaging workshops\, valuable networking opportunities\, and industry-leading presentations that will empower your business. \nHow can SNAP EXHIBITIONS help ensure my booth is perfect?We specialize in comprehensive turnkey booth rentals\, taking care of every detail from design to setup\, ensuring a seamless experience. \nJoin us at COMMERCENEXT 2026 booth rental and take your exhibition experience to the next level. For more information\, contact our team today!
URL:https://modex2026.com/event/commercenext-2026/
CATEGORIES:Decision Helping Tools & Management Services,Internet & Intranet,Logistics & Transportation Engineering - Handling Operations - Storage,Marketing & Selling,Public Relations & Advertising,Retail & Shop Fitting Equipment & Service
END:VEVENT
END:VCALENDAR