BEGIN:VCALENDAR
VERSION:2.0
PRODID:-//MODEX 2026 Atlanta — Local Booth Builder &amp; Rentals - ECPv6.15.13.1//NONSGML v1.0//EN
CALSCALE:GREGORIAN
METHOD:PUBLISH
X-WR-CALNAME:MODEX 2026 Atlanta — Local Booth Builder &amp; Rentals
X-ORIGINAL-URL:https://modex2026.com
X-WR-CALDESC:Events for MODEX 2026 Atlanta — Local Booth Builder &amp; Rentals
REFRESH-INTERVAL;VALUE=DURATION:PT1H
X-Robots-Tag:noindex
X-PUBLISHED-TTL:PT1H
BEGIN:VTIMEZONE
TZID:UTC
BEGIN:STANDARD
TZOFFSETFROM:+0000
TZOFFSETTO:+0000
TZNAME:UTC
DTSTART:20250101T000000
END:STANDARD
END:VTIMEZONE
BEGIN:VEVENT
DTSTART;TZID=UTC:20260209T090000
DTEND;TZID=UTC:20260211T235959
DTSTAMP:20260422T101555
CREATED:20251109T194151Z
LAST-MODIFIED:20251109T194151Z
UID:25936-1770627600-1770854399@modex2026.com
SUMMARY:ENGINE LEASING\, TRADING AND FINANCE - AMERICAS 2026
DESCRIPTION:ENGINE LEASING\, TRADING AND FINANCE – AMERICAS 2026 booth rental — Essential Exhibitor Guide & Custom Booth Options\nAbout ENGINE LEASING\, TRADING AND FINANCE – AMERICAS 2026\nVenue & Location\nTampa FL: Our Services\nCustom Booth Models\nFAQ\nENGINE LEASING\, TRADING AND FINANCE – AMERICAS 2026 — Exhibitor Guide & Custom Booth Options\nENGINE LEASING\, TRADING AND FINANCE – AMERICAS 2026 booth rental is essential for exhibitors aiming to connect within the engine leasing community. This premier conference will unveil current trends and issues in engine leasing\, attracting a diverse audience from lessors\, airlines\, MROs\, OEMs\, consultancies\, to financiers. Participants will gain invaluable insights and network with key industry players. \nThe event runs from Dec 12–14\, at Marriott Tampa Westshore\, 001 N Westshore Boulevard\, Tampa\, FL 33607\, United States. For more details\, visit the official event website. \nIndustries & Audience: This event focuses on Aeronautics – Space\, Subcontracting\, Suppliers & Partners\, Marketing & Selling\, Investors. \nVenue & Location\nThe ENGINE LEASING\, TRADING AND FINANCE – AMERICAS 2026 conference will take place at Marriott Tampa Westshore\, located at 001 N Westshore Boulevard\, Tampa\, FL 33607\, United States. Attendees can expect logistical support such as flexible move-in windows and standard dock access for exhibiting purposes. \nTampa FL: Our Services\nIn Tampa FL\, we DESIGN\, PRODUCE\, INSTALL & DISMANTLE turnkey booth rentals. Our services encompass concept and design\, modular frames\, branded SEG graphics\, reception/storage areas\, TV mounts\, and on-site installation and dismantle (I&D). We ensure that your booth reflects your brand while facilitating engaging interactions with your customers. \nCustom Booth Models\nWe provide a range of popular booth footprints suited to exhibitor needs\, including 10×10\, 10×20\, and 20×20 models. These options cater effectively to your target audience in the aeronautics and partnerships sectors. \nFor more styles\, check our Snap Exhibitions Custom Booth Models. We also offer full-service exhibit support to ensure a seamless experience from start to finish. \nFAQ\nQ1: What is ENGINE LEASING\, TRADING AND FINANCE – AMERICAS 2026 booth rental? \nA1: ENGINE LEASING\, TRADING AND FINANCE – AMERICAS 2026 booth rental allows exhibitors to showcase their products and connect with industry leaders during the event. \nQ2: What are the event hours for ENGINE LEASING\, TRADING AND FINANCE – AMERICAS 2026? \nA2: The event runs from Dec 12–14. Specific hours can be confirmed on the official event website. \nQ3: What booth sizes are recommended for the aeronautics sector? \nA3: Common booth sizes like 10×10 or 10×20 are ideal for maximizing engagement in this sector. \nQ4: Why is an aluminum booth better than wood? \nA4: Aluminum booths are more durable\, lighter for transport\, and can be designed to be more modular than wooden booths. \nQ5: What can I expect from Tampa\, FL during the event? \nA5: Tampa offers excellent amenities and services and is well-connected for attendees arriving from various locations. \nQ6: How can SNAP EXHIBITIONS help ensure my booth is perfect? \nA6: We provide comprehensive support\, including design\, installation\, and dismantling to make your exhibition experience hassle-free. \nFor your ENGINE LEASING\, TRADING AND FINANCE – AMERICAS 2026 booth rental\, contact our team today to get started!
URL:https://modex2026.com/event/engine-leasing-trading-and-finance-americas-2026/
CATEGORIES:Aeronautics - Space,Investors,Marketing & Selling,Subcontracting,Suppliers & Partners
END:VEVENT
END:VCALENDAR