BEGIN:VCALENDAR
VERSION:2.0
PRODID:-//MODEX 2026 Atlanta — Local Booth Builder &amp; Rentals - ECPv6.15.13.1//NONSGML v1.0//EN
CALSCALE:GREGORIAN
METHOD:PUBLISH
X-WR-CALNAME:MODEX 2026 Atlanta — Local Booth Builder &amp; Rentals
X-ORIGINAL-URL:https://modex2026.com
X-WR-CALDESC:Events for MODEX 2026 Atlanta — Local Booth Builder &amp; Rentals
REFRESH-INTERVAL;VALUE=DURATION:PT1H
X-Robots-Tag:noindex
X-PUBLISHED-TTL:PT1H
BEGIN:VTIMEZONE
TZID:UTC
BEGIN:STANDARD
TZOFFSETFROM:+0000
TZOFFSETTO:+0000
TZNAME:UTC
DTSTART:20250101T000000
END:STANDARD
END:VTIMEZONE
BEGIN:VEVENT
DTSTART;TZID=UTC:20260505T090000
DTEND;TZID=UTC:20260506T235959
DTSTAMP:20260420T211655
CREATED:20251105T061340Z
LAST-MODIFIED:20251105T061340Z
UID:25746-1777971600-1778111999@modex2026.com
SUMMARY:RE+ SOUTHEAST 2026
DESCRIPTION:RE+ SOUTHEAST 2026 booth rental — Ultimate Exhibitor Guide & Custom Booth Options\nAbout RE+ SOUTHEAST 2026\nVenue & Location\nAtlanta GA: Our Services\nCustom Booth Models\nFAQ\nRE+ SOUTHEAST 2026 — About the Event\nRE+ SOUTHEAST 2026 booth rental provides exhibitors an opportunity to participate in one of the leading trade shows focusing on Clean Energies. This annual event attracts energy professionals from across the solar and storage markets\, facilitating valuable business connections and networking opportunities. Attendees will have access to the latest innovations in Renewable Energy and Environmental Protection\, making it an essential destination for investors and industry leaders alike. \nKey Details:  Dates: Jan 3–5\, 9:00 AM–5:00 PM  Location: Georgia World Congress Center\, 285 Andrew Young International Blvd. NW\, Atlanta\, Georgia 30313-1591\, USA \nIndustries & Audience: Clean Energies – Renewable Energies\, Energy Production & Transportation\, Environmental Protection\, Investors. \nVenue & Location\nThe event will be held at the Georgia World Congress Center\, located at 285 Andrew Young International Blvd. NW\, Atlanta\, Georgia. This central location offers excellent logistics for exhibitors\, ensuring smooth move-in and flaunting proximity to major transport routes. \nAtlanta GA: Our Services\nWe design\, produce\, install & dismantle turnkey booth rentals in Atlanta GA. Our booth rental solutions encompass concept/design\, modular frames\, branded SEG graphics\, reception/storage facilities\, TV mounts\, and efficient on-site installation and dismantling. \nCustom Booth Models\nWe offer a variety of custom booth models to meet the needs of exhibitors. Here are some popular footprints: \n\n10×10: This size is ideal for startups and small businesses\, allowing an efficient display of your products.\n10×20: Perfect for established brands looking for more space to showcase interactive elements.\n20×20: Best suited for larger companies aiming to create an impactful presence\, with ample room for engaging displays.\n\nExplore our Snap Exhibitions Custom Booth Models for a glimpse into our diverse design options. \nEnsure your event success with our full-service exhibit support which includes all the necessary services to ensure a flawless display. \nIf you’re interested in renting\, please contact our team to customize your booth experience. \nFAQ\nQ1: What is the RE+ SOUTHEAST 2026 booth rental?A1: The RE+ SOUTHEAST 2026 booth rental offers exhibitors an opportunity to showcase their innovations in the clean energy sector to potential buyers. \nQ2: What are the event hours and dates?A2: The event runs from January 3–5\, 9:00 AM to 5:00 PM. \nQ3: What recommended booth sizes fit the renewable energy sector?A3: Booth sizes 10×20 and 20×20 are often recommended for maximum engagement at the event. \nQ4: Why is an aluminum booth better than wood?A4: Aluminum booths are generally lighter\, more durable\, and easier to transport than wood booths\, making them ideal for trade shows. \nQ5: What can we expect from downtown Atlanta during the event?A5: Atlanta is bustling with exciting dining and entertainment options perfect for exhibitors and visitors during their stay. \nQ6: How can SNAP EXHIBITIONS help perfect everything about their booth?A6: We provide comprehensive services tailored to every exhibit need\, ensuring your booth stands out and operates smoothly. \nIn conclusion\, for the most impactful experience\, consider our RE+ SOUTHEAST 2026 booth rental in Atlanta. We’re here to help you create a booth that captures attention and drives connections. Contact us today!
URL:https://modex2026.com/event/re-southeast-2026/
CATEGORIES:Clean Energies - Renewable Energies,Energy Production & Transportation,Environmental Protection,Investors
END:VEVENT
BEGIN:VEVENT
DTSTART;TZID=UTC:20260519T090000
DTEND;TZID=UTC:20260520T235959
DTSTAMP:20260420T211655
CREATED:20251106T110727Z
LAST-MODIFIED:20251106T110727Z
UID:25827-1779181200-1779321599@modex2026.com
SUMMARY:SUPPLIERS' DAY 2026
DESCRIPTION:SUPPLIERS’ DAY 2026 booth rental — Impactful Exhibitor Guide & Custom Booth Options\nAbout SUPPLIERS’ DAY 2026\nSUPPLIERS’ DAY 2026 booth rental offers a unique opportunity for exhibitors to present their latest products to a focused audience. This premier event in New York is dedicated to the Pharmaceuticals & Cosmetology\, Beauty & Personal Care\, Subcontracting\, Suppliers & Partners\, Investors sectors. With a two-day exhibition\, participants will engage with technical\, marketing\, and business associates from around the globe\, ensuring a high-impact experience for all involved. \n\nKey Details:\nDate: Mar 20–21\, 2026\, 9:00 AM–5:00 PM\nLocation: Jacob K. Javits Convention Center\nAddress: 655 West 34th Street\, New York\, NY 10001-1188\, USA\n\nAttendees will benefit from networking opportunities and the latest innovations in the industry. \nVenue & Location\nThe event will take place at the Jacob K. Javits Convention Center\, located at 655 West 34th Street\, New York\, NY 10001-1188\, USA. Exhibitors can look forward to convenient access for move-in logistics and a professional environment for showcasing their innovations. \nNew York NY: Our Services\nWe DESIGN\, PRODUCE\, INSTALL & DISMANTLE turnkey **booth rentals** in New York NY. Our services encompass everything you need for a successful exhibition\, including concept/design\, modular frames\, branded SEG graphics\, reception/storage areas\, TV mounts\, and on-site installation and dismantling. \nCustom Booth Models\nWe offer a range of booth sizes to fit your exhibition space. Popular footprints include: \n\n10×10: Optimal for product displays and interaction.\n10×20: Allows for greater visibility and engagement.\n20×20: Ideal for multiple product showcases and larger audience interaction.\n\nThese options cater well to professionals in the Pharmaceuticals & Cosmetology sector\, ensuring your brand stands out. Visit our Snap Exhibitions Custom Booth Models page for further inspiration. \nTo ensure comprehensive support\, our full-service exhibit support includes everything from design to execution. For personalized assistance\, contact our team today! \nFAQ\nQ: What is SUPPLIERS’ DAY 2026 booth rental?\nA: SUPPLIERS’ DAY 2026 booth rental refers to our turnkey exhibition service designed to help you effectively showcase your products during this significant event. \nQ: When are the event hours and dates?\nA: The event runs from Mar 20 to 21\, 2026\, from 9:00 AM to 5:00 PM each day. \nQ: What are the recommended booth sizes for the Pharmaceuticals & Cosmetology sectors?\nA: We recommend sizes like 10×10 for compact displays or 20×20 for larger showcases to maximize engagement. \nQ: Why is an aluminum booth better than wood?\nA: Aluminum booths are lighter\, easier to transport\, and offer a modern look\, making them more suitable for dynamic exhibitions. \nQ: What attractions are there in New York during SUPPLIERS’ DAY 2026?\nA: New York offers various attractions\, from iconic landmarks to vibrant nightlife\, ensuring visitors have plenty to explore. \nQ: How can SNAP EXHIBITIONS help make everything perfect about their booth?\nA: We provide expert design\, support\, and service to ensure your booth stands out and meets all your exhibition needs. \nJoin us at SUPPLIERS’ DAY 2026 booth rental for an impactful exhibition experience! For more details or to get started\, contact our team today!
URL:https://modex2026.com/event/suppliers-day-2026/
CATEGORIES:Beauty & Personal Care,Investors,Pharmaceuticals & Cosmetology,Subcontracting,Suppliers & Partners
END:VEVENT
BEGIN:VEVENT
DTSTART;TZID=UTC:20260529T090000
DTEND;TZID=UTC:20260530T235959
DTSTAMP:20260420T211655
CREATED:20251106T110831Z
LAST-MODIFIED:20251106T110831Z
UID:25829-1780045200-1780185599@modex2026.com
SUMMARY:INTERNATIONAL FRANCHISE EXPO 2026
DESCRIPTION:INTERNATIONAL FRANCHISE EXPO 2026 — Exhibitor Guide & Custom Booth Options\nAbout INTERNATIONAL FRANCHISE EXPO 2026\nVenue & Location\nNew York NY: Our Services\nCustom Booth Models\nFAQ\nINTERNATIONAL FRANCHISE EXPO 2026\nINTERNATIONAL FRANCHISE EXPO 2026 booth rental is essential for exhibitors seeking to showcase their brands effectively. This premier event\, held at the Jacob K. Javits Convention Center\, brings together the hottest franchise brands across all investment levels and industries. Attendees will gain invaluable insights into franchising\, marketing\, and selling opportunities to enhance their businesses. \nKey Details: Apr 24–26\, 9:00 AM–5:00 PM\, Jacob K. Javits Convention Center\, 655 West 34th Street\, New York\, NY 10001-1188\, United States. For more information\, visit here. \nIndustries & Audience: Franchising\, Marketing & Selling\, Investors. \nVenue & Location\nThe event will take place at the Jacob K. Javits Convention Center\, located at 655 West 34th Street\, New York\, NY. The venue is well-equipped to accommodate exhibitors\, consisting of ample loading docks and accessibility features for ease of transport. It stands as a central hub for vast networking opportunities. \nFor inquiries\, feel free to reach out through provided contact channels. \nNew York NY: Our Services\nIn New York NY\, we DESIGN\, PRODUCE\, INSTALL & DISMANTLE turnkey booth rentals. Our services encompass concept/design\, modular frames\, branded SEG graphics\, reception/storage\, and TV mounts with on-site installation and dismantling support. \nCustom Booth Models\nOur popular booth sizes cater to diverse exhibitor needs: \n\n10×10: Perfect for small businesses looking to make a big impact.\n10×20: Ideal for brands wanting to display a broader range of products.\n20×20: A magnificent space for larger exhibitors to showcase their wide-ranging offerings.\n\nLearn more about Snap Exhibitions Custom Booth Models or our full-service exhibit support. \nFAQ\nWhat are the dates and hours for INTERNATIONAL FRANCHISE EXPO 2026?\nThe event will run from Apr 24–26\, 9:00 AM–5:00 PM each day. \nWhat is the focus of INTERNATIONAL FRANCHISE EXPO 2026 booth rental?\nINTERNATIONAL FRANCHISE EXPO 2026 booth rental is tailored for exhibitors aiming to showcase franchise brands effectively at this pivotal event. \nWhat recommended booth sizes suit Franchising and Marketing sectors?\nFor the Franchising and Marketing sectors\, we recommend sizes such as 10×10 and 10×20\, ensuring optimal visibility and engagement. \nWhy is an aluminum booth better than wood?\nAluminum booths are lighter\, more durable\, and offer a modern aesthetic compared to conventional wood options\, making them easier to transport and assemble. \nWhat can I find at the Jacob K. Javits Convention Center?\nThe Jacob K. Javits Convention Center hosts numerous major events\, offering ample opportunities for networking and business growth. \nHow can SNAP EXHIBITIONS help make my booth perfect?\nWe provide comprehensive support services\, managing everything from design to dismantling to ensure your booth stands out at the event. \nFor the best in INTERNATIONAL FRANCHISE EXPO 2026 booth rental\, don’t hesitate to contact our team today!
URL:https://modex2026.com/event/international-franchise-expo-2026/
CATEGORIES:Franchising,Investors,Marketing & Selling
END:VEVENT
END:VCALENDAR