BEGIN:VCALENDAR
VERSION:2.0
PRODID:-//MODEX 2026 Atlanta — Local Booth Builder &amp; Rentals - ECPv6.15.20//NONSGML v1.0//EN
CALSCALE:GREGORIAN
METHOD:PUBLISH
X-WR-CALNAME:MODEX 2026 Atlanta — Local Booth Builder &amp; Rentals
X-ORIGINAL-URL:https://modex2026.com
X-WR-CALDESC:Events for MODEX 2026 Atlanta — Local Booth Builder &amp; Rentals
REFRESH-INTERVAL;VALUE=DURATION:PT1H
X-Robots-Tag:noindex
X-PUBLISHED-TTL:PT1H
BEGIN:VTIMEZONE
TZID:UTC
BEGIN:STANDARD
TZOFFSETFROM:+0000
TZOFFSETTO:+0000
TZNAME:UTC
DTSTART:20240101T000000
END:STANDARD
END:VTIMEZONE
BEGIN:VEVENT
DTSTART;TZID=UTC:20250905T090000
DTEND;TZID=UTC:20250906T235959
DTSTAMP:20260424T200055
CREATED:20251109T193154Z
LAST-MODIFIED:20251109T193154Z
UID:25914-1757062800-1757203199@modex2026.com
SUMMARY:FRANCHISE EXPO WEST 2025
DESCRIPTION:Franchise Expo West 2025 Booth Rental — Premium Options\nAbout Franchise Expo West 2025\nVenue & Location\nLos Angeles CA: Our Services\nCustom Booth Models\nFAQ\n\nFranchise Expo West 2025 Overview\nFranchise Expo West 2025 booth rental is your gateway to success at this premier franchise event. This highly anticipated show\, taking place from June 5–7\, 2025\, at the Los Angeles Convention Center\, provides a unique opportunity for attendees to engage with hundreds of franchise concepts that are eager to connect with qualified prospects in the growing West Coast market. \nVisitors can explore various industries including Franchising\, Marketing & Selling\, Investors\, and gather insights into the latest trends and opportunities in franchising. Exhibitors can expect a rewarding experience\, with face-to-face interactions that foster meaningful connections and lasting partnerships. \nKey Details\n\nDate: June 5–7\, 2025\nTime: 10:00 AM – 5:00 PM\nLocation: Los Angeles Convention Center\nAddress: 1201 South Figueroa Street\, Los Angeles\, CA 90015\, USA\n\nJoin us at this exceptional event where the franchise sector comes alive! \n\n\nVenue & Location Information\nThe Franchise Expo West 2025 will be held at the Los Angeles Convention Center\, located at 1201 South Figueroa Street\, Los Angeles\, CA\, USA. This venue offers comprehensive logistics capabilities\, facilitating a smooth move-in and transition for exhibitors. Although specific details are not provided\, the location is generally accessible for exhibitors and visitors alike. \nFor assistance\, please contact the venue directly. \n\n\nLos Angeles CA: Our Services\nIn Los Angeles CA\, we DESIGN\, PRODUCE\, INSTALL & DISMANTLE turnkey booth rentals. Our services encompass concept and design\, modular frames\, branded SEG graphics\, reception and storage areas\, TV mounts\, and both on-site installation and dismantling. We ensure your presence is impactful and professional\, setting you apart in a competitive landscape. \n\n\nCustom Booth Models for Franchise Expo\nAt this event\, we provide a variety of booth rental options. Our popular footprints include: \n\n10×10: Ideal for solo exhibitors to make their mark.\n10×20: A balanced choice\, offering more visibility and space for engagement.\n20×20: Perfect for groups and larger showcases to attract attention.\n\nFor examples\, check out our Snap Exhibitions Custom Booth Models that exemplify our design versatility. \n\n\nFAQ\nWhat is the Franchise Expo West 2025 booth rental?\nFranchise Expo West 2025 booth rental refers to securing a designated space at the event to showcase your franchise offerings and engage with potential investors. \nWhen are the event hours for Franchise Expo West 2025?\nThe event will be open from June 5–7\, 2025\, with operating hours from 10:00 AM to 5:00 PM. \nWhat booth sizes are recommended for franchisees in this category?\nBooths ranging from 10×10 to larger 20×20 layouts are recommended for franchises\, depending on your marketing strategy and the space you need to present your brand effectively. \nWhy is an aluminum booth better than wood?\nAluminum booths are typically lighter than wood\, making them easier to transport and set up. They also offer a modern look and superior structural integrity. \nWhat services does Snap Exhibitions provide in Los Angeles?\nWe provide comprehensive booth solution services in the area\, ensuring that your exhibit meets all standards and expectations. \nHow can the Snap Exhibitions team ensure everything is perfect for my booth?\nWe oversee every detail of your booth setup\, from design to installation\, to ensure your experience is seamless and impactful. \n\n\nYour success at the Franchise Expo West 2025 booth rental is our priority. Don’t miss this chance to engage effectively with potential investors; contact our team today!
URL:https://modex2026.com/event/franchise-expo-west-2025/
CATEGORIES:Franchising,Investors,Marketing & Selling
END:VEVENT
END:VCALENDAR