BEGIN:VCALENDAR
VERSION:2.0
PRODID:-//MODEX 2026 Atlanta — Local Booth Builder &amp; Rentals - ECPv6.15.20//NONSGML v1.0//EN
CALSCALE:GREGORIAN
METHOD:PUBLISH
X-WR-CALNAME:MODEX 2026 Atlanta — Local Booth Builder &amp; Rentals
X-ORIGINAL-URL:https://modex2026.com
X-WR-CALDESC:Events for MODEX 2026 Atlanta — Local Booth Builder &amp; Rentals
REFRESH-INTERVAL;VALUE=DURATION:PT1H
X-Robots-Tag:noindex
X-PUBLISHED-TTL:PT1H
BEGIN:VTIMEZONE
TZID:UTC
BEGIN:STANDARD
TZOFFSETFROM:+0000
TZOFFSETTO:+0000
TZNAME:UTC
DTSTART:20250101T000000
END:STANDARD
END:VTIMEZONE
BEGIN:VEVENT
DTSTART;TZID=UTC:20260429T090000
DTEND;TZID=UTC:20260430T235959
DTSTAMP:20260424T105437
CREATED:20251109T200756Z
LAST-MODIFIED:20251109T200756Z
UID:25989-1777453200-1777593599@modex2026.com
SUMMARY:B2B MARKETING AND SALES INNOVATION EXPO - MIAMI 2026
DESCRIPTION:B2B MARKETING AND SALES INNOVATION EXPO – MIAMI 2026 Booth Rental — Impactful\nAbout B2B MARKETING AND SALES INNOVATION EXPO – MIAMI 2026\nVenue & Location\nMiami: Our Services\nCustom Booth Models\nFAQ\nB2B MARKETING AND SALES INNOVATION EXPO – MIAMI 2026 — Effective Marketing Solutions\nB2B MARKETING AND SALES INNOVATION EXPO – MIAMI 2026 booth rental is essential for exhibitors looking to stand out in the competitive marketing sector. This event will host hundreds of suppliers and expert speakers demonstrating the latest technologies and discussing innovative services to enhance marketing efforts. Whether you’re looking for insights on public relations\, advertising\, or artificial intelligence\, this expo is a must-visit. \nKey Details: Jan 23–25\, 2026\, 9:00 AM–5:00 PM\, Miami Beach Convention Center\, 1901 Convention Center Drive\, Miami Beach\, United States. For more information\, visit the event website. \nIndustries & Audience: Marketing & Selling\, Decision Helping Tools & Management Services\, Knowledge Based Systems & Artificial Intelligence\, Public Relations & Advertising. \nVenue & Location\nThe B2B MARKETING AND SALES INNOVATION EXPO will take place at the Miami Beach Convention Center\, located at 1901 Convention Center Drive\, Miami Beach\, United States. This venue offers excellent logistics\, ensuring a smooth experience for exhibitors. \nMiami: Our Services\nWe DESIGN\, PRODUCE\, INSTALL & DISMANTLE turnkey booth rentals in Miami. Our services cover the whole spectrum from concept and design to modular frames\, branded SEG graphics\, reception/storage areas\, TV mounts\, and on-site installation and dismantling (I&D). \nCustom Booth Models\nWe offer a selection of Snap Exhibitions Custom Booth Models suitable for various event setups. Popular sizes like the 10×10\, 10×20\, and 20×20 are fantastic for exhibitors looking to make an impact. These booth footprints cater perfectly to attendees in the marketing sector\, providing ample space for interaction and engagement. Whether you’re showcasing AI tools or management services\, our booths will help you connect effectively with your audience. \nAdditionally\, we offer full-service exhibit support to ensure your presence at the expo is seamless. \nFAQ\n1. What is B2B MARKETING AND SALES INNOVATION EXPO – MIAMI 2026 booth rental? It refers to the rental of booths at the expo specifically designed for marketing and sales professionals. \n2. When does the event take place? The event is scheduled from January 23–25\, 2026\, from 9:00 AM–5:00 PM. \n3. What are recommended booth sizes for the marketing sector? Popular booth sizes include 10×10\, 10×20\, and 20×20\, ideal for accommodating marketing displays and engagements. \n4. Why is an aluminum booth better than wood? Aluminum booths are lighter\, more durable\, and easier to transport\, making them a popular choice for rental setups. \n5. What services do SNAP EXHIBITIONS offer in Miami? We provide comprehensive booth rental solutions including design\, production\, installation\, and dismantling services. \n6. What can I expect at the B2B MARKETING AND SALES INNOVATION EXPO – MIAMI 2026? The expo features exhibitors showcasing innovative marketing technologies and workshops led by industry experts. \n7. How can SNAP EXHIBITIONS help make my booth perfect? We work closely with exhibitors to customize booth designs tailored to their specific needs\, ensuring a standout presence at the event. For further assistance\, contact our team. \nIn conclusion\, if you are looking for B2B MARKETING AND SALES INNOVATION EXPO – MIAMI 2026 booth rental\, our seamless services can elevate your event experience. Reach out to contact our team today!
URL:https://modex2026.com/event/b2b-marketing-and-sales-innovation-expo-miami-2026/
CATEGORIES:Decision Helping Tools & Management Services,Knowledge Based Systems & Artificial Intelligence,Marketing & Selling,Public Relations & Advertising
END:VEVENT
BEGIN:VEVENT
DTSTART;TZID=UTC:20260609T090000
DTEND;TZID=UTC:20260612T235959
DTSTAMP:20260424T105438
CREATED:20251106T030501Z
LAST-MODIFIED:20251106T030501Z
UID:25778-1780995600-1781308799@modex2026.com
SUMMARY:ITS AMERICA CONFERENCE & EXPO 2026
DESCRIPTION:ITS AMERICA CONFERENCE & EXPO 2026 booth rental — Premium Exhibitor Guide & Custom Booth Options\nAbout ITS AMERICA CONFERENCE & EXPO 2026\nITS AMERICA CONFERENCE & EXPO 2026 booth rental is your gateway to an impactful presence at one of the premier events in intelligent transportation. This conference will gather innovators\, engineers\, and business leaders from the automotive industry\, offering rich educational opportunities\, exceptional networking\, and hands-on demonstrations. Attendees can expect to explore advanced technologies and future solutions that drive the transportation community forward.Key Details: May 5–7\, 2026\, Huntington Place Convention Center\, 1 Washington Boulevard\, Detroit\, MI 48226\, United States. \nIndustries & Audience: Automotive Engineering – Systems & Components\, Trucks and Utility Vehicles\, Sciences for Engineers – Research & Development\, Roads\, Bridges & Tunnels\, Logistics & Transportation Engineering – Handling Operations – Storage\, Urban Equipment & Engineering\, Knowledge Based Systems & Artificial Intelligence\, Real Time Systems & Embedded Systems. \nVenue & Location\nHuntington Place Convention Center\, located at 1 Washington Boulevard\, Detroit\, MI 48226\, USA\, is equipped to handle diverse events. With ample logistics support and access points\, exhibitors can manage their setup seamlessly. For inquiries\, please call. \nDetroit MI: Our Services\nIn Detroit\, we DESIGN\, PRODUCE\, INSTALL & DISMANTLE turnkey booth rentals. Our services encompass every phase of your exhibit experience\, from initial concept and design to modular frames\, branded SEG graphics\, and complete on-site installation and dismantling. We ensure your booth stands out and attracts potential customers effectively. \nCustom Booth Models\nExplore our popular booth footprints including 10×10\, 10×20\, and 20×20 configurations: \n\n10×10 Booths: Ideal for focused engagements and intimate interactions within the sectors of Automotive Engineering and Transportation.\n10×20 Booths: Perfect for businesses looking to make a bigger impact while maintaining versatility for dynamic presentations.\n20×20 Booths: Best suited for large-scale demonstrations appealing to professionals in Logistics and Urban Engineering.\n\nFor more information on our Snap Exhibitions Custom Booth Models and full-service exhibit support\, please visit our site. To learn how we can help with your specific needs\, contact our team. \nFAQ\nQ: What is the ITS AMERICA CONFERENCE & EXPO 2026 booth rental?A: The ITS AMERICA CONFERENCE & EXPO 2026 booth rental ensures your business is showcased effectively at the event. \nQ: What are the event dates and hours?A: The event runs from May 5 to May 7\, 2026\, with full-day access each day. \nQ: What booth size is recommended for automotive sectors?A: A 10×20 booth is often recommended for automotive exhibitors to allow for engaging displays and demonstrations. \nQ: Why is an aluminum booth better than wood?A: Aluminum booths are lighter\, more durable\, and offer modern aesthetic advantages over traditional wood booths. \nQ: What should attendees expect in Detroit\, MI at this event?A: Attendees will engage with thought leaders and explore cutting-edge technological solutions for transportation. \nQ: How can SNAP EXHIBITIONS help me make everything perfect about my booth?A: We offer a comprehensive turnkey booth rental service\, ensuring a smooth process from design to dismantling. \nMake the most of your exhibit at the ITS AMERICA CONFERENCE & EXPO 2026 booth rental! Connect with us today to plan your stunning exhibit. Contact our team for personalized service.
URL:https://modex2026.com/event/its-america-conference-expo-2026/
CATEGORIES:Automotive Engineering - Systems & Components,Bridges & Tunnels,Knowledge Based Systems & Artificial Intelligence,Logistics & Transportation Engineering - Handling Operations - Storage,Real Time Systems & Embedded Systems,Roads,Sciences for Engineers - Research & Development,Trucks and Utility Vehicles,Urban Equipment & Engineering
END:VEVENT
BEGIN:VEVENT
DTSTART;TZID=UTC:20270519T090000
DTEND;TZID=UTC:20270520T235959
DTSTAMP:20260424T105438
CREATED:20251106T110851Z
LAST-MODIFIED:20251106T110851Z
UID:25830-1810717200-1810857599@modex2026.com
SUMMARY:ATX EAST 2027
DESCRIPTION:ATX EAST 2027 booth rental — Essential Exhibitor Guide & Custom Booth Options\nShow About ATX EAST 2027\nATX EAST 2027 booth rental offers an incredible opportunity for exhibitors in the field of automation and engineering. This premier event will attract professionals from **Industrial Controllers**\, **CAD/CAM**\, **Robotics**\, and more\, all eager to discover the latest advancements in automation solutions. At the ATX EAST trade show\, attendees will be able to connect\, learn\, and collaborate on innovative automation solutions that are transforming production lifecycles — from design to market.\n   Key Details:  \n\nDates: Mar 26–28\, 2027\, 9:00 AM–5:00 PM\nLocation: Jacob K. Javits Convention Center\, 655 West 34th Street\, New York\, NY 10001-1188\, United States\n\n   Explore automation solutions and gain insight into the future of the industry. \nVenue & Location\nThe event will be hosted at the Jacob K. Javits Convention Center\, located conveniently in New York City. Easy access to transport options allows for streamlined move-in and dock access\, setting the perfect stage for this significant event. \nNew York NY: Our Services\nWe DESIGN\, PRODUCE\, INSTALL & DISMANTLE turnkey booth rentals in this city. Our comprehensive package includes concept and design services\, modular frames\, customized SEG graphics\, as well as essential reception and storage areas\, and TV mount solutions.  \nCustom Booth Models\nAt ATX EAST\, exhibitors can choose from a range of popular footprints such as 10×10\, 10×20\, and 20×20. Each size is designed to accommodate the needs of various sectors represented at the show. Snap Exhibitions Custom Booth Models are tailored for your specific needs and will make a lasting impact. \nOur services extend to full-service exhibit support for a seamless experience on the show floor. Want to know more about creating your perfect booth? You can contact our team for assistance. \nFAQ\n\nWhat services do you offer for ATX EAST 2027 booth rental?\nWe provide comprehensive turnkey booth rentals including design\, installation\, and dismantle services.\nWhat can I expect at the ATX EAST trade show?\nExpect to network with industry leaders and discover cutting-edge automation technologies.\nWhat are the event hours for ATX EAST 2027?\nThe event runs from March 26–28\, 2027\, from 9:00 AM to 5:00 PM.\nWhat booth sizes are recommended for the industrial controllers and robotics categories?\nWe recommend 10×20 or 20×20 booths for optimal visibility and engagement with attendees.\nWhy are aluminum booths better than wood for ATX EAST?\nAluminum booths are lighter\, easier to transport\, and provide stylish looks compared to traditional wood.\nHow can SNAP EXHIBITIONS help make everything perfect about my booth?\nWe offer extensive expertise in design\, production\, and installation ensuring a flawless presentation for your exhibition.\nWhat should I prepare for my visit to Jacob K. Javits Convention Center?\nMake sure to check transportation options and plan for time to explore all the vendor offerings.\n\nDon’t miss out on the opportunity to showcase your brand at ATX EAST 2027 booth rental. For more information and to get started\, contact our team today!
URL:https://modex2026.com/event/atx-east-2027/
CATEGORIES:Applied Computer & Industrial Engineering,CAD/CAM - Design - Modelisation,Industrial Controllers,Knowledge Based Systems & Artificial Intelligence,Metal Working Industries,Rapid Prototyping & Additive Manufacturing,Robotics,Sciences for Engineers - Research & Development
END:VEVENT
END:VCALENDAR