BEGIN:VCALENDAR
VERSION:2.0
PRODID:-//MODEX 2026 Atlanta — Local Booth Builder &amp; Rentals - ECPv6.15.13.1//NONSGML v1.0//EN
CALSCALE:GREGORIAN
METHOD:PUBLISH
X-WR-CALNAME:MODEX 2026 Atlanta — Local Booth Builder &amp; Rentals
X-ORIGINAL-URL:https://modex2026.com
X-WR-CALDESC:Events for MODEX 2026 Atlanta — Local Booth Builder &amp; Rentals
REFRESH-INTERVAL;VALUE=DURATION:PT1H
X-Robots-Tag:noindex
X-PUBLISHED-TTL:PT1H
BEGIN:VTIMEZONE
TZID:UTC
BEGIN:STANDARD
TZOFFSETFROM:+0000
TZOFFSETTO:+0000
TZNAME:UTC
DTSTART:20250101T000000
END:STANDARD
END:VTIMEZONE
BEGIN:VEVENT
DTSTART;TZID=UTC:20260721T090000
DTEND;TZID=UTC:20260723T235959
DTSTAMP:20260423T051349
CREATED:20251109T194606Z
LAST-MODIFIED:20251109T194606Z
UID:25947-1784624400-1784851199@modex2026.com
SUMMARY:ASI SHOW CHICAGO 2026
DESCRIPTION:ASI SHOW CHICAGO 2026 Booth Rental — Impactful Solutions\nAbout ASI SHOW CHICAGO 2026\nASI SHOW CHICAGO 2026 booth rental options are designed for exhibitors looking to make an impact in the advertising industry. This regional networking event attracts a diverse audience from the Public Relations & Advertising\, Marketing & Selling sectors. At this notable exhibition\, visitors and exhibitors can connect\, share insights\, and explore opportunities to enhance their professional endeavors. \n\nKey Details: Apr 17–19\, 9:00 AM–5:00 PM\nLocation: McCormick Place Convention Center\, 2301 S. Lake Shore Drive\, Chicago\, Illinois\, United States\nMore Info\n\nThe ASI SHOW CHICAGO 2026 is an important event for professionals seeking to grow their network and gain insights into industry trends. \nVenue & Location\nMcCormick Place Convention Center\, located at 2301 S. Lake Shore Drive\, Chicago\, Illinois\, is one of the largest convention centers in North America. It provides excellent logistical support with ample space for exhibits and attendees. Reach out via phone for any inquiries. \nChicago IL: Our Services\nWe DESIGN\, PRODUCE\, INSTALL & DISMANTLE turnkey booth rentals in Chicago\, Illinois. Our offerings encompass concept and design\, modular frames\, branded SEG graphics\, reception and storage areas\, TV mounts\, and on-site installation and dismantling. \nCustom Booth Models\nExplore our Snap Exhibitions Custom Booth Models tailored for different exhibition needs. Popular footprints like 10×10\, 10×20\, and 20×20 are designed to cater to various attendees’ engagement levels within the advertising sectors. For comprehensive support\, check our full-service exhibit support. To get started\, contact our team today! \nFAQ\n\nWhat are ASI SHOW CHICAGO 2026 booth rental options? ASI SHOW CHICAGO 2026 booth rental options include various booth sizes and configurations that fit the needs of exhibitors in the advertising industry.\nWhat are the event hours for ASI SHOW CHICAGO 2026? The event lasts from April 17 to April 19\, open daily from 9:00 AM to 5:00 PM.\nWhat booth sizes are recommended for the Public Relations & Advertising sectors? We typically recommend 10×10 or 10×20 booths for maximum visibility and engagement in these sectors.\nWhy is an aluminum booth better than wood? Aluminum booths offer a modern\, lightweight solution that is more durable and easier to transport than wooden options.\nWhat can you tell me about Chicago’s exhibitor services? Chicago provides excellent logistics\, making it easier for exhibitors to set up and interact with attendees at the show.\nWhat makes ASI SHOW CHICAGO 2026 unique? This event is tailored for advertising professionals\, providing a focused environment for networking and collaboration.\nHow can SNAP EXHIBITIONS help make everything perfect about their booth? We offer comprehensive booth rental services\, ensuring every detail is addressed for a seamless exhibition experience.\n\nFor the best ASI SHOW CHICAGO 2026 booth rental options that enhance your presence and engagement\, get in touch with us. Your success is our priority at Snap Exhibitions.
URL:https://modex2026.com/event/asi-show-chicago-2026/
CATEGORIES:Marketing & Selling,Public Relations & Advertising
END:VEVENT
END:VCALENDAR