BEGIN:VCALENDAR
VERSION:2.0
PRODID:-//MODEX 2026 Atlanta — Local Booth Builder &amp; Rentals - ECPv6.15.20//NONSGML v1.0//EN
CALSCALE:GREGORIAN
METHOD:PUBLISH
X-WR-CALNAME:MODEX 2026 Atlanta — Local Booth Builder &amp; Rentals
X-ORIGINAL-URL:https://modex2026.com
X-WR-CALDESC:Events for MODEX 2026 Atlanta — Local Booth Builder &amp; Rentals
REFRESH-INTERVAL;VALUE=DURATION:PT1H
X-Robots-Tag:noindex
X-PUBLISHED-TTL:PT1H
BEGIN:VTIMEZONE
TZID:UTC
BEGIN:STANDARD
TZOFFSETFROM:+0000
TZOFFSETTO:+0000
TZNAME:UTC
DTSTART:20260101T000000
END:STANDARD
END:VTIMEZONE
BEGIN:VEVENT
DTSTART;TZID=UTC:20270519T090000
DTEND;TZID=UTC:20270520T235959
DTSTAMP:20260424T152212
CREATED:20251106T110923Z
LAST-MODIFIED:20251106T110923Z
UID:25831-1810717200-1810857599@modex2026.com
SUMMARY:EAST PACK 2027
DESCRIPTION:EAST PACK 2027 booth rental — Ultimate Exhibitor Guide & Custom Booth Options\nAbout EAST PACK 2027\nVenue & Location\nNew York NY: Our Services\nCustom Booth Models\nFAQ\nAre you looking for EAST PACK 2027 booth rental? You’ve come to the right place! The EAST PACK 2027 event is East Coast’s Largest Annual Design & Manufacturing Event\, drawing a diverse audience from CAD/CAM design\, applied computer engineering\, to mechanical components. This is a perfect opportunity for exhibitors to showcase their products and engage with industry professionals. \nKey Details: September 12–14\, 9:00 AM–5:00 PM\, Jacob K. Javits Convention Center\, 655 West 34th Street\, New York\, NY 10001-1188\, United States. For more information\, visit the official website. \nIndustries & Audience: CAD/CAM – Design – Modelisation\, Applied Computer & Industrial Engineering\, Plastics\, Rubber\, Composites\, Mechanical Components\, Decision Helping Tools & Management Services. \nEAST PACK 2027 booth rental – Venue & Logistics\nThe event will take place at the Jacob K. Javits Convention Center\, known for its central location and excellent accessibility. Attendees and exhibitors will appreciate the convenient logistics\, allowing for a smooth setup and takedown of displays. Our team will ensure that all you have to focus on is making impactful connections. \nFor inquiries\, feel free to reach us at +1 (212) 600-3000. \nEAST PACK 2027 booth rental – New York NY: Our Services\nAt Snap Exhibitions\, we DESIGN\, PRODUCE\, INSTALL & DISMANTLE turnkey booth rentals in New York NY. Our comprehensive services cover everything from concept/design to modular frames\, branded SEG graphics\, reception/storage solutions\, and TV mounts. We are committed to providing a seamless experience for exhibitors. \nEAST PACK 2027 booth rental – Custom Booth Models\nWe offer a range of customizable booth sizes to suit your exhibiting needs. Popular footprints include: \n\n10×10: Ideal for small spaces where engagement is key.\n10×20: Offers ample room for a dynamic display\, perfect for attracting attention.\n20×20: Great for larger exhibitions\, allows for elaborate setups.\n\nExplore our Snap Exhibitions Custom Booth Models for more design inspirations. We also provide full-service exhibit support to ensure that your booth stands out. \nFAQ\n\nWhat is EAST PACK 2027 booth rental?It’s a turnkey solution for exhibitors participating in EAST PACK 2027\, providing all necessary displays and services.\nWhat are the dates and hours for EAST PACK 2027?September 12–14\, from 9:00 AM to 5:00 PM.\nWhat booth sizes do you recommend for CAD/CAM sectors?We recommend at least a 10×20 booth for impactful engagement in the CAD/CAM industry.\nWhy is an aluminum booth better than wood?Aluminum structures are lightweight\, reusable\, and offer greater design flexibility compared to wood.\nWhat can I expect at EAST PACK 2027 in New York?You’ll connect with industry leaders\, discover innovative solutions\, and build valuable partnerships.\nHow can Snap Exhibitions help perfect my booth?We specialize in turnkey booth rentals\, ensuring that your exhibit is visually captivating and within your specifications.\n\nIn conclusion\, if you are seeking the best EAST PACK 2027 booth rental options\, look no further! We are here to assist you in creating a memorable exhibition experience. Contact our team today to get started!
URL:https://modex2026.com/event/east-pack-2027/
CATEGORIES:Applied Computer & Industrial Engineering,CAD/CAM - Design - Modelisation,Composites,Decision Helping Tools & Management Services,Mechanical Components,Plastics,Rubber
END:VEVENT
END:VCALENDAR