BEGIN:VCALENDAR
VERSION:2.0
PRODID:-//MODEX 2026 Atlanta — Local Booth Builder &amp; Rentals - ECPv6.15.13.1//NONSGML v1.0//EN
CALSCALE:GREGORIAN
METHOD:PUBLISH
X-ORIGINAL-URL:https://modex2026.com
X-WR-CALDESC:Events for MODEX 2026 Atlanta — Local Booth Builder &amp; Rentals
REFRESH-INTERVAL;VALUE=DURATION:PT1H
X-Robots-Tag:noindex
X-PUBLISHED-TTL:PT1H
BEGIN:VTIMEZONE
TZID:UTC
BEGIN:STANDARD
TZOFFSETFROM:+0000
TZOFFSETTO:+0000
TZNAME:UTC
DTSTART:20240101T000000
END:STANDARD
END:VTIMEZONE
BEGIN:VEVENT
DTSTART;TZID=UTC:20260315T090000
DTEND;TZID=UTC:20260319T235959
DTSTAMP:20260422T151726
CREATED:20251106T025817Z
LAST-MODIFIED:20251106T025817Z
UID:25767-1773565200-1773964799@modex2026.com
SUMMARY:AMPP ANNUAL CONFERENCE & EXPO 2026
DESCRIPTION:AMPP ANNUAL CONFERENCE & EXPO 2026 — Exhibitor Guide & Custom Booth Options\nAbout AMPP ANNUAL CONFERENCE & EXPO 2026\nAMPP ANNUAL CONFERENCE & EXPO 2026 is the largest international corrosion and coatings trade show & congress. This premier event welcomes professionals from the Metal Working Industries\, Surface Treatment Technologies\, and Chemical Process sectors\, enabling exhibitors to connect with potential clients and showcase innovative solutions in corrosion and coatings. \nKey Details: Mar 13–17\, 2026\, Houston\, TX\, USA. \nParticipants will benefit from seeing cutting-edge technologies\, engaging with industry leaders\, and discovering the latest advancements in coatings and adhesion.  \nIndustries & Audience: Metal Working Industries\, Surface Treatment Technologies – Coatings\, Adhesion\, Paints & Coating Technologies\, Chemical Process. \nVenue & Location\nThe AMPP ANNUAL CONFERENCE & EXPO 2026 will be held in Houston\, TX\, USA. The venue accommodates various logistical needs\, providing adequate space for move-in and access. For inquiries\, feel free to reach out via phone. \nHouston\, TX: Our Services\nWe DESIGN\, PRODUCE\, INSTALL & DISMANTLE turnkey booth rentals in Houston\, TX. Our scope includes concept/design\, modular frames\, branded SEG graphics\, reception/storage\, TV mount\, and on-site installation and dismantling services.   \nCustom Booth Models\nWe offer various popular footprints that cater to exhibitors’ needs: \n\n10×10 Footprint: Ideal for start-ups or smaller brands wanting to stand out.\n10×20 Footprint: Perfect for growing companies looking for more display space.\n20×20 Footprint: Tailored for larger organizations aiming for visibility and impact.\n\nExplore our Snap Exhibitions Custom Booth Models for tailored options suitable for your target audience. \nWith our full-service exhibit support\, you can focus on what matters most—engaging with your audience. If you’re looking to elevate your presence at this expo\, contact our team today! \nFAQ\nWhat can I expect from AMPP ANNUAL CONFERENCE & EXPO 2026 booth rental? \nYour booth will be designed to capture attention and facilitate networking. Expect quality materials and professional installation. \nWhat are the event hours/dates for AMPP ANNUAL CONFERENCE & EXPO 2026? \nThe event will take place from Mar 13 to Mar 17\, 2026. \nWhat are the recommended booth sizes for Chemical Process industries? \nA 10×20 or 20×20 booth is recommended for impactful display options. \nWhy is an aluminum booth better than wood? \nAluminum is lighter\, more durable\, and offers better design flexibility compared to wood\, allowing custom configurations. \nWhat should I know about Houston before attending AMPP ANNUAL CONFERENCE & EXPO 2026? \nHouston is known for its vibrant business environment\, making it an exciting place for networking during the event. \nHow can SNAP EXHIBITIONS help make everything perfect about my booth? \nWe provide comprehensive turnkey booth rentals\, ensuring every detail is managed effectively so you can focus on your goals. \nIn conclusion\, if you’re looking for AMPP ANNUAL CONFERENCE & EXPO 2026 booth rental\, we are here to make your exhibition experience seamless. Contact us today!
URL:https://modex2026.com/event/ampp-annual-conference-expo-2026/
CATEGORIES:Adhesion,Chemical Process,Metal Working Industries,Paints & Coating Technologies,Surface Treatment Technologies - Coatings
END:VEVENT
BEGIN:VEVENT
DTSTART;TZID=UTC:20251104T090000
DTEND;TZID=UTC:20251106T235959
DTSTAMP:20260422T151726
CREATED:20251105T061046Z
LAST-MODIFIED:20251105T061046Z
UID:25740-1762246800-1762473599@modex2026.com
SUMMARY:HOUSTEX 2025
DESCRIPTION:HOUSTEX 2025 booth rental — Ultimate Exhibitor Guide & Custom Booth Options\nAbout HOUSTEX 2025\nVenue & Location\nHouston: Our Services\nCustom Booth Models\nFAQ\nHOUSTEX 2025: Elevate Your Trade Show Experience\nHOUSTEX 2025 booth rental provides unparalleled opportunities for exhibitors looking to make their mark in Houston. This premier event draws decision makers\, major tool and technology suppliers\, and thought leaders across manufacturing disciplines. With our turnkey booth rentals\, you can enhance your visibility and engage meaningfully with your audience. \nDuring this exciting three-day event\, from HOUSTEX 2025\, visitors can expect to learn\, network\, and showcase the latest innovations in Machines-tools\, Robotics\, Metal Working Industries\, and more. Key details include: \n\nDates: Mar 2–4\, 2025\, 9:00 AM–5:00 PM\nLocation: George R. Brown Convention Center\, 1001 Avenida de las Americas\, Houston\, Texas 77010\, United States\nWebsite: houstexonline.com\n\nIndustries & Audience\nJoin industry experts from Industrial Controllers\, Applied Computer & Industrial Engineering\, and Rapid Prototyping & Additive Manufacturing. \nVenue & Location\nThe HOUSTEX 2025 will take place at the George R. Brown Convention Center\, located at 1001 Avenida de las Americas\, Houston\, Texas 77010\, USA. The venue features convenient logistics for exhibitors\, with ample access points for setup and logistics. Contact the venue directly for details regarding move-in windows and dock access. \nHouston: Our Services\nIn Houston\, we DESIGN\, PRODUCE\, INSTALL & DISMANTLE turnkey booth rentals. Our complete service offerings include concept design\, modular frames\, branded SEG graphics\, reception/storage solutions\, TV mounts\, and on-site installation and dismantling (I&D). We ensure your exhibitor goals are met seamlessly while focusing on delivering a standout presence at HOUSTEX 2025. \nCustom Booth Models\nAt HOUSTEX 2025\, we offer a variety of popular footprints for your booth rental needs. Our Snap Exhibitions Custom Booth Models can be tailored to fit any space requirement. Whether you’re looking for a 10×10\, 10×20\, or 20×20 booth\, our designs cater to the numerous sectors represented. A modular design allows for flexibility and maximizes your interaction with attendees. \nAdditionally\, our full-service exhibit support ensures that every detail is managed effectively. We encourage you to contact our team for tailored options that meet your specific needs. \nFAQ\n\nWhat is HOUSTEX 2025 booth rental? HOUSTEX 2025 booth rental provides a complete exhibition solution\, allowing you to showcase products effectively in Houston.\nWhen does HOUSTEX 2025 take place? HOUSTEX 2025 runs from Mar 2–4\, 2025\, from 9:00 AM–5:00 PM.\nWhat booth sizes do you recommend for Machines-tools? For Industries such as Robotics\, we recommend sizes like 10×20 or larger for optimal engagement.\nWhy is an aluminum booth better than wood? Aluminum booths are lighter\, more durable\, and offer a sleek\, modern appearance compared to wood.\nWhat are the top benefits of attending HOUSTEX 2025 in Houston? Attendees can network with industry leaders and discover the latest advancements in technology and manufacturing.\nHow does HOUSTEX 2025 benefit exhibitors? Exhibitors gain significant exposure\, networking opportunities\, and market insights that can drive business success.\nHow can Snap Exhibitions help make everything perfect about their booth? We specialize in providing a seamless experience from design to dismantling\, ensuring that you stand out at HOUSTEX 2025.\n\nConsider HOUSTEX 2025 booth rental to elevate your presence at this premier event. With our tailored solutions and expert support\, we can help ensure your success. For more information\, contact our team today!
URL:https://modex2026.com/event/houstex-2025/
CATEGORIES:Applied Computer & Industrial Engineering,CAD/CAM - Design - Modelisation,Composites,Industrial Controllers,Machines-tools - Tools,Metal Working Industries,Plastics,Rapid Prototyping & Additive Manufacturing,Robotics,Rubber
END:VEVENT
BEGIN:VEVENT
DTSTART;TZID=UTC:20251021T090000
DTEND;TZID=UTC:20251023T235959
DTSTAMP:20260422T151726
CREATED:20251109T190454Z
LAST-MODIFIED:20251109T190454Z
UID:25901-1761037200-1761263999@modex2026.com
SUMMARY:METALCON INTERNATIONAL 2025
DESCRIPTION:METALCON INTERNATIONAL 2025 booth rental — Ultimate Guide\nAbout METALCON INTERNATIONAL 2025\nMETALCON INTERNATIONAL 2025 booth rental is a fantastic opportunity for exhibitors in the metal construction industry. This premier international trade show in Las Vegas features the latest innovations in metal-construction products\, services\, equipment\, and technology. Attendees from the Building & Construction\, Industrial Building\, Metal Working Industries sectors will benefit from networking opportunities\, expert presentations\, and a comprehensive showcase of products catering to their needs. \nKey Details: 2025-09-01 to 2025-09-03 (Times TBD)\, Las Vegas\, NV\, USA. For more information\, visit the official site. \nVenue & Location\nJoin us at the renowned Las Vegas Convention Center\, located in Las Vegas\, NV\, USA. This central location boasts excellent logistics for exhibitors\, including smooth move-in windows and convenient dock access. Although no direct phone number is provided\, attendees can easily navigate to the venue for a successful event. \nLas Vegas NV: Our Services\nIn Las Vegas NV\, we DESIGN\, PRODUCE\, INSTALL & DISMANTLE turnkey booth rentals. Our services include concept design\, modular frames\, branded SEG graphics\, reception areas\, storage solutions\, TV mounts\, and on-site installation and dismantling. We ensure that your presence at the METALCON INTERNATIONAL 2025 is impactful. \nCustom Booth Models\nOur Snap Exhibitions Custom Booth Models cover various popular footprints\, such as: \n\n10×10: Ideal for new exhibitors\, providing a concise display for maximum engagement.\n10×20: Offers a balanced space for showcasing product lines effectively.\n20×20: Perfect for larger installations to capture more visitor attention while highlighting diverse offerings.\n\nThese setups cater specifically to professionals in the Building & Construction\, Industrial Building\, Metal Working Industries\, offering the necessary space and visibility to succeed. For unparalleled support\, consider our full-service exhibit support. \nFAQ\n\nWhat options do you offer for METALCON INTERNATIONAL 2025 booth rental?We provide various options tailored to exhibitor needs\, from design to installation.\nWhen are the event dates for METALCON INTERNATIONAL 2025?The event will take place from September 1 to September 3\, 2025.\nWhat booth sizes do you recommend for the Metal Working Industries?Typical recommendations include 10×10 and 10×20 footprints for effective engagement.\nWhy is an aluminum booth better than wood?Aluminum booths are lighter\, more durable\, and offer design flexibility\, making them ideal for trade shows.\nWhat can visitors expect at METALCON INTERNATIONAL 2025 in Las Vegas?Visitors can expect cutting-edge metal construction innovations\, networking opportunities\, and workshops.\nHow can SNAP EXHIBITIONS ensure a perfect booth setup?We handle everything from design to installation\, ensuring your booth meets all requirements seamlessly.\n\nAs your trusted partner\, we offer METALCON INTERNATIONAL 2025 booth rental — let’s enhance your visibility. For more details on how we can help\, contact our team today!
URL:https://modex2026.com/event/metalcon-international-2025/
CATEGORIES:Building & Construction,Industrial Building,Metal Working Industries
END:VEVENT
BEGIN:VEVENT
DTSTART;TZID=UTC:20251021T090000
DTEND;TZID=UTC:20251022T235959
DTSTAMP:20260422T151726
CREATED:20251109T202736Z
LAST-MODIFIED:20251109T202736Z
UID:26005-1761037200-1761177599@modex2026.com
SUMMARY:ADVANCED DESIGN & MANUFACTURING MINNEAPOLIS 2025
DESCRIPTION:ADVANCED DESIGN & MANUFACTURING MINNEAPOLIS 2025 booth rental — Essential Guide\nAbout ADVANCED DESIGN & MANUFACTURING MINNEAPOLIS 2025\nAre you looking to exhibit at the ADVANCED DESIGN & MANUFACTURING MINNEAPOLIS 2025? This event promises to be a significant gathering for professionals in various sectors including CAD/CAM – Design – Modelisation\, Applied Computer & Industrial Engineering\, Machines-tools – Tools\, and many more. Attendees will benefit from a showcase of cutting-edge solutions in design and manufacturing. This expo features the latest technology & services in 3D printing\, CAD/CAM/CAE software\, CMMs & DMMs\, contract manufacturing\, laser machines\, rapid prototyping\, and R&D testing equipment. \n\nKey Details: Apr 27–29\, 2025\, 9:00 AM–5:00 PM\, Minneapolis Convention Center\, 1301 2nd Avenue South\, Minneapolis\, MN 55403\, United States. Event website\n\nIndustries & Audience: CAD/CAM – Design – Modelisation\, Applied Computer & Industrial Engineering\, Machines-tools – Tools\, Electronic Design & Components\, Plastics\, Rubber\, Composites\, Metal Working Industries\, Logistics & Transportation Engineering – Handling Operations – Storage. \nVenue & Location\nJoin us at the Minneapolis Convention Center located at 1301 2nd Avenue South\, Minneapolis\, MN 55403\, United States. This venue is well-equipped to handle large exhibitions with ample docking and central access. Our team will ensure a seamless experience for exhibitors. \nMinneapolis MN: Our Services\nWe DESIGN\, PRODUCE\, INSTALL & DISMANTLE turnkey booth rentals in Minneapolis MN. Our comprehensive offerings include concept and design creation\, modular frames\, branded SEG graphics\, reception/storage spaces\, TV mounts\, and on-site installation and dismantling. Ensure you have everything you need to stand out at the ADVANCED DESIGN & MANUFACTURING MINNEAPOLIS 2025! \nCustom Booth Models\nExplore our Snap Exhibitions Custom Booth Models. We offer a variety of popular footprints such as 10×10\, 10×20\, and 20×20 booths that provide the perfect fit for attendees in the aforementioned sectors. For each model\, we ensure the highest standards in quality and design. \nWe also provide full-service exhibit support tailored to your needs. Each booth design ensures maximum visibility and engagement\, allowing exhibitors to effectively showcase their innovations. \nFor inquiries\, feel free to contact our team for tailored solutions to make your presence remarkable. \nFAQ\n\nWhat are the ADVANCED DESIGN & MANUFACTURING MINNEAPOLIS 2025 booth rental options available?\nWe offer a variety of booth styles and sizes\, ranging from simple to highly elaborate designs tailored to your needs.\nWhat are the event hours and dates for ADVANCED DESIGN & MANUFACTURING MINNEAPOLIS 2025?\nThe event runs from April 27 to April 29\, 2025\, from 9:00 AM to 5:00 PM each day.\nWhat booth sizes are recommended for CAD/CAM sectors?\nWe typically recommend 10×20 or larger booths to accommodate various exhibits effectively.\nWhy is an aluminum booth better than wood?\nAluminum booths are lighter\, more durable\, and offer a modern aesthetic compared to wooden alternatives\, making them ideal for exhibitions.\nWhat can Snap Exhibitions do for my booth at ADVANCED DESIGN & MANUFACTURING MINNEAPOLIS 2025?\nWe provide comprehensive turnkey solutions\, including design\, production\, and installation\, ensuring all aspects are covered for an impactful exhibition.\nWhat local services are available in Minneapolis for our event?\nMinneapolis offers a range of services from catering to logistics\, ensuring your exhibition experience is smooth and successful.\nCan I find help during the event if needed?\nYes\, our team will be on-site to assist with any needs or changes during the event.\n\nIn conclusion\, securing your ADVANCED DESIGN & MANUFACTURING MINNEAPOLIS 2025 booth rental is crucial for a successful exhibition. Let us help you create an impactful presence. For further assistance\, contact our team today.
URL:https://modex2026.com/event/advanced-design-manufacturing-minneapolis-2025/
CATEGORIES:Applied Computer & Industrial Engineering,CAD/CAM - Design - Modelisation,Composites,Electronic Design & Components,Logistics & Transportation Engineering - Handling Operations - Storage,Machines-tools - Tools,Metal Working Industries,Plastics,Rubber
END:VEVENT
BEGIN:VEVENT
DTSTART;TZID=UTC:20251021T090000
DTEND;TZID=UTC:20251022T235959
DTSTAMP:20260422T151726
CREATED:20251109T202426Z
LAST-MODIFIED:20251109T202426Z
UID:25998-1761037200-1761177599@modex2026.com
SUMMARY:ATX MINNEAPOLIS 2025
DESCRIPTION:ATX MINNEAPOLIS 2025 booth rental — Ultimate Exhibitor Guide & Custom Booth Options\nAbout ATX MINNEAPOLIS 2025\nATX MINNEAPOLIS 2025 booth rental will provide essential solutions for exhibitors looking to make a mark in the automation industry. This event is perfect for professionals from the Industrial Controllers\, CAD/CAM Design\, Robotics\, Applied Computer Engineering\, Metal Working\, Rapid Prototyping\, and Artificial Intelligence sectors. Attendees will have the opportunity to discover and collaborate on automation solutions that revolutionize the entire production lifecycle—from design to market. Key details of the event include: \n\nDates: Sep 12–14\, 9:00 AM–5:00 PM\nLocation: Minneapolis Convention Center\, 1301 2nd Avenue South\, Minneapolis\, MN 55403\, USA\n\nVenue & Location\nThe Minneapolis Convention Center is well-equipped to host the ATX MINNEAPOLIS event\, facilitating easy access for exhibitors and attendees alike. Be prepared for sufficient move-in windows and convenient dock access to streamline your setup and dismantling process. \nFor any inquiries\, feel free to call the venue directly. \nMinneapolis MN: Our Services\nIn Minneapolis\, we DESIGN\, PRODUCE\, INSTALL & DISMANTLE turnkey booth rentals. Our booth rental capabilities cover everything from concept and design to modular frames\, branded SEG graphics\, reception and storage solutions\, and on-site installation and dismantling. \nCustom Booth Models\nWe offer a range of popular booth sizes\, including Snap Exhibitions Custom Booth Models\, which are tailored for a variety of exhibitor needs. Popular configurations\, such as 10×10\, 10×20\, and 20×20\, suit various objectives and help attendees engage effectively with audiences from sectors mentioned earlier. \nOur comprehensive support is available; check out our full-service exhibit support for additional details. If you’re interested in working together\, contact our team to make your exhibit unforgettable. \nFAQ\n\nWhat is ATX MINNEAPOLIS 2025 booth rental?\nATX MINNEAPOLIS 2025 booth rental provides exhibitors with tailored options to create impactful exhibitions in the automation industry.\nWhat are the dates and hours for ATX MINNEAPOLIS 2025?\nThe event runs from Sep 12–14\, 9:00 AM–5:00 PM.\nWhat booth sizes are recommended for the industrial sectors?\nWe recommend popular sizes like 10×10 and 10×20 to maximize visibility and engagement.\nWhy choose an aluminum booth over wood?\nAluminum booths are lighter\, easier to assemble and dismantle\, and often more durable than wood options.\nWhat can I expect from Minneapolis during the event?\nMinneapolis offers a vibrant atmosphere with numerous amenities and attractions for exhibitors and attendees.\nHow can we make the most of ATX MINNEAPOLIS 2025?\nWe at Snap Exhibitions can help you create a remarkable presence with our design and support services.\n\nIn conclusion\, the ATX MINNEAPOLIS 2025 booth rental offers seamless solutions for exhibitors in the automation industry. Don’t miss out on this opportunity—contact our team to discuss how we can elevate your exhibition experience!
URL:https://modex2026.com/event/atx-minneapolis-2025/
CATEGORIES:Applied Computer & Industrial Engineering,CAD/CAM - Design - Modelisation,Industrial Controllers,Knowledge Based Systems & Artificial Intelligence,Metal Working Industries,Rapid Prototyping & Additive Manufacturing,Robotics,Sciences for Engineers - Research & Development
END:VEVENT
END:VCALENDAR