BEGIN:VCALENDAR
VERSION:2.0
PRODID:-//MODEX 2026 Atlanta — Local Booth Builder &amp; Rentals - ECPv6.15.20//NONSGML v1.0//EN
CALSCALE:GREGORIAN
METHOD:PUBLISH
X-ORIGINAL-URL:https://modex2026.com
X-WR-CALDESC:Events for MODEX 2026 Atlanta — Local Booth Builder &amp; Rentals
REFRESH-INTERVAL;VALUE=DURATION:PT1H
X-Robots-Tag:noindex
X-PUBLISHED-TTL:PT1H
BEGIN:VTIMEZONE
TZID:UTC
BEGIN:STANDARD
TZOFFSETFROM:+0000
TZOFFSETTO:+0000
TZNAME:UTC
DTSTART:20240101T000000
END:STANDARD
END:VTIMEZONE
BEGIN:VEVENT
DTSTART;TZID=UTC:20251203T090000
DTEND;TZID=UTC:20251209T235959
DTSTAMP:20260424T164335
CREATED:20251109T183801Z
LAST-MODIFIED:20251109T183801Z
UID:25889-1764752400-1765324799@modex2026.com
SUMMARY:LIVE DESIGN INTERNATIONAL (LDI) 2025
DESCRIPTION:LIVE DESIGN INTERNATIONAL (LDI) 2025 Booth Rental — Essential Guide\nAbout LIVE DESIGN INTERNATIONAL (LDI) 2025\nLIVE DESIGN INTERNATIONAL (LDI) 2025 booth rental is your gateway to the future of live entertainment technology. Taking place from Nov 30 – Dec 3\, 2025\, this show is the premier event that connects professionals in the broadcasting\, television\, multimedia\, and consumer electronics sectors. Visitors and exhibitors alike will experience state-of-the-art gear and receive unparalleled training from industry leaders during this exciting show. \n\nKey Details:\nDate: Nov 30 – Dec 3\, 2025\, 9:00 AM – 5:00 PM\nLocation: Las Vegas Convention Center\nAddress: 3150 Paradise Road\, Las Vegas\, NV 89109\, United States\nWebsite: www.ldishow.com\n\nThe key industries represented at LDI include: Broadcasting\, Television & Entertainment\, Sound & Image Technologies\, Multimedia Technologies\, Music\, Consumers Electronics. \nVenue & Location\nThe event will be held at the Las Vegas Convention Center\, located at 3150 Paradise Road\, Las Vegas\, NV 89109\, United States. This venue provides excellent logistic access\, ensuring easy move-in and move-out for exhibitors. \nLas Vegas NV: Our Services\nIn Las Vegas\, we DESIGN\, PRODUCE\, INSTALL & DISMANTLE turnkey booth rentals. Our services encompass everything from concept and design to modular frames\, branded SEG graphics\, reception and storage solutions\, TV mounts\, and on-site installation and dismantling. Whatever your needs\, we have you covered. \nCustom Booth Models\nAt LDI 2025\, we offer a variety of popular booth footprints including: \n\n10×10 booths: Perfect for basic setups\, ideal for first-time exhibitors.\n10×20 booths: A versatile option suitable for medium-sized displays\, allowing for expanded branding opportunities.\n20×20 booths: An impressive choice for larger brands wanting to capture significant attention at the event.\n\nFor more information on specific options\, check out our Snap Exhibitions Custom Booth Models. \nWe also provide full-service exhibit support to ensure every detail of your booth is perfect. For inquiries\, please contact our team. \nFAQ\n\nWhat is the focus of LIVE DESIGN INTERNATIONAL (LDI) 2025 booth rental? Our primary focus is to provide exhibitors with a seamless experience in presenting state-of-the-art technology at the event.\nWhat are the event hours for LDI 2025? The event will take place from Nov 30 to Dec 3\, 2025\, open daily from 9:00 AM to 5:00 PM.\nWhat booth sizes are recommended for the broadcasting sector? We recommend 10×20 or larger booths for maximum impact within the broadcasting community.\nWhy is an aluminum booth better than wood? Aluminum booths are lighter\, more durable\, and easier to assemble\, providing a modern and sleek look ideal for events.\nWhat can attendees expect at LIVE DESIGN INTERNATIONAL (LDI) 2025? Attendees can expect top-notch exhibits\, insightful training sessions\, and networking opportunities with industry experts.\nHow does being in Las Vegas benefit exhibitors? Las Vegas is a major hub for events and offers a variety of attractions\, making it a prime location for networking and exposure.\nHow can SNAP EXHIBITIONS help make everything perfect about their booth? We ensure high-quality design\, manufacturing\, and support\, providing a complete turnkey solution tailored to your unique requirements.\n\nIn conclusion\, if you’re looking for LIVE DESIGN INTERNATIONAL (LDI) 2025 booth rental\, we are your best choice for high-quality\, seamless\, and impactful exhibit solutions. For more information\, contact our team to get started today!
URL:https://modex2026.com/event/live-design-international-ldi-2025/
CATEGORIES:Broadcasting,Consumers Electronics,Multimedia Technologies,Music,Sound & Image Technologies,Television & Entertainment
END:VEVENT
BEGIN:VEVENT
DTSTART;TZID=UTC:20251009T090000
DTEND;TZID=UTC:20251012T235959
DTSTAMP:20260424T164335
CREATED:20251106T110115Z
LAST-MODIFIED:20251106T110115Z
UID:25815-1760000400-1760313599@modex2026.com
SUMMARY:NEW YORK COMIC CON 2025
DESCRIPTION:NEW YORK COMIC CON 2025 Booth Rental — Ultimate Exhibitor Guide\nAbout NEW YORK COMIC CON 2025\nNEW YORK COMIC CON 2025 is a spectacular event held at the Jacob K. Javits Convention Center\, offering an immersive experience for fans of all things pop culture. From anime and gaming to celebrities and comics\, this four-day extravaganza promises excitement for visitors and exhibitors alike. Attendees will gain insights\, discover new trends\, and connect with fellow fans in a vibrant atmosphere. Key Details: Sep 12-14\, 9:00 AM-5:00 PM\, Jacob K. Javits Convention Center\, 655 West 34th Street\, New York\, NY 10001\, United States. \nIndustries & Audience: This event caters to a diverse audience spanning across Broadcasting\, Television & Entertainment\, Books\, Music\, Fashion – Clothing\, Art and Antiques. \nVenue & Location\nThe Jacob K. Javits Convention Center at 655 West 34th Street\, New York\, NY\, United States\, is a premier venue known for its ample space and exceptional facilities. The location is well-accessible for exhibitors\, ensuring a smooth move-in process with extensive dock access. \nNEW YORK\, NY: Our Services\nWe DESIGN\, PRODUCE\, INSTALL & DISMANTLE turnkey booth rentals in New York\, NY. Our comprehensive services include concept and design\, modular frames\, branded SEG graphics\, reception/storage areas\, TV mounts\, and on-site installation & dismantling (I&D). \nCustom Booth Models\nWe offer a range of customized booth options ideal for various brand presentations\, including popular footprints such as 10×10\, 10×20\, and 20×20. These models fit perfectly for attendees in sectors like Broadcasting\, Television & Entertainment. For more on our offerings\, explore our Snap Exhibitions Custom Booth Models and full-service exhibit support. If you have specific design needs or want to discuss options\, contact our team today! \nFAQ\nQ: What is NEW YORK COMIC CON 2025?A: NEW YORK COMIC CON 2025 is a popular convention for anime\, gaming\, comics\, and pop culture fans\, taking place from Sep 12-14\, 2025. \nQ: What are the event dates and hours?A: The event runs from Sep 12-14\, 2025\, daily from 9:00 AM to 5:00 PM. \nQ: What booth sizes are recommended for sectors like Broadcasting?A: For sectors like Broadcasting\, we recommend booths of sizes 10×20 or 20×20 for better visibility and engagement. \nQ: Why is an aluminum booth better than wood?A: Aluminum booths are lighter\, more durable\, and easier to transport compared to wood\, making them a superior option for trade shows. \nQ: What can I expect at NEW YORK COMIC CON 2025?A: Expect an exciting environment packed with various attractions including anime showcases\, celebrity panels\, and gaming competitions. \nQ: How can SNAP EXHIBITIONS help make my booth perfect?A: SNAP EXHIBITIONS can provide full support for your booth creation\, ensuring all aspects from design to installation meet your expectations. \nQ: Where is the Jacob K. Javits Convention Center located?A: It is located at 655 West 34th Street\, New York\, NY 10001\, United States. \nNEW YORK COMIC CON 2025 booth rental will elevate your presence at this acclaimed event. Secure your exhibit space today by visiting Snap Exhibitions for a seamless experience!
URL:https://modex2026.com/event/new-york-comic-con-2025/
CATEGORIES:Art and Antiques,Books,Broadcasting,Fashion - Clothing,Music,Television & Entertainment
END:VEVENT
END:VCALENDAR