BEGIN:VCALENDAR
VERSION:2.0
PRODID:-//MODEX 2026 Atlanta — Local Booth Builder &amp; Rentals - ECPv6.15.13.1//NONSGML v1.0//EN
CALSCALE:GREGORIAN
METHOD:PUBLISH
X-WR-CALNAME:MODEX 2026 Atlanta — Local Booth Builder &amp; Rentals
X-ORIGINAL-URL:https://modex2026.com
X-WR-CALDESC:Events for MODEX 2026 Atlanta — Local Booth Builder &amp; Rentals
REFRESH-INTERVAL;VALUE=DURATION:PT1H
X-Robots-Tag:noindex
X-PUBLISHED-TTL:PT1H
BEGIN:VTIMEZONE
TZID:UTC
BEGIN:STANDARD
TZOFFSETFROM:+0000
TZOFFSETTO:+0000
TZNAME:UTC
DTSTART:20250101T000000
END:STANDARD
END:VTIMEZONE
BEGIN:VEVENT
DTSTART;TZID=UTC:20260304T090000
DTEND;TZID=UTC:20260306T235959
DTSTAMP:20260422T215713
CREATED:20251105T060811Z
LAST-MODIFIED:20251105T060811Z
UID:25735-1772614800-1772841599@modex2026.com
SUMMARY:O&M SAFETY
DESCRIPTION:O&M SAFETY booth rental — Ultimate Exhibitor Guide & Custom Booth Options\nAbout O&M SAFETY\nO&M SAFETY booth rental provides an essential opportunity for exhibitors to showcase their products and connect with a targeted audience. This event is designed to enhance safety practices in the operational environment\, catering to businesses that prioritize safety protocols. Visitors to O&M SAFETY will gain valuable insights and networking opportunities that can enhance their business operations. \n\nKey Details:\nStart Date: Dec 3\, 2023\, 9:00 AM\nEnd Date: Dec 5\, 2023\, 5:00 PM\nLocation: Gaylord Palms Resort & Convention Center\nAddress: 6000 W Osceola Pkwy\, Kissimmee\, FL 34746\, USA\n\nThe event attracts industries focused on safety and operational efficiency\, including construction\, manufacturing\, and emergency services. \nVenue & Location\nLocated at the Gaylord Palms Resort & Convention Center\, Kissimmee\, FL\, USA\, this venue offers excellent logistics for exhibitors\, such as convenient access for setup and dismantling. For assistance\, feel free to reach us at {Phone}. \nKissimmee FL: Our Services\nWe DESIGN\, PRODUCE\, INSTALL & DISMANTLE turnkey booth rentals in Kissimmee FL. Our services include creative concept design\, modular frames\, branded SEG graphics\, and essential on-site support. Our booths are tailored to promote your brand effectively. \nCustom Booth Models\nWe offer various booth sizes to cater to different needs. Popular options include: \n\n10×10 booths: Ideal for one-on-one interactions and showcasing products.\n10×20 booths: Perfect for mid-sized exhibits that require additional space for larger displays.\n20×20 booths: Best suited for extensive branding and gaining visibility among attendees.\n\nLearn about our Snap Exhibitions Custom Booth Models and how they can elevate your presence at trade shows. We also provide full-service exhibit support to ensure a seamless experience from start to finish. For any inquiries\, feel free to contact our team. \nFAQ\n\nWhat is the O&M SAFETY booth rental?\nO&M SAFETY booth rental is your gateway to showcase your safety solutions at a premier industry event.\nWhat are the event hours for O&M SAFETY?\nThe event runs from Dec 3 to Dec 5\, 2023\, from 9:00 AM to 5:00 PM.\nWhat booth sizes are recommended for safety sector exhibitors?\nWe recommend 10×10 or 10×20 booths for effective space use in the safety sector.\nWhy is an aluminum booth better than wood?\nAluminum booths are lighter\, more durable\, and provide a modern aesthetic compared to wood.\nWhat can I expect from Kissimmee as a trade show venue?\nKissimmee offers great accessibility and a variety of amenities for exhibitors and attendees.\nHow can SNAP EXHIBITIONS help make everything perfect about their booth?\nWe provide end-to-end support for your booth rental\, ensuring everything is tailored to your vision.\n\nJoin us at O&M SAFETY booth rental to elevate your brand presence effectively. Contact us today to discuss how we can assist you with your booth needs at O&M SAFETY! For more information\, visit this link.
URL:https://modex2026.com/event/om-safety/
CATEGORIES:NULL
END:VEVENT
END:VCALENDAR