BEGIN:VCALENDAR
VERSION:2.0
PRODID:-//MODEX 2026 Atlanta — Local Booth Builder &amp; Rentals - ECPv6.15.13.1//NONSGML v1.0//EN
CALSCALE:GREGORIAN
METHOD:PUBLISH
X-WR-CALNAME:MODEX 2026 Atlanta — Local Booth Builder &amp; Rentals
X-ORIGINAL-URL:https://modex2026.com
X-WR-CALDESC:Events for MODEX 2026 Atlanta — Local Booth Builder &amp; Rentals
REFRESH-INTERVAL;VALUE=DURATION:PT1H
X-Robots-Tag:noindex
X-PUBLISHED-TTL:PT1H
BEGIN:VTIMEZONE
TZID:UTC
BEGIN:STANDARD
TZOFFSETFROM:+0000
TZOFFSETTO:+0000
TZNAME:UTC
DTSTART:20250101T000000
END:STANDARD
END:VTIMEZONE
BEGIN:VEVENT
DTSTART;TZID=UTC:20260505T090000
DTEND;TZID=UTC:20260507T235959
DTSTAMP:20260420T193422
CREATED:20251109T193343Z
LAST-MODIFIED:20251109T193343Z
UID:25918-1777971600-1778198399@modex2026.com
SUMMARY:DISPLAY WEEK - SID 2026
DESCRIPTION:DISPLAY WEEK – SID 2026 booth rental — Ultimate Exhibitor Guide & Custom Booth Options\n#show\n#venue\n#city-services\n#booth-models\n#faq\nDISPLAY WEEK – SID 2026 — About the Trade Show\nDISPLAY WEEK – SID 2026 booth rental is essential for exhibitors in the Sound & Image Technologies\, Optoelectronics\, Electronic Design & Components\, Consumers Electronics industry. Join us in Los Angeles\, CA\, to showcase the latest advancements in display technology. This event features the newest innovations in OLED displays\, advanced LCDs\, HD & 4K TV technologies\, digital signage\, e-Paper\, and flexible displays. Attendees will gain insights into cutting-edge technologies that can transform their business strategies. \nKey Details: May 1–3\, 2026\, Los Angeles\, CA\, United States. Join our exhibitors and unlock greatness in the display marketplace! \nVenue & Location\nThe event takes place at the renowned Los Angeles\, CA\, United States. General logistics for exhibitors include ample access points for move-in. Ensure to connect with our team for any additional inquiries regarding facilities and support. \nIf you have questions\, feel free to reach us at the provided phone number. \nLos Angeles\, CA: Our Services\nWe DESIGN\, PRODUCE\, INSTALL & DISMANTLE turnkey booth rentals in Los Angeles\, CA. Our services encompass concept/design\, modular frames\, branded SEG graphics\, storage solutions\, TV mounts\, and more. Our focus is to provide seamless execution\, ensuring a hassle-free experience for our exhibitors. \nCustom Booth Models\nExplore our Snap Exhibitions Custom Booth Models to find the perfect fit for your display needs. We suggest popular footprints such as: \n\n10×10: Ideal for small\, impactful displays that effectively capture visitor attention.\n10×20: Great for medium-sized spaces providing versatility for various setups.\n20×20: Perfect for high-traffic areas needing a bold presence and spacious layout.\n\nEach booth fits perfectly into the exhibiting sectors\, catering to audiences seeking innovation and technological advancement. \nFor comprehensive and full-service exhibit support\, contact our team at Snap Exhibitions. \nFAQ\nWhat is DISPLAY WEEK – SID 2026 booth rental?\nDISPLAY WEEK – SID 2026 booth rental offers premium services tailored for exhibitors aiming for maximum impact at this prestigious event. \nWhat are the event dates and hours?\nThe event takes place May 1–3\, 2026. \nWhat booth sizes are recommended for the electronics sectors?\nIdeal sizes include 10×10 and 10×20 for showcasing technology effectively\, depending on the space available. \nWhy is an aluminum booth better than wood?\nAluminum booths are lighter\, can be more durable\, and offer a modern aesthetic that aligns with cutting-edge technology. \nWhat can I expect during DISPLAY WEEK in Los Angeles?\nExpect cutting-edge technology displays\, networking opportunities\, and informative seminars to enhance your industry knowledge. \nHow can SNAP EXHIBITIONS help me create the perfect booth?\nWe specialize in turnkey booth rentals\, ensuring every aspect from design to installation is seamlessly managed for your success. \nIn conclusion\, DISPLAY WEEK – SID 2026 booth rental is your gateway to impactful visibility and connections in the technology sector. For more details\, make sure to contact our team today!
URL:https://modex2026.com/event/display-week-sid-2026/
CATEGORIES:Consumers Electronics,Electronic Design & Components,Optoelectronics,Sound & Image Technologies
END:VEVENT
END:VCALENDAR