BEGIN:VCALENDAR
VERSION:2.0
PRODID:-//MODEX 2026 Atlanta — Local Booth Builder &amp; Rentals - ECPv6.15.13.1//NONSGML v1.0//EN
CALSCALE:GREGORIAN
METHOD:PUBLISH
X-WR-CALNAME:MODEX 2026 Atlanta — Local Booth Builder &amp; Rentals
X-ORIGINAL-URL:https://modex2026.com
X-WR-CALDESC:Events for MODEX 2026 Atlanta — Local Booth Builder &amp; Rentals
REFRESH-INTERVAL;VALUE=DURATION:PT1H
X-Robots-Tag:noindex
X-PUBLISHED-TTL:PT1H
BEGIN:VTIMEZONE
TZID:UTC
BEGIN:STANDARD
TZOFFSETFROM:+0000
TZOFFSETTO:+0000
TZNAME:UTC
DTSTART:20240101T000000
END:STANDARD
END:VTIMEZONE
BEGIN:VEVENT
DTSTART;TZID=UTC:20251110T090000
DTEND;TZID=UTC:20251112T235959
DTSTAMP:20260423T050357
CREATED:20251106T025519Z
LAST-MODIFIED:20251106T025519Z
UID:25760-1762765200-1762991999@modex2026.com
SUMMARY:BIOMANUFACTURING WORLD SUMMIT 2025
DESCRIPTION:BIOMANUFACTURING WORLD SUMMIT 2025 booth rental — Ultimate Exhibitor Guide & Custom Booth Options\nAbout BIOMANUFACTURING WORLD SUMMIT 2025\nJoin us for the BIOMANUFACTURING WORLD SUMMIT 2025 booth rental experience in San Diego! This yearly event is a prime networking opportunity tailored to executives and organizations in the biopharmaceutical sector. Gain key insights from industry leaders\, participate in in-depth conferences\, and engage in one-on-one meetings designed to foster lasting business connections. Attendees can look forward to a wealth of knowledge and partnerships that will enhance their organizations’ capabilities. \n\nKey Details: Apr 9–11\, 2025\, 9:00 AM–5:00 PM\nLocation: Hilton San Diego Bayfront\nAddress: 1 Park Boulevard\, San Diego\, California\, 92101\, USA\nCountry: United States\n\nIndustries & Audience: This event primarily focuses on Biotechnology\, Pharmaceuticals & Cosmetology\, Sciences for Engineers – Research & Development\, Subcontracting\, Suppliers & Partners. \nVenue & Location\nThe BIOMANUFACTURING WORLD SUMMIT 2025 will be hosted at the Hilton San Diego Bayfront\, located at 1 Park Boulevard\, San Diego\, California\, 92101\, USA. The venue features ample space for exhibitors and provides ease of logistics for move-in and dock access. Whether you’re arriving by plane or car\, expect convenient access to the event. \nSan Diego CA: Our Services\nWe DESIGN\, PRODUCE\, INSTALL & DISMANTLE turnkey booth rentals in San Diego\, CA. Our comprehensive services include concept and design\, modular frames\, branded SEG graphics\, as well as reception/storage areas\, TV mounts\, and on-site installation and dismantling capabilities. \nCustom Booth Models\nOur popular footprints include: \n\n10×10 ft: Perfect for startups and first-time exhibitors looking to make an impactful entry.\n10×20 ft: Ideal for growing companies aiming to showcase more products and engage with attendees.\n20×20 ft: Suited for established brands looking to create a standout presence with multiple engagement zones.\n\nCheck out our Snap Exhibitions Custom Booth Models for inspiration\, and don’t forget our full-service exhibit support. If you need further assistance\, feel free to contact our team today! \nFAQ\n\nWhat is the BIOMANUFACTURING WORLD SUMMIT 2025 booth rental?? – This event provides an opportunity for companies to rent booths for showcasing their innovations and networking.\nWhen are the event hours/dates?? – The event will occur from April 9–11\, 2025\, daily from 9:00 AM to 5:00 PM.\nWhat are the recommended booth sizes for the Biotechnology category?? – We suggest utilizing 10×10 or 10×20 ft booths for effective engagement.\nWhy is an aluminum booth better than wood?? – Aluminum booths are lighter\, easier to customize\, and offer higher durability compared to wooden structures.\nWhat can I expect in San Diego during the summit?? – San Diego offers great attractions\, dining\, and is known for its vibrant business environment.\nHow does SNAP EXHIBITIONS ensure booth success?? – We provide turnkey rentals\, ensuring every detail is meticulously managed to meet your expectations.\n\nFor an exceptional experience at the BIOMANUFACTURING WORLD SUMMIT 2025 booth rental\, reach out to us at Snap Exhibitions. Our dedicated team is eager to assist you in making your booth unforgettable!
URL:https://modex2026.com/event/biomanufacturing-world-summit-2025/
CATEGORIES:Biotechnology,Pharmaceuticals & Cosmetology,Sciences for Engineers - Research & Development,Subcontracting,Suppliers & Partners
END:VEVENT
BEGIN:VEVENT
DTSTART;TZID=UTC:20251112T090000
DTEND;TZID=UTC:20251113T235959
DTSTAMP:20260423T050357
CREATED:20251106T030233Z
LAST-MODIFIED:20251106T030233Z
UID:25775-1762938000-1763078399@modex2026.com
SUMMARY:POLYMER TESTING WORLD EXPO NORTH AMERICA 2025
DESCRIPTION:POLYMER TESTING WORLD EXPO NORTH AMERICA 2025 — Exhibitor Guide & Ultimate Options\nAbout polymer-testing-world-expo-north-america-2025\nBoon to professionals in the industry\, POLYMER TESTING WORLD EXPO NORTH AMERICA 2025 booth rental offers a golden opportunity to interact and engage with leading experts. This international exhibition is essential for those involved in plastics\, rubber\, composites\, and various advanced materials. Attendees gain insights into the latest technologies and trends\, ensuring they stay ahead in the polymer testing field. \n\nKey Details: Jan 12–13\, 2025\, 9:00 AM–5:00 PM\nLocation: Huntington Convention Center of Cleveland\nAddress: 300 Lakeside Ave E\, Cleveland\, OH 44113\, United States\n\nIndustries & Audience: attendees span Plastics\, Rubber\, Composites\, Advanced Materials\, Quality & Maintenance\, Laboratory Equipment & Technologies\, Security – Risk Management\, and more. \nVenue & Location\nThe Huntington Convention Center of Cleveland is an ideal venue filled with logistical advantages for exhibitors. Attendees should enjoy ease of access for move-in and dock access\, optimizing their experience during the event. \nIf you need assistance\, feel free to reach us via phone. \nCleveland\, OH: Our Services\nWe DESIGN\, PRODUCE\, INSTALL & DISMANTLE turnkey booth rentals in this city\, ensuring your presence at POLYMER TESTING WORLD EXPO NORTH AMERICA 2025 is impactful. Our comprehensive services cover concept and design\, modular frames\, branded SEG graphics\, and on-site installation and dismantling. \nCustom Booth Models\nOur popular booth footprints cater to varying needs: 10×10\, 10×20\, and 20×20. These models suit exhibitors across the listed sectors\, facilitating optimal interactions with their target audience. Explore our Snap Exhibitions Custom Booth Models for unique designs. \nFor full support and services\, check our full-service exhibit support. Let’s make your participation a success\, and contact our team to discuss your booth requirements. \nFAQ\nQ: What are the dates and hours for POLYMER TESTING WORLD EXPO NORTH AMERICA 2025? A: The event is scheduled for January 12–13\, 2025\, from 9:00 AM to 5:00 PM. \nQ: What is included in the POLYMER TESTING WORLD EXPO NORTH AMERICA 2025 booth rental? A: Our booth rentals offer a complete solution including design\, setup\, and dismantling. \nQ: Why is aluminum a better option than wood for booths? A: Aluminum is lightweight\, durable\, and provides a modern aesthetic compared to wood. \nQ: How can you help me with my booth for POLYMER TESTING WORLD EXPO NORTH AMERICA 2025? A: We are committed to making your booth experience seamless\, from design to execution. \nQ: What are the recommended booth sizes for participants? A: For the listed sectors\, we suggest sizes like 10×10 and 10×20 to maximize engagement. \nQ: What can I expect from attending POLYMER TESTING WORLD EXPO NORTH AMERICA 2025? A: Expect networking opportunities and insight into cutting-edge polymer testing technology. \nQ: What services do you offer in Cleveland for this event? A: We provide complete exhibit solutions including booth designs tailored for exhibitor needs. \nDon’t miss the chance to participate in POLYMER TESTING WORLD EXPO NORTH AMERICA 2025. For turnkey booth rentals and additional assistance\, contact us now!
URL:https://modex2026.com/event/polymer-testing-world-expo-north-america-2025/
CATEGORIES:Advanced Materials,Composites,Laboratory Equipment & Technologies,Plastics,Quality & Maintenance,Rubber,Sciences for Engineers - Research & Development,Security - Risk Management
END:VEVENT
END:VCALENDAR