BEGIN:VCALENDAR
VERSION:2.0
PRODID:-//MODEX 2026 Atlanta — Local Booth Builder &amp; Rentals - ECPv6.15.13.1//NONSGML v1.0//EN
CALSCALE:GREGORIAN
METHOD:PUBLISH
X-WR-CALNAME:MODEX 2026 Atlanta — Local Booth Builder &amp; Rentals
X-ORIGINAL-URL:https://modex2026.com
X-WR-CALDESC:Events for MODEX 2026 Atlanta — Local Booth Builder &amp; Rentals
REFRESH-INTERVAL;VALUE=DURATION:PT1H
X-Robots-Tag:noindex
X-PUBLISHED-TTL:PT1H
BEGIN:VTIMEZONE
TZID:UTC
BEGIN:STANDARD
TZOFFSETFROM:+0000
TZOFFSETTO:+0000
TZNAME:UTC
DTSTART:20240101T000000
END:STANDARD
END:VTIMEZONE
BEGIN:VEVENT
DTSTART;TZID=UTC:20251027T090000
DTEND;TZID=UTC:20251029T235959
DTSTAMP:20260423T064217
CREATED:20251109T190513Z
LAST-MODIFIED:20251109T190513Z
UID:25902-1761555600-1761782399@modex2026.com
SUMMARY:ASCEND 2025
DESCRIPTION:ASCEND 2025 booth rental — Premium Exhibitor Guide & Custom Booth Options\nAbout ASCEND 2025\nASCEND 2025 booth rental is your gateway to a transformative experience at ASCEND\, an innovative event focused on accelerating space commerce\, exploration\, and new discovery. This premier event runs from Aug 29–31\, 2025\, 9:00 AM–5:00 PM at Las Vegas\, NV\, USA. At ASCEND\, visitors and exhibitors will gain valuable insights into advancing aerospace and space technologies\, making it an essential event for anyone in the fields of Aeronautics – Space\, Sciences for Engineers – Research & Development\, Tourism – Travel\, Marketing & Selling. \nKey Details: \nDate: Aug 29–31\, 2025\, 9:00 AM–5:00 PM\nLocation: Las Vegas\, NV\nAddress: USA\nCountry: United States\nEvent Website\n\nVenue & Location\nJoin us at the iconic Las Vegas\, NV\, USA where ASCEND 2025 will take place. The venue offers spacious facilities suitable for move-in and logistics without a hassle. Exhibitors can expect easy dock access and coordinated timelines for setup and dismantling. \nLas Vegas NV: Our Services\nIn Las Vegas\, NV\, we DESIGN\, PRODUCE\, INSTALL & DISMANTLE turnkey booth rentals. Our scope includes concept/design\, modular frames\, branded SEG graphics\, reception/storage\, and TV mount installations. We prioritize making your presence felt at trade shows\, ensuring a seamless experience. \nCustom Booth Models\nWe offer a range of popular booth footprints such as 10×10\, 10×20\, and 20×20 to suit your needs at ASCEND 2025. Each square footage option is ideal for showcasing innovations to your potential audience in the featured industries. Explore our designs: Snap Exhibitions Custom Booth Models. \nOur full-service exhibit support ensures every logistical aspect is covered\, allowing you to focus on what matters most — connecting with visitors. If you have specific ideas or needs\, contact our team today! \nFAQ\n\nWhat is ASCEND 2025 booth rental?\nASCEND 2025 booth rental provides exhibitors with tailored solutions to showcase their products and services to professionals in the aerospace and space sectors.\nWhat are the dates and hours for the event?\nASCEND 2025 will take place on August 29–31\, 2025\, from 9:00 AM to 5:00 PM.\nWhat booth sizes do you recommend for the aeronautics sector?\nPopular sizes include 10×10 and 10×20 for impactful displays that attract attendees.\nWhy is an aluminum booth better than wood?\nAluminum is lighter\, more durable\, and often allows for easier assembly and disassembly\, making it a preferred choice for trade shows.\nWhat can we expect from ASCEND 2025 in Las Vegas?\nExpect insightful presentations\, countless networking opportunities\, and exposure to groundbreaking technologies.\nHow can SNAP EXHIBITIONS help make everything perfect about our booth?\nWe ensure that every booth we create meets your vision through high-quality design and full support throughout the event.\n\nDon’t miss the chance to secure your ASCEND 2025 booth rental — a premium opportunity to engage with the forefront of space commerce and exploration. To learn more\, contact our team today!
URL:https://modex2026.com/event/ascend-2025/
CATEGORIES:Aeronautics - Space,Marketing & Selling,Sciences for Engineers - Research & Development,Tourism - Travel
END:VEVENT
END:VCALENDAR