BEGIN:VCALENDAR
VERSION:2.0
PRODID:-//MODEX 2026 Atlanta — Local Booth Builder &amp; Rentals - ECPv6.15.13.1//NONSGML v1.0//EN
CALSCALE:GREGORIAN
METHOD:PUBLISH
X-WR-CALNAME:MODEX 2026 Atlanta — Local Booth Builder &amp; Rentals
X-ORIGINAL-URL:https://modex2026.com
X-WR-CALDESC:Events for MODEX 2026 Atlanta — Local Booth Builder &amp; Rentals
REFRESH-INTERVAL;VALUE=DURATION:PT1H
X-Robots-Tag:noindex
X-PUBLISHED-TTL:PT1H
BEGIN:VTIMEZONE
TZID:UTC
BEGIN:STANDARD
TZOFFSETFROM:+0000
TZOFFSETTO:+0000
TZNAME:UTC
DTSTART:20260101T000000
END:STANDARD
END:VTIMEZONE
BEGIN:VEVENT
DTSTART;TZID=UTC:20270113T090000
DTEND;TZID=UTC:20270114T235959
DTSTAMP:20260423T051930
CREATED:20251110T042014Z
LAST-MODIFIED:20251110T042014Z
UID:26066-1799830800-1799971199@modex2026.com
SUMMARY:CARBON CAPTURE TECHNOLOGY CONFERENCE & EXPO - NORTH AMERICA 2027
DESCRIPTION:CARBON CAPTURE TECHNOLOGY CONFERENCE & EXPO – NORTH AMERICA 2027 — Exhibitor Guide & Ultimate Options\nAbout CARBON CAPTURE TECHNOLOGY CONFERENCE & EXPO – NORTH AMERICA 2027\nCARBON CAPTURE TECHNOLOGY CONFERENCE & EXPO – NORTH AMERICA 2027 booth rental is a prime opportunity to engage with leaders in Environmental Protection\, Clean Energies\, Chemical Process\, and R&D. This event will showcase the pivotal role of Carbon Capture\, Utilization & Storage in our transition to a net-zero carbon economy. Expect detailed discussions\, networking\, and insights that empower your business goals. Key Details: April 10–12\, 2027\, NRG Center\, Houston\, TX 77054\, United States. Explore more at ccus-expo.com. \nIndustries & Audience: Environmental Protection\, Clean Energies – Renewable Energies\, Chemical Process\, Sciences for Engineers – Research & Development. \nVenue & Location\nThe NRG Center in Houston\, TX 77054\, United States\, serves as an ideal venue for our booth rental exhibits. It features ample logistics for exhibitors\, including easy access and dock facilities for moving in and setting up your displays. \nHouston\, TX: Our Services\nIn Houston\, TX\, we DESIGN\, PRODUCE\, INSTALL & DISMANTLE turnkey booth rentals. Our scope covers concept design\, modular frames\, branded SEG graphics\, reception/storage areas\, and TV mounts\, ensuring an all-inclusive experience for exhibitors. You can rely on us to create engaging environments tailored to your brand’s needs. \nCustom Booth Models\nDiscover our various booth models that fit seamlessly into your exhibitor strategy. Our popular footprints like 10×10\, 10×20\, and 20×20 suit the specific needs of exhibitors in environmental sciences and clean energies. You can find more details on our Snap Exhibitions Custom Booth Models. Our full-service exhibit support ensures you have everything ready for a successful event. Ready to stand out? You can contact our team today! \nFAQ\nWhat is the CARBON CAPTURE TECHNOLOGY CONFERENCE & EXPO – NORTH AMERICA 2027 booth rental? It’s a specialized event aimed at showcasing developments in carbon capture technology. \nWhen does the event take place? From April 10 to 12\, 2027. \nWhat are the recommended booth sizes for Environmental Protection sectors? Booth sizes like 10×20 or 20×20 are ideal for impactful displays. \nWhy is an aluminum booth better than wood? Aluminum is lighter\, more durable\, and offers better reusability than wood. \nWhat services does Houston provide for exhibitors? Houston features a range of logistics support for smooth setup and exhibition. \nWhat can I expect from the CARBON CAPTURE TECHNOLOGY CONFERENCE & EXPO? Engage with experts\, learn best practices\, and network within your industry. \nHow can SNAP EXHIBITIONS help me make everything perfect about my booth? We offer comprehensive turnkey booth rentals that cover every aspect of your exhibit experience. \nFor an exceptional experience\, make sure to explore CARBON CAPTURE TECHNOLOGY CONFERENCE & EXPO – NORTH AMERICA 2027 booth rental options and contact our team for more information.
URL:https://modex2026.com/event/carbon-capture-technology-conference-expo-north-america-2027/
CATEGORIES:Chemical Process,Clean Energies - Renewable Energies,Environmental Protection,Sciences for Engineers - Research & Development
END:VEVENT
BEGIN:VEVENT
DTSTART;TZID=UTC:20270113T090000
DTEND;TZID=UTC:20270114T235959
DTSTAMP:20260423T051930
CREATED:20251110T042029Z
LAST-MODIFIED:20251110T042029Z
UID:26067-1799830800-1799971199@modex2026.com
SUMMARY:HYDROGEN TECHNOLOGY EXPO - NORTH AMERICA 2027
DESCRIPTION:HYDROGEN TECHNOLOGY EXPO – NORTH AMERICA 2027 booth rental — Ultimate Experience\nAbout HYDROGEN TECHNOLOGY EXPO – NORTH AMERICA 2027\nHYDROGEN TECHNOLOGY EXPO – NORTH AMERICA 2027 booth rental provides an unparalleled opportunity for exhibitors in the hydrogen and fuel cell industry. This event is designed for professionals eager to explore advanced technologies and innovations. Attendees will gain insights\, connect with industry leaders\, and discover the latest trends in hydrogen technology. \nKey Details\n\nDates: Feb 10–12\, 2027\, 9:00 AM–5:00 PM\nLocation: NRG Center\, Houston\, TX 77054\, United States\nWebsite: Hydrogen Technology Expo Site\n\nIndustries & Audience: Opportunities in Biofuels – Hydrogen\, Clean Energies – Renewable Energies and more await you! \nVenue & Location\nThe event will take place at the NRG Center\, located in Houston\, TX. Expect central accessibility with easy logistics for booth setup and dismantling. \nHouston TX: Our Services\nIn Houston TX\, we DESIGN\, PRODUCE\, INSTALL & DISMANTLE turnkey booth rentals. Our services cover concept/design\, modular frames\, branded SEG graphics\, reception/storage options\, TV mounts\, and on-site installation and dismantling (I&D) services to ensure a seamless experience. \nCustom Booth Models\nWe offer various popular footprints\, including 10×10\, 10×20\, and 20×20 models. These configurations are tailored to enhance your presence at the HYDROGEN TECHNOLOGY EXPO – NORTH AMERICA 2027. For custom solutions\, you can explore our Snap Exhibitions Custom Booth Models\, along with our full-service exhibit support. \nIf you’re looking for booth ideas or wish to create a lasting impression\, contact our team today! \nFAQ\nWhat is the HYDROGEN TECHNOLOGY EXPO – NORTH AMERICA 2027 booth rental opportunity?\nThe HYDROGEN TECHNOLOGY EXPO – NORTH AMERICA 2027 booth rental allows exhibitors to showcase innovations in the hydrogen sector. \nWhen are the event hours for the HYDROGEN TECHNOLOGY EXPO?\nThe event runs from February 10 to February 12\, 2027\, with hours from 9:00 AM to 5:00 PM daily. \nWhat booth sizes are recommended for the Clean Energies sector?\nPopular sizes like 10×20 and 20×20 are effective for showcasing in the Clean Energies sector. \nWhy is an aluminum booth better than a wood booth?\nAluminum booths are generally lighter\, more durable\, and provide modern aesthetics compared to wood booths. \nWhat services does Snap Exhibitions offer in Houston?\nWe provide comprehensive booth rental solutions\, ensuring all aspects are handled efficiently for exhibitors. \nHow does participating in the HYDROGEN TECHNOLOGY EXPO benefit exhibitors?\nThis expo is a chance to network\, gain industry insights\, and enhance product visibility. \nHow can Snap Exhibitions help us make everything perfect about our booth?\nOur team manages every detail from design to installation\, crafting the perfect environment for your display. \nTo secure your space at this premier event\, remember that the HYDROGEN TECHNOLOGY EXPO – NORTH AMERICA 2027 booth rental will enhance your visibility. Contact us today at Snap Exhibitions to learn more!
URL:https://modex2026.com/event/hydrogen-technology-expo-north-america-2027/
CATEGORIES:Automotive Engineering - Systems & Components,Biofuels - Hydrogen,Clean Energies - Renewable Energies,Electric & Hybrid Vehicles,Energy Production & Transportation,Environmental Protection,Sciences for Engineers - Research & Development
END:VEVENT
END:VCALENDAR