BEGIN:VCALENDAR
VERSION:2.0
PRODID:-//MODEX 2026 Atlanta — Local Booth Builder &amp; Rentals - ECPv6.15.20//NONSGML v1.0//EN
CALSCALE:GREGORIAN
METHOD:PUBLISH
X-WR-CALNAME:MODEX 2026 Atlanta — Local Booth Builder &amp; Rentals
X-ORIGINAL-URL:https://modex2026.com
X-WR-CALDESC:Events for MODEX 2026 Atlanta — Local Booth Builder &amp; Rentals
REFRESH-INTERVAL;VALUE=DURATION:PT1H
X-Robots-Tag:noindex
X-PUBLISHED-TTL:PT1H
BEGIN:VTIMEZONE
TZID:UTC
BEGIN:STANDARD
TZOFFSETFROM:+0000
TZOFFSETTO:+0000
TZNAME:UTC
DTSTART:20250101T000000
END:STANDARD
END:VTIMEZONE
BEGIN:VEVENT
DTSTART;TZID=UTC:20260504T090000
DTEND;TZID=UTC:20260507T235959
DTSTAMP:20260424T122524
CREATED:20251110T044107Z
LAST-MODIFIED:20251110T044107Z
UID:26069-1777885200-1778198399@modex2026.com
SUMMARY:OTC (OFFSHORE TECHNOLOGY CONFERENCE) 2026
DESCRIPTION:OTC (OFFSHORE TECHNOLOGY CONFERENCE) 2026 — Exhibitor Guide & Custom Booth Options\nAbout otc-offshore-technology-conference\nOTC (OFFSHORE TECHNOLOGY CONFERENCE) 2026 booth rental is your key to success in Houston! At this premier event\, attendees from the Oil & Gas\, Energy Production & Transportation\, Spatial Information Systems\, Environmental Protection sectors gather to share knowledge and explore innovations. Visitors and exhibitors alike gain insights into the latest trends in offshore resource development\, from drilling and exploration to production and environmental protection. \n\nKey Details:\nDates: Jan 31 – Feb 2\, 2026\, 9:00 AM – 5:00 PM\nLocation: NRG Park\, One NRG Park\, Houston\, Texas 77054\, USA\n\nVenue & Location\nThe locating venue is NRG Park\, situated at One NRG Park\, Houston\, Texas 77054\, USA. This venue provides excellent logistics for exhibitors\, such as ample dock access for easy setup and dismantling. If you have any inquiries\, feel free to reach us at our contact number. \nHouston TX: Our Services\nWe DESIGN\, PRODUCE\, INSTALL & DISMANTLE turnkey booth rentals in Houston TX. Our services cover the entire scope of booth creation—from concept and design to modular frames\, branded SEG graphics\, reception/storage areas\, and TV mounts. Plus\, we ensure on-site installation and dismantle for convenience! \nCustom Booth Models\nFor the OTC 2026 attendees\, our offerings include a variety of popular booth footprints: \n\n10×10 Booth: Perfect for smaller spaces\, great for quick engagements.\n10×20 Booth: A popular choice\, ensuring ample visibility and space for product showcases.\n20×20 Booth: Ideal for those looking to make a bold statement with a larger presence.\n\nThese spaces are tailored to meet the needs of exhibitors in the Oil & Gas\, Energy Production & Transportation\, Spatial Information Systems\, Environmental Protection sectors. To explore our booth designs\, visit our Snap Exhibitions Custom Booth Models page. \nTo benefit from full-service exhibit support\, including logistics and tailored setups for the OTC\, we make the experience smooth and impactful. If you’re ready to elevate your presence at OTC 2026\, contact our team! \nFAQ\n\nWhat is OTC (OFFSHORE TECHNOLOGY CONFERENCE) 2026 booth rental?The OTC 2026 booth rental provides exhibitors with personalized space to showcase their innovations and connect with industry experts.\nWhen are the event hours for OTC 2026?OTC 2026 runs from January 31 to February 2\, 2026\, from 9:00 AM to 5:00 PM.\nRecommended booth sizes for Oil & Gas sectors?We recommend a 10×20 or 20×20 booth for optimal visibility and engagement with potential clients.\nWhy is an aluminum booth better than wood?Aluminum booths are lighter\, more durable\, and offer a modern aesthetic\, making them easier to transport and set up.\nWhat services does Snap Exhibitions provide in Houston?We offer comprehensive exhibitor support\, including turnkey booth rentals\, design\, production\, and installation services.\nHow can I make the most out of OTC 2026?Engage visitors with a well-designed booth and interactive displays; consider our turnkey booth rental options for a seamless experience.\nHow can SNAP EXHIBITIONS help make everything perfect about their booth?We handle every detail from design to install\, ensuring your booth is a standout success.\n\nOTC (OFFSHORE TECHNOLOGY CONFERENCE) 2026 booth rental is your ticket to an impactful presence in Houston! For more information about our services and to secure your booth\, contact our team today!
URL:https://modex2026.com/event/otc-offshore-technology-conference-2026/
CATEGORIES:Energy Production & Transportation,Environmental Protection,Oil & Gas,Spatial Information Systems
END:VEVENT
END:VCALENDAR