BEGIN:VCALENDAR
VERSION:2.0
PRODID:-//MODEX 2026 Atlanta — Local Booth Builder &amp; Rentals - ECPv6.15.20//NONSGML v1.0//EN
CALSCALE:GREGORIAN
METHOD:PUBLISH
X-ORIGINAL-URL:https://modex2026.com
X-WR-CALDESC:Events for MODEX 2026 Atlanta — Local Booth Builder &amp; Rentals
REFRESH-INTERVAL;VALUE=DURATION:PT1H
X-Robots-Tag:noindex
X-PUBLISHED-TTL:PT1H
BEGIN:VTIMEZONE
TZID:UTC
BEGIN:STANDARD
TZOFFSETFROM:+0000
TZOFFSETTO:+0000
TZNAME:UTC
DTSTART:20250101T000000
END:STANDARD
END:VTIMEZONE
BEGIN:VEVENT
DTSTART;TZID=UTC:20261028T090000
DTEND;TZID=UTC:20261029T235959
DTSTAMP:20260424T152706
CREATED:20251109T202500Z
LAST-MODIFIED:20251109T202500Z
UID:25999-1793178000-1793318399@modex2026.com
SUMMARY:FILTREXPO 2026
DESCRIPTION:Minneapolis booth rental for FILTREXPO 2026 — Essential Guide\nAbout FILTREXPO 2026\nVenue & Location\nMinneapolis MN: Our Services\nCustom Booth Models\nFAQ\nAbout FILTREXPO 2026\nMinneapolis booth rental for FILTREXPO 2026 is the perfect opportunity to showcase your innovations in the filtration and separation sectors. This international exhibition\, held from Feb 24–26\, 2026\, will gather professionals in the Chemical Process\, Technical Textiles\, Advanced Materials industries. Attendees will benefit from a technical conference focusing on the latest developments and applications. \n\nKey Details:\nDate: Feb 24–26\, 2026\, 9:00 AM–5:00 PM\nLocation: Minneapolis Convention Center\nAddress: 1301 2nd Avenue South Minneapolis\, MN 55403\, USA\n\nVenue & Location\nThe FILTREXPO 2026 will take place at the Minneapolis Convention Center\, located at 1301 2nd Avenue South\, Minneapolis\, MN 55403\, USA. This venue is equipped with the necessary logistics for a smooth experience — from move-in windows to dock access\, attendees can expect ease of access on-site. \nMinneapolis MN: Our Services\nWe DESIGN\, PRODUCE\, INSTALL & DISMANTLE turnkey booth rentals in Minneapolis MN. Our services include concept/design\, modular frames\, branded SEG graphics\, reception/storage\, TV mount\, and on-site installation & dismantling. \nCustom Booth Models\nWe offer various popular footprints to suit your needs\, including: \n\n10×10: Ideal for startups showcasing niche products.\n10×20: Provides ample space for mid-sized businesses to display their technologies and engage visitors.\n20×20: Perfect for large exhibitors aiming for a bold presence with comprehensive branding.\n\nFor Snap Exhibitions Custom Booth Models\, check out our variety of designs. We provide full-service exhibit support. For more details\, contact our team today! \nFAQ\n\nWhat is the significance of Minneapolis booth rental for FILTREXPO 2026? It allows exhibitors to effectively present their innovations while attracting a targeted audience.\nWhen are the event hours for FILTREXPO 2026? Feb 24–26\, 2026; 9:00 AM–5:00 PM each day.\nWhat booth sizes do you recommend for Chemical Process industries? Popular sizes include 10×10 for individual products and larger footprints for comprehensive displays.\nWhy is an aluminum booth better than wood? Aluminum booths are lightweight\, durable\, and offer more design flexibility while being easier to transport.\nWhat makes Minneapolis a great location for FILTREXPO 2026? Its vibrant business ecosystem and accessibility attract a diverse range of attendees.\nHow can SNAP EXHIBITIONS help me make everything perfect about my booth? We offer tailored solutions\, ensuring your booth is functional and beautifully designed to attract visitors.\n\nIn conclusion\, Minneapolis booth rental for FILTREXPO 2026 ensures you stand out amongst competitors while attracting the right audience. We are here to help you create an impactful presence at the show. Contact us today!
URL:https://modex2026.com/event/filtrexpo-2026/
CATEGORIES:Advanced Materials,Chemical Process,Technical Textiles
END:VEVENT
BEGIN:VEVENT
DTSTART;TZID=UTC:20270323T090000
DTEND;TZID=UTC:20270325T235959
DTSTAMP:20260424T152706
CREATED:20251109T100210Z
LAST-MODIFIED:20251109T100210Z
UID:25852-1805792400-1806019199@modex2026.com
SUMMARY:IDEA 2027
DESCRIPTION:IDEA 2027 booth rental — Ultimate Exhibitor Guide & Custom Booth Options\nAbout IDEA 2027\nIDEA 2027 booth rental offers unmatched opportunities for exhibitors in the technical textiles and advanced materials sectors. This event is the world’s preeminent event for non-woven and engineered fabrics\, featuring a conference and expo that brings together key industry players and innovators. Companies will gain insights\, network with professionals\, and showcase their advancements in materials. Key Details: Sep 12–14\, 9:00 AM–5:00 PM\, Kansas City Convention Center\, 301 W. 13th St.\, Kansas City\, MO\, United States. \nIndustries & Audience: Technical Textiles\, Advanced Materials. \nVenue & Location\nThe IDEA 2027 will be hosted at the Kansas City Convention Center\, located at 301 W. 13th St.\, Kansas City\, MO\, United States. This venue boasts ample space and logistical ease for exhibitors\, ensuring a smooth setup and breakdown process. \nKansas City MO: Our Services\nWe DESIGN\, PRODUCE\, INSTALL & DISMANTLE turnkey booth rentals in Kansas City MO. Our services encompass everything from concept and design to modular frames and branded SEG graphics. We also provide reception/storage solutions and TV mounts\, all handled efficiently by our on-site installation and dismantle (I&D) team. \nCustom Booth Models\nOur Snap Exhibitions Custom Booth Models offer popular footprints\, including: \n\n10×10 — Perfect for smaller exhibits wanting an impactful presence.\n10×20 — Ideal for businesses looking to make a bold statement with more space.\n20×20 — Suitable for larger displays\, providing considerable room for interaction and engagement.\n\n   Each model is designed with our exhibitors in mind\, ensuring they fit perfectly within the technical textiles and advanced materials sectors. For full-service exhibit support\, we’re here to assist you.\n \nFAQ\n\nWhat is IDEA 2027 booth rental?IDEA 2027 booth rental provides customized options for exhibitors in the technical textiles sector\, ensuring high visibility and engagement.\nWhen does the event take place?IDEA 2027 is scheduled from Sep 12 to 14\, with hours from 9:00 AM to 5:00 PM.\nWhat are recommended booth sizes for technical textiles?Popular sizes include 10×10 for smaller displays\, 10×20 for medium engagements\, and 20×20 for larger showcases.\nWhy is an aluminum booth better than wood?Aluminum booths are lighter\, more durable\, and offer a modern look compared to traditional wood designs.\nWhat can you tell me about Kansas City?Kansas City is renowned for its rich cultural history and vibrant business scene\, making it a prime location for trade shows.\nTell me more about IDEA 2027.IDEA 2027 represents innovation and advancement in the non-woven and engineered fabrics industry.\nHow can SNAP EXHIBITIONS help ensure everything about my booth is perfect?We provide end-to-end support for your booth needs\, from design to installation. Feel free to contact our team for tailored solutions.\n\nIn summary\, IDEA 2027 booth rental provides essential turnkey options for exhibitors aiming for success in Kansas City. Our expert team is available to help you every step of the way. For inquiries or to discuss your booth rental\, please contact our team today!
URL:https://modex2026.com/event/idea-2027/
CATEGORIES:Advanced Materials,Technical Textiles
END:VEVENT
END:VCALENDAR