BEGIN:VCALENDAR
VERSION:2.0
PRODID:-//MODEX 2026 Atlanta — Local Booth Builder &amp; Rentals - ECPv6.15.13.1//NONSGML v1.0//EN
CALSCALE:GREGORIAN
METHOD:PUBLISH
X-ORIGINAL-URL:https://modex2026.com
X-WR-CALDESC:Events for MODEX 2026 Atlanta — Local Booth Builder &amp; Rentals
REFRESH-INTERVAL;VALUE=DURATION:PT1H
X-Robots-Tag:noindex
X-PUBLISHED-TTL:PT1H
BEGIN:VTIMEZONE
TZID:UTC
BEGIN:STANDARD
TZOFFSETFROM:+0000
TZOFFSETTO:+0000
TZNAME:UTC
DTSTART:20250101T000000
END:STANDARD
END:VTIMEZONE
BEGIN:VEVENT
DTSTART;TZID=UTC:20260911T090000
DTEND;TZID=UTC:20260913T235959
DTSTAMP:20260422T194735
CREATED:20251109T100308Z
LAST-MODIFIED:20251109T100308Z
UID:25854-1789117200-1789343999@modex2026.com
SUMMARY:FANEXPO DALLAS 2026
DESCRIPTION:FANEXPO DALLAS 2026 booth rental — Premium Exhibitor Guide & Custom Booth Options\nAbout FANEXPO DALLAS 2026\nVenue & Location\nDallas TX: Our Services\nCustom Booth Models\nFAQ\nAbout FANEXPO DALLAS 2026\nFANEXPO DALLAS 2026 booth rental is your gateway to a successful presence at one of the most anticipated events in the comics\, sci-fi\, horror\, anime\, and gaming industries. Set to take place from Nov 14–16\, 2026\, 9:00 AM–5:00 PM at the Kay Bailey Hutchison – Dallas Convention Center\, 650 South Griffin Street\, Dallas\, TX 75202\, United States\, this event promises an enriching experience for both exhibitors and attendees. You will gain unparalleled access to your target audience\, networking opportunities\, and valuable insights into the latest trends. \nKey Details: \nDate: Nov 14–16\, 2026\nLocation: Kay Bailey Hutchison – Dallas Convention Center\nAddress: 650 South Griffin Street\, Dallas\, TX 75202\nCountry: United States\nWebsite: fanexpodallas.com\n\nIndustries & Audience: This event attracts a diverse audience looking for the latest in Books\, Video Games – Interactive Entertainment\, Toys & Games. \nVenue & Location\nThe FANEXPO DALLAS 2026 will be hosted at the Kay Bailey Hutchison – Dallas Convention Center\, located at 650 South Griffin Street\, Dallas\, TX 75202\, United States. The venue is well-equipped for logistics\, including move-in windows and dock access\, ensuring a seamless experience for all exhibitors. \nDallas TX: Our Services\nWe DESIGN\, PRODUCE\, INSTALL & DISMANTLE turnkey booth rentals in Dallas TX. Our offerings include concept/design\, modular frames\, branded SEG graphics\, reception/storage\, and TV mounts with on-site installation and dismantling. We cater to all your booth rental needs to ensure you create a remarkable experience the attendees won’t forget. \nCustom Booth Models\nDiscover our Snap Exhibitions Custom Booth Models\, designed to meet the specific needs of exhibitors in the entertainment sector. We offer popular footprints such as: \n\n10×10: Ideal for small businesses and startups looking to maximize their visibility.\n10×20: A great option for brands wanting to make a bolder statement with additional space.\n20×20: Perfect for major exhibitors seeking to captivate a large audience with eye-catching designs.\n\nEach of these footprints is customizable to showcase your brand effectively in alignment with your marketing goals. \nFor comprehensive support in your exhibition journey\, learn more about our full-service exhibit support and how we can help you realize your exhibitor dreams. \nFAQ\n\nWhat is FANEXPO DALLAS 2026 booth rental?FANEXPO DALLAS 2026 booth rental provides a seamless solution for exhibitors to showcase their products and services effectively at a prime location.\nWhat are the event hours/dates for FANEXPO DALLAS 2026?The event is scheduled for November 14–16\, 2026\, 9:00 AM–5:00 PM.\nWhat booth sizes do you recommend for the entertainment sector?Depending on your needs\, we recommend sizes like 10×10\, 10×20\, or 20×20 to suit various exhibitor objectives.\nWhy is an aluminum booth better than wood?Aluminum is lighter\, more durable\, and offers better design flexibility compared to wood\, making it ideal for exhibition booths.\nWhat can I expect from Dallas?Dallas is a vibrant city with a strong entertainment culture\, providing excellent opportunities for networking and engagement at the expo.\nHow can SNAP EXHIBITIONS help make my booth perfect?We provide comprehensive turnkey booth rentals ensuring every aspect of your booth is designed to attract and engage attendees.\n\nAt FANEXPO DALLAS 2026 booth rental\, we are committed to providing you with an extraordinary exhibitor experience. Contact our team today to learn more about our services!
URL:https://modex2026.com/event/fanexpo-dallas-2026/
CATEGORIES:Books,Toys & Games,Video Games - Interactive Entertainment
END:VEVENT
BEGIN:VEVENT
DTSTART;TZID=UTC:20260914T090000
DTEND;TZID=UTC:20260919T235959
DTSTAMP:20260422T194735
CREATED:20251109T194725Z
LAST-MODIFIED:20251109T194725Z
UID:25950-1789376400-1789862399@modex2026.com
SUMMARY:IMTS 2026
DESCRIPTION:IMTS 2026 booth rental — Essential Exhibitor Guide & Custom Booth Options\nAbout IMTS 2026\nVenue & Location\nChicago IL: Our Services\nCustom Booth Models\nFAQ\n\nIMTS 2026 booth rental — The International Manufacturing Technology Show is an unmissable event for more than 82\,000 industrial decision-makers. Attending this trade show allows exhibitors to present innovative solutions\, enhance visibility\, and connect with professionals passionate about the manufacturing sector. \nThis event will take place from Sep 12–14\, 2026\, 9:00 AM–5:00 PM at McCormick Place Convention Center\, 2301 S. Lake Shore Drive\, Chicago\, Illinois\, 60616\, USA. Discover exceptional opportunities to solve manufacturing problems and gain insights into the latest trends in the industry. Follow this link to explore more. \n**Industries & Audience**: This show features attendees from sectors like **Machines-tools\, Robotics\, Metal Working Industries\, Rapid Prototyping & Additive Manufacturing**\, among others. \n\n\nLocated at McCormick Place Convention Center\, Chicago\, Illinois\, this premier venue provides excellent logistics suitable for large-scale exhibitions. While phone support is unavailable\, the central access makes it easy for exhibitors and attendees alike to come together for impactful networking. \n\n\nIn Chicago IL\, we DESIGN\, PRODUCE\, INSTALL & DISMANTLE turnkey booth rentals. Our services encompass concept development\, modular frame setups\, branded SEG graphics\, reception/storage solutions\, and TV mounts. We ensure every detail aligns with your vision to create an engaging exhibitor experience. \n\n\nOur popular booth footprints include: \n\n10×10: Ideal for start-ups or small businesses looking to make a bold statement in a limited space.\n10×20: Perfect for those wanting more space to showcase multiple products or services in greater detail.\n20×20: A spacious layout inviting interaction\, ideal for larger companies wanting to dominate the exhibition floor.\n\nFor a comprehensive approach\, explore our Snap Exhibitions Custom Booth Models which cater to various industry needs. We also provide full-service exhibit support for a seamless experience and encourage you to contact our team for further assistance. \n\n\nFAQ\n\nWhat is IMTS 2026 booth rental? IMTS 2026 booth rental allows exhibitors to showcase their products and solutions to thousands of professionals in the manufacturing industry.\nWhat are the event hours for IMTS 2026? The event runs from Sep 12 to Sep 14\, 2026\, from 9:00 AM to 5:00 PM daily.\nWhat booth sizes are recommended for the manufacturing sector? A 10×20 booth is generally recommended for effective engagement\, but larger footprints like 20×20 can facilitate more interactive designs.\nWhy is an aluminum booth better than wood? Aluminum is lighter\, more durable\, and offers a modern aesthetic for displays compared to traditional wooden structures.\nWhat transportation options are available in Chicago? Chicago boasts a well-connected transportation network\, making it easy to navigate to and from the trade show venue.\nHow can SNAP EXHIBITIONS help me make everything perfect about my booth? We offer tailored solutions to design and create visually-striking booths that cater to your specific marketing goals\, ensuring everything is meticulously arranged for your success.\n\n\nAs you prepare for IMTS 2026 booth rental\, ensure to maximize your exhibition presence. For a hassle-free and impactful experience\, contact us today! Explore more options with our turnkey booth rental solutions at Snap Exhibitions.
URL:https://modex2026.com/event/imts-2026/
CATEGORIES:Applied Computer & Industrial Engineering,Machines-tools - Tools,Metal Working Industries,Mould & Die,Rapid Prototyping & Additive Manufacturing,Real Time Systems & Embedded Systems,Robotics
END:VEVENT
BEGIN:VEVENT
DTSTART;TZID=UTC:20260915T090000
DTEND;TZID=UTC:20260917T235959
DTSTAMP:20260422T194735
CREATED:20251102T205806Z
LAST-MODIFIED:20251102T205806Z
UID:25713-1789462800-1789689599@modex2026.com
SUMMARY:LABELEXPO AMERICAS 2026
DESCRIPTION:LABELEXPO AMERICAS 2026 booth rental — Ultimate Exhibitor Guide & Custom Booth Options\nAbout LABELEXPO AMERICAS 2026\nLABELEXPO AMERICAS 2026 booth rental is an essential service for exhibitors looking to maximize their presence at this landmark event. Catering to the packaging and printing industries\, this expo is a prime opportunity for attendees to engage with the latest innovations in label and package printing. Exhibitors benefit from networking opportunities and market insight\, while visitors gain access to leading technologies and trends. \nKey Details: March 13–15\, 2026\, 10:00 AM–5:00 PM\, Donald E. Stephens Convention Center\, 5555 N. River Road\, Rosemont\, IL 60018\, United States. Explore more at LABELEXPO AMERICAS 2026. \nIndustries & Audience: Packaging\, Printing\, Editing\, Graphic Design\, Paper Industry\, Plastics\, Rubber\, Composites\, Marketing & Selling\, Public Relations & Advertising. \nVenue & Location\nThe event will be held at Donald E. Stephens Convention Center\, located at 5555 N. River Road\, Rosemont\, IL 60018\, United States. This venue offers ample space for exhibitors and convenient logistical access\, including move-in windows and easy dock access. \nRosemont IL: Our Services\nWe DESIGN\, PRODUCE\, INSTALL & DISMANTLE turnkey booth rentals in Rosemont IL. Our comprehensive services encompass concept and design\, modular frames\, branded SEG graphics\, reception/storage solutions\, TV mounts\, and on-site installation and dismantling (I&D). \nCustom Booth Models\nOur popular booth footprints include: \n\n10×10 – Perfect for new exhibitors seeking a compact but impactful presence.\n10×20 – An excellent choice for those wanting to showcase more products or information.\n20×20 – Ideal for large brands looking to make a bold statement in a bustling expo environment.\n\nFor more options\, explore our Snap Exhibitions Custom Booth Models or our full-service exhibit support. Interested in our services? Contact our team today! \nFAQ\nQ: What is LABELEXPO AMERICAS 2026 booth rental?A: LABELEXPO AMERICAS 2026 booth rental provides exhibitors with a fully setup booth space that enhances their presence at the expo. \nQ: What are the event hours for LABELEXPO AMERICAS 2026?A: The event runs from March 13 to 15\, 2026\, from 10:00 AM to 5:00 PM each day. \nQ: What booth sizes do you recommend for the packaging and printing industry?A: For the packaging and printing sectors\, we recommend booth sizes of 10×10 for new exhibitors\, 10×20 for those looking to display multiple products\, and 20×20 for established brands wanting to stand out. \nQ: Why is an aluminum booth better than wood?A: Aluminum booths are generally lighter\, easier to install\, and offer more durability compared to traditional wooden structures\, making them a preferred choice for exhibitors. \nQ: What can I do to improve my exhibiting experience at LABELEXPO AMERICAS?A: Engaging with attendees through interactive displays and having well-designed graphics can significantly enhance your booth’s appeal. \nQ: How can SNAP EXHIBITIONS help make everything perfect for my booth?A: We provide comprehensive turnkey booth rentals\, ensuring that every detail from design to dismantling is handled professionally\, allowing you to focus on connecting with your audience. \nIn conclusion\, LABELEXPO AMERICAS 2026 booth rental is your ultimate solution to stand out at this major event. Don’t miss the chance to maximize your impact—contact us today for your custom booth rental needs!
URL:https://modex2026.com/event/labelexpo-americas-2026/
CATEGORIES:Composites,Editing,Graphic Design,Marketing & Selling,Packaging,Paper Industry,Plastics,Printing,Public Relations & Advertising,Rubber
END:VEVENT
END:VCALENDAR