BEGIN:VCALENDAR
VERSION:2.0
PRODID:-//MODEX 2026 Atlanta — Local Booth Builder &amp; Rentals - ECPv6.15.13.1//NONSGML v1.0//EN
CALSCALE:GREGORIAN
METHOD:PUBLISH
X-WR-CALNAME:MODEX 2026 Atlanta — Local Booth Builder &amp; Rentals
X-ORIGINAL-URL:https://modex2026.com
X-WR-CALDESC:Events for MODEX 2026 Atlanta — Local Booth Builder &amp; Rentals
REFRESH-INTERVAL;VALUE=DURATION:PT1H
X-Robots-Tag:noindex
X-PUBLISHED-TTL:PT1H
BEGIN:VTIMEZONE
TZID:UTC
BEGIN:STANDARD
TZOFFSETFROM:+0000
TZOFFSETTO:+0000
TZNAME:UTC
DTSTART:20250101T000000
END:STANDARD
END:VTIMEZONE
BEGIN:VEVENT
DTSTART;TZID=UTC:20261004T090000
DTEND;TZID=UTC:20261007T235959
DTSTAMP:20260422T194329
CREATED:20251109T194333Z
LAST-MODIFIED:20251109T194333Z
UID:25940-1791104400-1791417599@modex2026.com
SUMMARY:APTA EXPO 2026
DESCRIPTION:APTA EXPO 2026 booth rental — Ultimate Exhibitor Guide & Custom Booth Options\nAbout APTA EXPO 2026\nAPTA EXPO 2026 booth rental offers you a unique opportunity to shine at the premier showcase for public transportation technology and services. Held from Dec 1–3\, 2026\, 9:00 AM–5:00 PM at the McCormick Place Convention Center\, Chicago\, Illinois\, USA\, this event connects you with industry leaders in Trucks and Utility Vehicles\, Railways Engineering\, Logistics & Transportation Engineering – Handling Operations – Storage\, Urban Equipment & Engineering\, Roads\, Bridges & Tunnels. Gain valuable insights\, network with professionals\, and explore cutting-edge innovations that will elevate your business. \n\nKey Details: Dec 1–3\, 2026\, 9:00 AM–5:00 PM\nLocation: McCormick Place Convention Center\nAddress: 2301 S. Lake Shore Drive\, Chicago\, Illinois 60616\nCountry: United States\n\nVenue & Location\nThe event takes place at McCormick Place Convention Center\, located at 2301 S. Lake Shore Drive\, Chicago\, Illinois\, USA. This expansive venue offers excellent logistical support\, with ample space for move-in and dock access for exhibitors. If you have questions\, feel free to reach out to the venue directly. \nChicago IL: Our Services\nWe DESIGN\, PRODUCE\, INSTALL & DISMANTLE turnkey booth rentals in Chicago IL. Our exceptional offerings include concept and design services\, modular frames\, branded SEG graphics\, reception/storage areas\, TV mounts\, and comprehensive on-site installation and dismantling (I&D) support. Our goal is to ensure that your booth captures the attention of attendees tailored to the public transportation sector. \nCustom Booth Models\nWhen planning your presence at APTA EXPO 2026\, consider our popular booth footprints that suit the diverse needs of your audience: \n\nSnap Exhibitions Custom Booth Models (10×10\, 10×20\, or 20×20)\nEach model is designed for optimal engagement\, ensuring that you stand out among Trucks and Utility Vehicles\, Railways Engineering\, and Logistics professionals.\n\nFor more information on our full-service exhibit support\, and to create a booth that meets your needs\, contact our team today! \nFAQ\n\nWhat is APTA EXPO 2026 booth rental?\nAPTA EXPO 2026 booth rental provides exhibitors with personalized booth space designed to showcase their products and services effectively.\nWhat are the dates and hours for APTA EXPO 2026?\nThe event runs from Dec 1–3\, 2026\, from 9:00 AM to 5:00 PM.\nWhat booth sizes are recommended for the public transportation sector?\nWe recommend sizes like 10×10 for startups\, 10×20 for established companies\, and 20×20 for major players in the sector.\nWhy is an aluminum booth better than wood?\nAluminum is lighter\, more durable\, and allows for easier design variations\, making it the better choice for trade shows.\nWhat services does Snap Exhibitions provide in Chicago?\nWe offer comprehensive solutions including booth design\, production\, and on-site support for your trade show needs.\nWhat is APTA EXPO?\nAPTA EXPO is the foremost event for public transportation professionals\, showcasing the latest in technology\, innovation\, and services.\nHow can Snap Exhibitions help me make everything perfect about my booth?\nWe ensure a seamless process from design to dismantle\, providing tailored support to meet your exhibitor needs. Ready to start your journey? Visit our contact page today!\n\nAPTA EXPO 2026 booth rental is your ticket to an impactful presence at this vital event. Let us help you craft an engaging and effective exhibit that captures the attention of your audience. Contact us today!
URL:https://modex2026.com/event/apta-expo-2026/
CATEGORIES:Bridges & Tunnels,Logistics & Transportation Engineering - Handling Operations - Storage,Railways Engineering,Roads,Trucks and Utility Vehicles,Urban Equipment & Engineering
END:VEVENT
BEGIN:VEVENT
DTSTART;TZID=UTC:20261018T090000
DTEND;TZID=UTC:20261021T235959
DTSTAMP:20260422T194329
CREATED:20251109T194819Z
LAST-MODIFIED:20251109T194819Z
UID:25952-1792314000-1792627199@modex2026.com
SUMMARY:PACK EXPO INTERNATIONAL - CHICAGO 2026
DESCRIPTION:PAC EXPO INTERNATIONAL – CHICAGO 2026 Booth Rental — Ultimate Guide\nAbout PACK EXPO INTERNATIONAL – CHICAGO 2026\nPAC EXPO INTERNATIONAL – CHICAGO 2026 booth rental is essential for businesses looking to showcase their innovative solutions in the packaging industry. This premier event caters to a varied audience including professionals from the **Packaging\, Printing\, Editing**\, and **Graphic Design** sectors among others. Attending this trade show\, exhibitors gain exposure to a broad array of packaging innovations and are positioned to enhance their market visibility. \nKey Details:  Sep 12–14\, 9:00 AM–5:00 PM\,  McCormick Place Convention Center\, 2301 S. Lake Shore Drive\, Chicago\, Illinois 60616\, USA.  Visit the event website. \nIndustries & Audience: **Packaging**\, **Logistics & Transportation Engineering**\, **Food Processing Industries**\, and more. \nVenue & Location\nHosted at McCormick Place Convention Center\, located at 2301 S. Lake Shore Drive\, Chicago\, Illinois\, this venue provides excellent logistical support for exhibitors. It boasts convenient access for move-in and set-up for your booth\, making it an ideal location for professionals in the industry. \nChicago: Our Services\nWe DESIGN\, PRODUCE\, INSTALL & DISMANTLE turnkey booth rentals in this city. Our comprehensive scope of services includes concept design\, modular frames\, branded SEG graphics\, reception/storage areas\, and TV mounts\, ensuring all your exhibition needs are met. \nCustom Booth Models\nWe offer various booth footprint options tailored for different exhibitor needs\, including: \n\n10×10: Ideal for start-ups and small businesses demonstrating products in packaging.\n10×20: Provides extra space for presentations or product demonstrations.\n20×20: Perfect for larger companies aiming for significant brand presence.\n\nFor more information\, check our Snap Exhibitions Custom Booth Models or visit our full-service exhibit support. To get started on your booth rental\, contact our team. \nFAQ\nQ: What is the PACK EXPO INTERNATIONAL – CHICAGO 2026 booth rental? \nA: The booth rental provides exhibitors with a dedicated space to present their products and innovations at the PACK EXPO which showcases the best in packaging solutions. \nQ: When is PACK EXPO INTERNATIONAL – CHICAGO 2026? \nA: The event runs from September 12 to 14\, 2026\, with viewing hours from 9:00 AM to 5:00 PM. \nQ: What are the recommended booth sizes for packaging industries? \nA: Typical booth sizes vary based on company needs but we suggest options between 10×10 to 20×20 for effective display. \nQ: Why are aluminum booths better than wood? \nA: Aluminum is lighter and more durable\, offering a longer-lasting option for portable booth setups. \nQ: What services does Snap Exhibitions offer for this event? \nA: We specialize in seamless booth rentals\, with complete setup and dismantle services to ensure your display runs smoothly. \nQ: What features can I expect in my booth? \nA: Expect modular designs\, brand graphics\, and amenities tailored to your technical needs for an impactful presence. \nQ: How can Snap Exhibitions help make everything perfect about their booth? \nA: We handle all aspects of booth logistics\, providing a complete turnkey solution to make your exhibiting experience stress-free. \nContact us today to secure your PACK EXPO INTERNATIONAL – CHICAGO 2026 booth rental and elevate your brand presence at this prestigious industry event!
URL:https://modex2026.com/event/pack-expo-international-chicago-2026/
CATEGORIES:Applied Computer & Industrial Engineering,Composites,Editing,Food Processing Industries,Graphic Design,Logistics & Transportation Engineering - Handling Operations - Storage,Packaging,Paper Industry,Pharmaceuticals & Cosmetology,Plastics,Printing,Rubber
END:VEVENT
BEGIN:VEVENT
DTSTART;TZID=UTC:20261028T090000
DTEND;TZID=UTC:20261029T235959
DTSTAMP:20260422T194329
CREATED:20251109T202500Z
LAST-MODIFIED:20251109T202500Z
UID:25999-1793178000-1793318399@modex2026.com
SUMMARY:FILTREXPO 2026
DESCRIPTION:Minneapolis booth rental for FILTREXPO 2026 — Essential Guide\nAbout FILTREXPO 2026\nVenue & Location\nMinneapolis MN: Our Services\nCustom Booth Models\nFAQ\nAbout FILTREXPO 2026\nMinneapolis booth rental for FILTREXPO 2026 is the perfect opportunity to showcase your innovations in the filtration and separation sectors. This international exhibition\, held from Feb 24–26\, 2026\, will gather professionals in the Chemical Process\, Technical Textiles\, Advanced Materials industries. Attendees will benefit from a technical conference focusing on the latest developments and applications. \n\nKey Details:\nDate: Feb 24–26\, 2026\, 9:00 AM–5:00 PM\nLocation: Minneapolis Convention Center\nAddress: 1301 2nd Avenue South Minneapolis\, MN 55403\, USA\n\nVenue & Location\nThe FILTREXPO 2026 will take place at the Minneapolis Convention Center\, located at 1301 2nd Avenue South\, Minneapolis\, MN 55403\, USA. This venue is equipped with the necessary logistics for a smooth experience — from move-in windows to dock access\, attendees can expect ease of access on-site. \nMinneapolis MN: Our Services\nWe DESIGN\, PRODUCE\, INSTALL & DISMANTLE turnkey booth rentals in Minneapolis MN. Our services include concept/design\, modular frames\, branded SEG graphics\, reception/storage\, TV mount\, and on-site installation & dismantling. \nCustom Booth Models\nWe offer various popular footprints to suit your needs\, including: \n\n10×10: Ideal for startups showcasing niche products.\n10×20: Provides ample space for mid-sized businesses to display their technologies and engage visitors.\n20×20: Perfect for large exhibitors aiming for a bold presence with comprehensive branding.\n\nFor Snap Exhibitions Custom Booth Models\, check out our variety of designs. We provide full-service exhibit support. For more details\, contact our team today! \nFAQ\n\nWhat is the significance of Minneapolis booth rental for FILTREXPO 2026? It allows exhibitors to effectively present their innovations while attracting a targeted audience.\nWhen are the event hours for FILTREXPO 2026? Feb 24–26\, 2026; 9:00 AM–5:00 PM each day.\nWhat booth sizes do you recommend for Chemical Process industries? Popular sizes include 10×10 for individual products and larger footprints for comprehensive displays.\nWhy is an aluminum booth better than wood? Aluminum booths are lightweight\, durable\, and offer more design flexibility while being easier to transport.\nWhat makes Minneapolis a great location for FILTREXPO 2026? Its vibrant business ecosystem and accessibility attract a diverse range of attendees.\nHow can SNAP EXHIBITIONS help me make everything perfect about my booth? We offer tailored solutions\, ensuring your booth is functional and beautifully designed to attract visitors.\n\nIn conclusion\, Minneapolis booth rental for FILTREXPO 2026 ensures you stand out amongst competitors while attracting the right audience. We are here to help you create an impactful presence at the show. Contact us today!
URL:https://modex2026.com/event/filtrexpo-2026/
CATEGORIES:Advanced Materials,Chemical Process,Technical Textiles
END:VEVENT
END:VCALENDAR