BEGIN:VCALENDAR
VERSION:2.0
PRODID:-//MODEX 2026 Atlanta — Local Booth Builder &amp; Rentals - ECPv6.15.13.1//NONSGML v1.0//EN
CALSCALE:GREGORIAN
METHOD:PUBLISH
X-WR-CALNAME:MODEX 2026 Atlanta — Local Booth Builder &amp; Rentals
X-ORIGINAL-URL:https://modex2026.com
X-WR-CALDESC:Events for MODEX 2026 Atlanta — Local Booth Builder &amp; Rentals
REFRESH-INTERVAL;VALUE=DURATION:PT1H
X-Robots-Tag:noindex
X-PUBLISHED-TTL:PT1H
BEGIN:VTIMEZONE
TZID:UTC
BEGIN:STANDARD
TZOFFSETFROM:+0000
TZOFFSETTO:+0000
TZNAME:UTC
DTSTART:20250101T000000
END:STANDARD
END:VTIMEZONE
BEGIN:VEVENT
DTSTART;TZID=UTC:20260313T090000
DTEND;TZID=UTC:20260315T235959
DTSTAMP:20260422T102022
CREATED:20251105T045117Z
LAST-MODIFIED:20251105T045117Z
UID:25716-1773392400-1773619199@modex2026.com
SUMMARY:FOX CITIES HOUSE & OUTDOOR LIVING SHOW 2026
DESCRIPTION:FOX CITIES HOUSE & OUTDOOR LIVING SHOW 2026 Booth Rental — Ultimate Guide\nAbout FOX CITIES HOUSE & OUTDOOR LIVING SHOW 2026\nFOX CITIES HOUSE & OUTDOOR LIVING SHOW 2026 booth rental is essential for those looking to showcase their products and services at this premier event. Taking place from Dec 9–11\, 2026\, at the Fox Cities Exhibition Center\, 355 W Lawrence St\, Appleton\, WI 54911\, USA\, attendees can expect to connect with homeowners and industry experts in the fields of Home Show\, Building & Construction\, Architecture\, Kitchen & Bathroom\, Decoration\, Home & Office Design\, Furniture\, Lighting\, Do It Yourself\, Gardening\, Textiles – Fabrics for Decoration. This comprehensive fair presents vast opportunities for visitors and exhibitors alike to explore innovative designs\, gardening tips\, and remodeling know-how.\n \n\nKey Details: Dec 9–11\, 2026\, 10:00 AM–6:00 PM\nLocation: Fox Cities Exhibition Center\, 355 W Lawrence St\, Appleton\, WI 54911\, USA\nCountry: United States\n\nVenue & Location\nThe event will be held at the Fox Cities Exhibition Center\, located at 355 W Lawrence St\, Appleton\, WI 54911\, USA. The venue provides convenient access and ample space for setup and networking. Attendees can expect a smooth experience with proper logistics for move-in. \nAppleton WI: Our Services\nIn Appleton WI\, we DESIGN\, PRODUCE\, INSTALL & DISMANTLE turnkey booth rentals. Our services include comprehensive concept design\, modular frames\, sleek branded SEG graphics\, storage solutions\, reception areas\, and TV mounts. We cater to the needs of exhibitors in this city with utmost precision. \nCustom Booth Models\nWe offer a variety of booth footprints including popular sizes like 10×10\, 10×20\, and 20×20\, which have been designed to attract visitors in the mentioned sectors. You can view our work on our Snap Exhibitions Custom Booth Models page. Additionally\, our full-service exhibit support guarantees that every detail is covered\, contributing to a standout presence. If you are ready to enhance your booth experience\, contact our team today! \nFAQ\n\nWhat is FOX CITIES HOUSE & OUTDOOR LIVING SHOW 2026 booth rental?It’s a rental service that provides fully equipped booths for exhibitors at the trade show.\nWhen are the event hours for FOX CITIES HOUSE & OUTDOOR LIVING SHOW 2026?It will take place from Dec 9 to Dec 11\, 2026\, from 10:00 AM to 6:00 PM.\nWhat recommended booth sizes should I consider for Home Show exhibitors?Common sizes like 10×10 or 10×20 are excellent for attracting crowds while enabling sufficient space for your displays.\nWhy is an aluminum booth better than wood?Aluminum is lighter\, more durable\, and usually provides a more modern aesthetic than wood booths.\nWhat’s special about Appleton for trade shows?Appleton is home to many innovative businesses and attracts a diverse audience looking for home solutions.\nWhat does the FOX CITIES HOUSE & OUTDOOR LIVING SHOW showcase?It features home improvement products\, services\, and expert consultations to help homeowners improve their living spaces.\nHow can SNAP EXHIBITIONS make everything perfect for your booth?We ensure a seamless experience with our turnkey booth rentals\, covering all aspects from design to installation\, allowing you to focus on connecting with attendees.\n\nWith FOX CITIES HOUSE & OUTDOOR LIVING SHOW 2026 booth rental\, you can create an engaging atmosphere to draw in potential clients. We encourage you to contact our team to secure your rental and make your exhibition experience exceptional!
URL:https://modex2026.com/event/fox-cities-house-outdoor-living-show-2026/
CATEGORIES:Architecture,Building & Construction,Decoration,Do It Yourself,Furniture,Gardening,Home & Office Design,Home Show,Kitchen & Bathroom,Lighting,Textiles - Fabrics for Decoration
END:VEVENT
END:VCALENDAR