BEGIN:VCALENDAR
VERSION:2.0
PRODID:-//MODEX 2026 Atlanta — Local Booth Builder &amp; Rentals - ECPv6.15.20//NONSGML v1.0//EN
CALSCALE:GREGORIAN
METHOD:PUBLISH
X-WR-CALNAME:MODEX 2026 Atlanta — Local Booth Builder &amp; Rentals
X-ORIGINAL-URL:https://modex2026.com
X-WR-CALDESC:Events for MODEX 2026 Atlanta — Local Booth Builder &amp; Rentals
REFRESH-INTERVAL;VALUE=DURATION:PT1H
X-Robots-Tag:noindex
X-PUBLISHED-TTL:PT1H
BEGIN:VTIMEZONE
TZID:UTC
BEGIN:STANDARD
TZOFFSETFROM:+0000
TZOFFSETTO:+0000
TZNAME:UTC
DTSTART:20250101T000000
END:STANDARD
END:VTIMEZONE
BEGIN:VEVENT
DTSTART;TZID=UTC:20260411T090000
DTEND;TZID=UTC:20260412T235959
DTSTAMP:20260424T155519
CREATED:20251105T060124Z
LAST-MODIFIED:20251105T060124Z
UID:25724-1775898000-1776038399@modex2026.com
SUMMARY:SPRING ARTS & CRAFTS SHOW 2026
DESCRIPTION:SPRING ARTS & CRAFTS SHOW 2026 booth rental — Premium Exhibitor Guide & Custom Booth Options\nAbout SPRING ARTS & CRAFTS SHOW 2026\nSPRING ARTS & CRAFTS SHOW 2026 booth rental in Fredericksburg allows exhibitors to showcase unique handicrafts and artistic creations. This festival highlights creativity\, bringing local hand-made treasures to visitors. From stunning jewelry to home decorations and captivating art pieces\, there’s something for everyone.  \nKey Details: Dates: Apr 13–14\, 9:00 AM–5:00 PMLocation: Fredericksburg Expo & Conference CenterAddress: 2371 Carl D. Silver Parkway Fredericksburg\, VA 22401\, USAMore info: Fredericksburg Convention Center \nIndustries & Audience: Exhibitors from Handicraft Products\, Decoration\, Home & Office Design\, Furniture\, Lighting\, Gifts & Souvenirs\, Art and Antiques sectors will find valuable networking opportunities and exposure.  \nVenue & Location\nSPRING ARTS & CRAFTS SHOW 2026 will take place at the Fredericksburg Expo & Conference Center\, located at 2371 Carl D. Silver Parkway\, Fredericksburg\, VA\, USA. The venue offers central access for exhibitors and visitors alike\, making it easy to navigate. Move-in windows and dock access are available for set-up.  \nFredericksburg VA: Our Services\nIn Fredericksburg VA\, we DESIGN\, PRODUCE\, INSTALL & DISMANTLE turnkey booth rentals. Our scope includes concept and design\, modular frames\, branded SEG graphics\, reception\, storage areas\, and TV mounts\, ensuring a smooth and professional experience for all exhibitors. \nCustom Booth Models\nWe offer a variety of booth sizes to accommodate your needs at the SPRING ARTS & CRAFTS SHOW 2026. Popular footprints like 10×10\, 10×20\, and 20×20 are perfect for capturing attention in the Handicraft Products\, Decoration\, Home & Office Design sectors. Our Snap Exhibitions Custom Booth Models are designed to maximize your brand’s impact at the show. \nEnsure you also consider our full-service exhibit support for a seamless experience. For further assistance\, please contact our team to discuss tailored options. \nFAQ\nWhat is SPRING ARTS & CRAFTS SHOW 2026 booth rental?It is an opportunity for exhibitors to showcase their crafts and connect with an audience interested in handmade artistic products. \nWhen are the event hours for SPRING ARTS & CRAFTS SHOW 2026?The event runs from Apr 13–14\, 9:00 AM–5:00 PM. \nWhat booth sizes are recommended for exhibitors in handicraft sectors?A 10×10 booth is ideal for smaller displays\, while a 10×20 or 20×20 is best for showcasing larger collections. \nWhy is an aluminum booth better than wood?Aluminum is lightweight\, durable\, and provides a modern aesthetic that makes it easier to transport and assemble\, while wood may be more cumbersome. \nWhat makes Fredericksburg VA a great location for this event?Fredericksburg offers rich cultural heritage and easy accessibility for both exhibitors and attendees\, enhancing the overall experience. \nHow can SNAP EXHIBITIONS help make everything perfect about their booth?We provide comprehensive support from design to onsite installation\, ensuring your exhibition booth stands out and functions flawlessly. \nIn conclusion\, secure your SPRING ARTS & CRAFTS SHOW 2026 booth rental today and prepare for an impactful presence at the show! Contact us now!
URL:https://modex2026.com/event/spring-arts-crafts-show-2026/
CATEGORIES:Art and Antiques,Decoration,Furniture,Gifts & Souvenirs,Handicraft Products,Home & Office Design,Lighting
END:VEVENT
END:VCALENDAR