BEGIN:VCALENDAR
VERSION:2.0
PRODID:-//MODEX 2026 Atlanta — Local Booth Builder &amp; Rentals - ECPv6.15.13.1//NONSGML v1.0//EN
CALSCALE:GREGORIAN
METHOD:PUBLISH
X-WR-CALNAME:MODEX 2026 Atlanta — Local Booth Builder &amp; Rentals
X-ORIGINAL-URL:https://modex2026.com
X-WR-CALDESC:Events for MODEX 2026 Atlanta — Local Booth Builder &amp; Rentals
REFRESH-INTERVAL;VALUE=DURATION:PT1H
X-Robots-Tag:noindex
X-PUBLISHED-TTL:PT1H
BEGIN:VTIMEZONE
TZID:UTC
BEGIN:STANDARD
TZOFFSETFROM:+0000
TZOFFSETTO:+0000
TZNAME:UTC
DTSTART:20250101T000000
END:STANDARD
END:VTIMEZONE
BEGIN:VEVENT
DTSTART;TZID=UTC:20260421T090000
DTEND;TZID=UTC:20260423T235959
DTSTAMP:20260422T102235
CREATED:20251106T110658Z
LAST-MODIFIED:20251106T110658Z
UID:25826-1776762000-1776988799@modex2026.com
SUMMARY:INTERPHEX '2026
DESCRIPTION:INTERPHEX ‘2026 booth rental — Premium Exhibitor Guide & Custom Booth Options\n#show\n#venue\n#city-services\n#booth-models\n#faq\n\nINTERPHEX ‘2026 — Your Gateway to the Pharmaceuticals Industry\nINTERPHEX ‘2026 booth rental provides an incredible opportunity for exhibitors to showcase their products and innovations in the pharmaceuticals sector. The event\, running from February 20–22\, 2026\, at the Jacob K. Javits Convention Center in New York\, will host industry leaders\, health professionals\, and innovators who are eager to discover the latest advancements in pharma and biotech. \nKey Details: \n\nDate: February 20–22\, 2026\nLocation: Jacob K. Javits Convention Center\nAddress: 655 West 34th Street\, New York\, NY 10001-1188\, USA\nCountry: United States\n\nAttendees can expect an immersive experience with leading-edge content that includes exhibitions\, networking\, and numerous educational opportunities. This event caters to Pharmaceuticals & Cosmetology\, Health Professionals. \n\n\nVenue & Location\nThe Jacob K. Javits Convention Center is a renowned venue located in the heart of Manhattan\, easily accessible for exhibitors and attendees alike. The facility provides ample move-in windows and dock access for a seamless setup. \nFor inquiries\, you can reach us at: (Your Phone Number Here). \n\n\nINTERPHEX ‘2026 Booth Rentals: Our Services in This City\nWe DESIGN\, PRODUCE\, INSTALL & DISMANTLE turnkey booth rentals in New York\, NY. Our comprehensive services encompass concept/design\, modular frames\, branded SEG graphics\, reception/storage solutions\, and TV mounts\, ensuring you have everything necessary for a standout exhibition. \n\n\nCustom Booth Models\nExplore our Snap Exhibitions Custom Booth Models that can be tailored to your brand’s specific needs. We offer popular footprints such as: \n\n10×10 ft: Perfect for startups looking to make their first impression.\n10×20 ft: Ideal for growing brands seeking additional space without overwhelming the visitor experience.\n20×20 ft: Great for established businesses looking to stand out with ample room for engagement.\n\nOur booths are designed with attendee interaction in mind\, catering specifically to Pharmaceuticals and Healthcare sectors\, which require both functionality and aesthetic appeal. Additionally\, we provide full-service exhibit support\, ensuring your booth operates smoothly from setup to teardown. \nTo start planning your booth for INTERPHEX ‘2026\, please contact our team. \n\n\nFAQ\nWhat is the focus of INTERPHEX ‘2026 booth rental?\nINTERPHEX ‘2026 booth rental focuses on showcasing innovations in the pharmaceutical and biotechnology fields\, providing an engaging platform for exhibitors. \nWhen are the event hours for INTERPHEX ‘2026?\nEvent hours are from February 20 to 22\, 2026\, typically from 9 AM to 5 PM. \nWhat booth sizes do you recommend for the Pharmaceuticals sector?\nWe suggest sizes like 10×20 and 20×20 for effective engagement while ensuring adequate space to display your products and meet with potential clients. \nWhy should I choose an aluminum booth over a wood one?\nAluminum booths are lighter\, more durable\, and offer a more modern aesthetic compared to wood. They are easier to assemble and disassemble\, making them more practical for trade shows. \nWhat can I expect in New York during INTERPHEX ‘2026?\nNew York will be bustling with activity during the event\, providing an excellent chance to connect with industry leaders and gain insights. \nHow can SNAP EXHIBITIONS help make my booth perfect?\nWith our turnkey solutions\, we manage every aspect of your booth\, ensuring that all details are covered for a successful exhibit. \n\nIn conclusion\, INTERPHEX ‘2026 booth rental is designed to meet the diverse needs of exhibitors ready to make their mark in the pharmaceutical industry. For the best experience\, INTERPHEX ‘2026 booth rental is your go-to solution. Let us help you shine at this premier event by contacting our team today!
URL:https://modex2026.com/event/interphex-2026/
CATEGORIES:Health Professionals,Pharmaceuticals & Cosmetology
END:VEVENT
END:VCALENDAR