BEGIN:VCALENDAR
VERSION:2.0
PRODID:-//MODEX 2026 Atlanta — Local Booth Builder &amp; Rentals - ECPv6.15.13.1//NONSGML v1.0//EN
CALSCALE:GREGORIAN
METHOD:PUBLISH
X-WR-CALNAME:MODEX 2026 Atlanta — Local Booth Builder &amp; Rentals
X-ORIGINAL-URL:https://modex2026.com
X-WR-CALDESC:Events for MODEX 2026 Atlanta — Local Booth Builder &amp; Rentals
REFRESH-INTERVAL;VALUE=DURATION:PT1H
X-Robots-Tag:noindex
X-PUBLISHED-TTL:PT1H
BEGIN:VTIMEZONE
TZID:UTC
BEGIN:STANDARD
TZOFFSETFROM:+0000
TZOFFSETTO:+0000
TZNAME:UTC
DTSTART:20250101T000000
END:STANDARD
END:VTIMEZONE
BEGIN:VEVENT
DTSTART;TZID=UTC:20260418T090000
DTEND;TZID=UTC:20260422T235959
DTSTAMP:20260420T181256
CREATED:20251109T183250Z
LAST-MODIFIED:20251109T183250Z
UID:25877-1776502800-1776902399@modex2026.com
SUMMARY:NAB SHOW 2026
DESCRIPTION:NAB SHOW 2026 booth rental — Ultimate Exhibitor Guide & Custom Booth Options\nAbout NAB SHOW 2026\nNAB SHOW 2026 booth rental is a premier opportunity for exhibitors in Broadcasting\, Television & Entertainment\, Multimedia Technologies\, Video Games – Interactive Entertainment. This event\, held from Nov 20–22\, 9:00 AM–5:00 PM at Las Vegas Convention Center\, 3150 Paradise Road\, Las Vegas\, NV 89109\, United States\, brings together over 46\,000 buyers eager to explore new innovations and engage with industry leaders.  With countless networking opportunities\, this show is vital for exhibitors looking to showcase their products and services effectively.  Whether you’re promoting cutting-edge solutions or connecting with potential partners\, NAB Show is the place to be! \n\nKey Details:  Nov 20–22\, 9:00 AM–5:00 PM\, Las Vegas Convention Center\, 3150 Paradise Road\, Las Vegas\, NV 89109\, United States\n\nVenue & Location\nThe event will be hosted at Las Vegas Convention Center\, situated at 3150 Paradise Road\, Las Vegas\, NV 89109\, United States. This venue offers excellent logistics for exhibitors and attendees alike. Whether you’re loading in or setting up\, you’ll find easy access points that facilitate a seamless experience. \nIf you have questions\, feel free to reach out via phone. \nLas Vegas NV: Our Services\nWe DESIGN\, PRODUCE\, INSTALL & DISMANTLE turnkey booth rentals in Las Vegas NV. Our services encompass a wide range: from custom concept/design to modular frames\, branded SEG graphics\, reception/storage areas\, TV mounts\, and on-site installation and dismantle (I&D). We’re dedicated to providing a stress-free experience that enhances exhibitor visibility and interaction. \nCustom Booth Models\nOur popular footprints include 10×10\, 10×20\, and 20×20 options\, each tailored to fit your specific sector needs such as broadcasting and entertainment. Each booth model focuses on maximizing your exhibit’s impact while demonstrating your innovative products. You can explore our offerings through our Snap Exhibitions Custom Booth Models and utilize full-service exhibit support for a comprehensive exhibition experience. For further assistance\, please contact our team today. \nFAQ\n1. What is NAB SHOW 2026 booth rental?\nNAB SHOW 2026 booth rental refers to our turnkey services designed to enhance your brand’s presence at the NAB SHOW 2026. \n2. When does NAB SHOW 2026 happen?\nThe event runs from Nov 20 to Nov 22\, 9:00 AM to 5:00 PM. \n3. What booth sizes do you recommend for the broadcasting sector?\nPopular sizes include 10×10 for smaller setups and 10×20 or 20×20 for larger displays\, depending on your exhibition goals. \n4. Why is an aluminum booth better than wood?\nAluminum booths are more durable\, lightweight\, and easier to assemble than wood\, making them a superior choice for modern exhibitions. \n5. What should I know about Las Vegas for this event?\nLas Vegas is known for vibrant exhibitions\, exceptional services\, and a bustling atmosphere\, making it ideal for networking. \n6. How can SNAP EXHIBITIONS help make everything perfect about my booth?\nWe provide comprehensive support\, from design to installation\, ensuring a flawless execution of your exhibition presence. \nWe invite you to explore NAB SHOW 2026 booth rental to propel your brand’s visibility at this essential event. Don’t hesitate—contact us today for personalized solutions to suit your needs!
URL:https://modex2026.com/event/nab-show-2026/
CATEGORIES:Broadcasting,Multimedia Technologies,Television & Entertainment,Video Games - Interactive Entertainment
END:VEVENT
BEGIN:VEVENT
DTSTART;TZID=UTC:20260519T090000
DTEND;TZID=UTC:20260521T235959
DTSTAMP:20260420T181256
CREATED:20251109T183529Z
LAST-MODIFIED:20251109T183529Z
UID:25883-1779181200-1779407999@modex2026.com
SUMMARY:SWEETS & SNACKS EXPO 2026
DESCRIPTION:Sweets & Snacks Expo 2026 Booth Rental — Ultimate Guide\nAbout Sweets & Snacks Expo 2026\nSweets & Snacks Expo 2026 booth rental is your gateway to exciting opportunities in the catering and hospitality industries. This event celebrates the unique blend of sweet and savory snacks\, showcasing an array of exhibits that cater to both chocolate lovers and savory snack enthusiasts. Visitors and exhibitors will foster vital connections\, explore innovative products\, and share industry insights during this much-anticipated trade show. \nKey Details: \n\nDate: Jan 18–20\, 2026\, 9:00 AM–5:00 PM\nVenue: Las Vegas Convention Center\nAddress: 3150 Paradise Road\, Las Vegas\, NV 89109\, USA\nCountry: United States\n\nIndustries & Audience: Catering & Hospitality Industries\, Food Processing Industries. \nVenue & Location\nThe event will be held at Las Vegas Convention Center\, located at 3150 Paradise Road\, Las Vegas\, NV 89109\, USA. This venue offers excellent logistics\, including convenient access for exhibitors and attendees. If you have questions\, please call. \nLas Vegas NV: Our Services\nIn this city\, we DESIGN\, PRODUCE\, INSTALL & DISMANTLE turnkey booth rentals for the Sweets & Snacks Expo 2026. Our comprehensive service includes concept/design\, modular frames\, branded SEG graphics\, reception/storage\, TV mounts\, and on-site installation and dismantling support. \nCustom Booth Models\nAt Snap Exhibitions\, we offer a range of popular booth sizes that fit the diverse needs of attendees in the catering and hospitality sectors: \n\n10×10: Ideal for startups and smaller brands wishing to make a big impact.\n10×20: Perfectly suited for mid-sized companies\, offering ample display space without overwhelming attendees.\n20×20: A spacious option that allows for elaborate displays and interactive experiences.\n\nExplore our Snap Exhibitions Custom Booth Models for unique design options. Leverage our full-service exhibit support for a seamless experience. For personalized assistance\, contact our team today! \nFAQ\n\nWhat are the Sweets & Snacks Expo 2026 booth rental options available?Our booth rental options fit varying sizes and needs based on the unique requirements of each exhibitor.\nWhen is the Sweets & Snacks Expo 2026?Jan 18–20\, 2026\, from 9:00 AM–5:00 PM.\nWhat booth size is recommended for catering and hospitality sectors?For these sectors\, a 10×20 booth is often the most suitable\, though 10×10 options are also available.\nWhy is an aluminum booth better than wood?Aluminum offers enhanced durability\, a modern look\, and is often more lightweight than wood.\nWhat is Las Vegas known for during events like Sweets & Snacks Expo?Las Vegas is renowned for its vibrant atmosphere\, extensive networking opportunities\, and high-quality exhibition venues.\nHow can Snap Exhibitions help make everything perfect for my booth?We provide comprehensive turnkey booth rentals\, ensuring every detail is handled to present your brand effectively.\nWhat makes the Sweets & Snacks Expo unique?This expo uniquely combines the realms of sweet and savory\, bringing together a diverse audience in the food industry.\n\nTo maximize your exposure at the Sweets & Snacks Expo 2026 booth rental\, we encourage you to contact our team for tailored solutions that fit your needs.
URL:https://modex2026.com/event/sweets-snacks-expo-2026/
CATEGORIES:Catering & Hospitality Industries,Food Processing Industries
END:VEVENT
BEGIN:VEVENT
DTSTART;TZID=UTC:20260613T090000
DTEND;TZID=UTC:20260619T235959
DTSTAMP:20260420T181256
CREATED:20251109T183549Z
LAST-MODIFIED:20251109T183549Z
UID:25884-1781341200-1781913599@modex2026.com
SUMMARY:INFOCOMM INTERNATIONAL 2026
DESCRIPTION:INFOCOMM INTERNATIONAL 2026 Booth Rental — Ultimate Exhibitor Guide\n#show\n#venue\n#city-services\n#booth-models\n#faq\nINFOCOMM INTERNATIONAL 2026 — Overview\nINFOCOMM INTERNATIONAL 2026 booth rental is key to maximizing your presence at this premier event. Taking place at the Las Vegas Convention Center\, this exhibition focuses on the latest technologies in Multimedia and Corporate Communications. As an exhibitor\, you will connect with industry leaders and showcase innovative solutions in broadcasting\, sound technology\, and digital content creation. \nJoin us in Las Vegas from June 14–16\, 2026\, between 9:00 AM and 5:00 PM. Key Details: Las Vegas Convention Center\, 3150 Paradise Road\, Las Vegas\, NV\, USA. For more details\, visit INFOCOMM web page. \nIndustries & Audience: This event attracts professionals from various sectors including Public Relations & Advertising\, Broadcasting\, Television & Entertainment\, Sound & Image Technologies\, Multimedia Technologies\, Telecommunications\, Computers Networks\, Computers. \nVenue & Location\nThe INFOCOMM INTERNATIONAL 2026 event will be held at the Las Vegas Convention Center\, located at 3150 Paradise Road\, Las Vegas\, NV\, USA. The venue offers central access and convenient logistics for move-in and dock access to ensure a smooth exhibition experience. \nLas Vegas\, NV: Our Services\nIn Las Vegas\, we design\, produce\, install\, and dismantle turnkey booth rentals. Our comprehensive service includes concept/design\, modular frames\, branded SEG graphics\, reception/storage areas\, TV mounts\, and on-site installation and dismantling. We aim to provide a seamless experience for your exhibiting needs in Las Vegas. \nCustom Booth Models\nIncorporating our Snap Exhibitions Custom Booth Models\, we can help you create the perfect booth. Popular footprints include: \n\n10×10: Ideal for small presentations and environments.\n10×20: Great for mid-size displays\, allowing for engagement.\n20×20: Perfect for large showcases and attracting high foot traffic.\n\nAll sizes are designed to meet the needs of attendees in the mentioned categories. We also offer full-service exhibit support to enhance your presence at the event. \nFAQ\n\nWhat is the INFOCOMM INTERNATIONAL 2026 booth rental process?\nINFOCOMM INTERNATIONAL 2026 booth rental involves selecting your preferred booth size\, design options\, and finalizing logistics with our team.\nWhat are the event hours for INFOCOMM INTERNATIONAL 2026?\nThe event runs from June 14 to 16\, 2026\, from 9:00 AM to 5:00 PM each day.\nWhat booth sizes do you recommend for the Broadcasting and Entertainment industry?\nWe recommend using at least a 10×20 booth for effective engagement in the Broadcasting and Entertainment sector.\nWhy is an aluminum booth better than wood?\nAluminum booths are lighter\, easier to assemble\, and more durable than wood\, offering a modern look essential for high-impact exhibitions.\nWhat services does Snap Exhibitions provide in Las Vegas?\nWe offer complete booth design\, production\, installation\, and dismantling services tailored to your needs.\nHow can SNAP EXHIBITIONS help make everything perfect for my booth?\nWe ensure every aspect of your booth\, from design to execution\, aligns with your goals\, providing a flawless exhibition experience.\n\nFor your INFOCOMM INTERNATIONAL 2026 booth rental\, let us take care of the details. Reach out and contact our team today!
URL:https://modex2026.com/event/infocomm-international-2026/
CATEGORIES:Broadcasting,Computers,Computers Networks,Multimedia Technologies,Public Relations & Advertising,Sound & Image Technologies,Telecommunications,Television & Entertainment
END:VEVENT
BEGIN:VEVENT
DTSTART;TZID=UTC:20270503T090000
DTEND;TZID=UTC:20270506T235959
DTSTAMP:20260420T181256
CREATED:20251109T183311Z
LAST-MODIFIED:20251109T183311Z
UID:25878-1809334800-1809647999@modex2026.com
SUMMARY:WASTE EXPO 2027
DESCRIPTION:WASTE EXPO 2027 booth rental — Premium Exhibitor Guide & Custom Booth Options\nAbout WASTE EXPO 2027\nWASTE EXPO 2027 booth rental is the perfect solution for exhibitors looking to make a significant impact at one of the largest gatherings in the waste management and recycling industry. The exhibition is held from Apr 21–23\, 2027\, in the Las Vegas Convention Center\, offering a unique opportunity for businesses to engage and connect with decision-makers from the private and public sectors. This year’s event promises to attract a diverse audience\, including waste generators\, processors\, and suppliers. \n\nKey Details: Apr 21–23\, 2027\, 9:00 AM–5:00 PM\nLocation: Las Vegas Convention Center\nAddress: 3150 Paradise Road\, Las Vegas\, NV 89109\, USA\nCountry: United States\n\nIndustries & Audience: Waste Management – Recycling\, Environmental Protection\, Urban Equipment & Engineering\, Subcontracting\, Suppliers & Partners. \nVenue & Location\nThe Las Vegas Convention Center is a premier exhibition venue located at 3150 Paradise Road\, Las Vegas\, NV 89109\, USA. Exhibitors can take advantage of excellent logistics and proximity to central amenities. The venue is easily accessible for load-in and has facilities to accommodate a range of booths and displays. \nLas Vegas NV: Our Services\nIn Las Vegas NV\, we DESIGN\, PRODUCE\, INSTALL & DISMANTLE turnkey booth rentals. We cater to all requirements\, covering concept design\, modular frames\, branded SEG graphics\, reception and storage areas\, and on-site installation and dismantling. Our comprehensive service ensures that your booth stands out and meets your event goals. \nCustom Booth Models\nOur popular booth footprints fit perfectly for the various sectors represented. We offer options such as: \n\n10×10 booths for startups and small businesses aiming to establish brand presence.\n10×20 booths designed for businesses wanting to showcase a larger footprint.\n20×20 booths ideal for companies needing more space for presentations or displays in the waste management sector.\n\nThese popular booth sizes cater well to the audience attending WASTE EXPO\, providing effective space for engagement and interaction. \nFAQ\n\nWhat are the WASTE EXPO 2027 booth rental options available? We offer a variety of customizable booth designs tailored to your needs and budget.\nWhen is WASTE EXPO 2027? The event takes place from Apr 21–23\, 2027\, from 9:00 AM to 5:00 PM.\nWhat booth sizes are recommended for Waste Management sectors? Popular sizes include 10×10\, 10×20\, and 20×20\, depending on your specific display needs.\nWhy is an aluminum booth better than wood? Aluminum booths are lighter\, more durable\, and offer more design flexibility compared to traditional wooden options.\nWhat services does Snap Exhibitions provide in Las Vegas? We provide comprehensive exhibit solutions including design\, production\, installation\, and dismantling of booths.\nHow can SNAP EXHIBITIONS help ensure everything about my booth is perfect? We collaborate closely with you to understand your vision and execute flawlessly to meet your event objectives.\n\nTo make your presence impactful at the upcoming WASTE EXPO 2027 booth rental\, do not hesitate to contact our team for detailed inquiries!
URL:https://modex2026.com/event/waste-expo-2027/
CATEGORIES:Environmental Protection,Subcontracting,Suppliers & Partners,Urban Equipment & Engineering,Waste Management - Recycling
END:VEVENT
END:VCALENDAR