BEGIN:VCALENDAR
VERSION:2.0
PRODID:-//MODEX 2026 Atlanta — Local Booth Builder &amp; Rentals - ECPv6.15.20//NONSGML v1.0//EN
CALSCALE:GREGORIAN
METHOD:PUBLISH
X-ORIGINAL-URL:https://modex2026.com
X-WR-CALDESC:Events for MODEX 2026 Atlanta — Local Booth Builder &amp; Rentals
REFRESH-INTERVAL;VALUE=DURATION:PT1H
X-Robots-Tag:noindex
X-PUBLISHED-TTL:PT1H
BEGIN:VTIMEZONE
TZID:UTC
BEGIN:STANDARD
TZOFFSETFROM:+0000
TZOFFSETTO:+0000
TZNAME:UTC
DTSTART:20250101T000000
END:STANDARD
END:VTIMEZONE
BEGIN:VEVENT
DTSTART;TZID=UTC:20260304T090000
DTEND;TZID=UTC:20260305T235959
DTSTAMP:20260425T174550
CREATED:20251109T200322Z
LAST-MODIFIED:20251109T200322Z
UID:25979-1772614800-1772755199@modex2026.com
SUMMARY:STORM EXPO USA - MIAMI 2026
DESCRIPTION:STORM EXPO USA – MIAMI 2026 booth rental — Ultimate Guide\nAbout STORM EXPO USA – MIAMI 2026\nVenue & Location\nMiami: Our Services\nCustom Booth Models\nFAQ\nSTORM EXPO USA – MIAMI 2026 — Exhibitor Guide & Custom Booth Options\nSTORM EXPO USA – MIAMI 2026 booth rental is your gateway to success at this prestigious trade show. This event will focus on hurricane preparedness\, management\, and recovery\, providing invaluable insights for industry leaders. Attendees can expect to connect with experts\, discover the latest tools\, and witness innovative strategies showcased throughout the conference. \nKey Details: \n\nDate: Dec 1–2\, 2026\, 9:00 AM–5:00 PM\nLocation: Miami Beach Convention Center\nAddress: 1901 Convention Center Drive\, Miami Beach\, USA\nCountry: United States\n\nIndustries & Audience: Security – Risk Management\, Urban Equipment & Engineering\, Building & Construction\, Health Professionals\, Solidarity – Social Assistance – Volunteering. \nVenue & Location\nThe Miami Beach Convention Center is a premier venue ideal for large-scale events like STORM EXPO USA – MIAMI 2026. Attendees can anticipate convenient logistics\, including easy access for setup and dismantling. Although details about specific dock access and move-in windows are not provided\, the venue boasts a reputation for excellent support to exhibitors. For any inquiries\, please feel free to contact us directly. \nMiami: Our Services\nIn Miami\, we DESIGN\, PRODUCE\, INSTALL & DISMANTLE turnkey booth rentals. Our comprehensive services include concept/design\, modular frames\, branded SEG graphics\, reception/storage solutions\, and TV mounts. With our full support\, exhibitors can focus on what matters: engaging their audience. \nCustom Booth Models\nChoosing the right booth model is crucial for visibility. We offer various popular footprints such as 10×10\, 10×20\, and 20×20 models designed to enhance your presence in the sectors mentioned. The scale of these options suits different exhibitor needs\, ensuring that you can exhibit with impact. \nFor full-service exhibit support\, please visit this link. If you have questions or need immediate assistance\, contact our team today! \nFAQ\n\nWhat is STORM EXPO USA – MIAMI 2026 booth rental?It refers to the options available for renting exhibits at the STORM EXPO USA trade show.\nWhat are the event hours for STORM EXPO USA – MIAMI 2026?The event runs from Dec 1 to Dec 2\, 2026\, from 9:00 AM to 5:00 PM.\nWhat booth sizes are recommended for Security and Risk Management exhibitors?We recommend at least 10×20 or larger for better visibility and engagement.\nWhy is an aluminum booth better than wood?Aluminum is lighter\, reusable\, and provides a modern aesthetic compared to wood.\nWhat attractions does Miami Beach offer for attendees?Miami Beach offers beautiful beaches\, vibrant nightlife\, and excellent dining experiences.\nWhat is the significance of STORM EXPO USA?It highlights essential tools and strategies in hurricane preparedness and recovery.\nHow can SNAP EXHIBITIONS help make everything perfect about our booth?We specialize in delivering turnkey booth rentals tailored to your needs\, ensuring a seamless experience.\n\nSTORM EXPO USA – MIAMI 2026 booth rental is your ultimate opportunity to shine at this event. Contact us today to learn how we can help you create an impactful exhibit!
URL:https://modex2026.com/event/storm-expo-usa-miami-2026/
CATEGORIES:Building & Construction,Health Professionals,Security - Risk Management,Solidarity - Social Assistance - Volunteering,Urban Equipment & Engineering
END:VEVENT
END:VCALENDAR