BEGIN:VCALENDAR
VERSION:2.0
PRODID:-//MODEX 2026 Atlanta — Local Booth Builder &amp; Rentals - ECPv6.15.13.1//NONSGML v1.0//EN
CALSCALE:GREGORIAN
METHOD:PUBLISH
X-ORIGINAL-URL:https://modex2026.com
X-WR-CALDESC:Events for MODEX 2026 Atlanta — Local Booth Builder &amp; Rentals
REFRESH-INTERVAL;VALUE=DURATION:PT1H
X-Robots-Tag:noindex
X-PUBLISHED-TTL:PT1H
BEGIN:VTIMEZONE
TZID:UTC
BEGIN:STANDARD
TZOFFSETFROM:+0000
TZOFFSETTO:+0000
TZNAME:UTC
DTSTART:20250101T000000
END:STANDARD
END:VTIMEZONE
BEGIN:VEVENT
DTSTART;TZID=UTC:20260331T090000
DTEND;TZID=UTC:20260402T235959
DTSTAMP:20260422T170836
CREATED:20251109T190247Z
LAST-MODIFIED:20251109T190247Z
UID:25896-1774947600-1775174399@modex2026.com
SUMMARY:TPE 2026
DESCRIPTION:TPE 2026 booth rental — Ultimate Exhibitor Guide & Custom Booth Options\nAbout TPE 2026\nVenue & Location\nLas Vegas NV: Our Services\nCustom Booth Models\nFAQ\n\nTPE 2026 booth rental: An Overview\nTPE 2026 booth rental allows exhibitors to make a statement at one of the most prestigious trade shows. At this event\, visitors can expect insights into the latest trends and innovations in the industry. \nKey Details: \n    Date: Nov 28–Dec 1\, 2026\, 9:00 AM–5:00 PM\n    Location: Las Vegas Convention Center\, 3150 Paradise Road\, Las Vegas\, NV 89109\, United States. \nIndustries & Audience: This show attracts participants from a **broad range of sectors** including technology\, healthcare\, and consumer products. \n\n\nVenue & Location\nThe event will take place at the Las Vegas Convention Center\, located at 3150 Paradise Road\, Las Vegas\, NV 89109\, United States. This venue is well-equipped to handle large exhibitions with essentials like wide aisles and convenient accessibility for exhibitors and attendees. \nFor inquiries\, please contact: [Phone]. \n\n\nLas Vegas NV: Our Services\nWe DESIGN\, PRODUCE\, INSTALL & DISMANTLE turnkey booth rentals in Las Vegas NV. Our comprehensive services include concept design\, modular frames\, branded SEG graphics\, reception/storage setups\, and TV mounting—all tailored for a successful exhibition. \n\n\nCustom Booth Models\nOur popular booth footprints like 10×10\, 10×20\, and 20×20 are designed for maximum impact in the exhibit space. Each size accommodates diverse exhibiting needs and effectively showcases products and services. \nFor our Snap Exhibitions Custom Booth Models\, we provide options that enhance visibility and engagement. \nFor comprehensive support\, check our full-service exhibit support options. \nIf you’re looking to elevate your presence at TPE 2026\, don’t hesitate to contact our team. \n\n\nFAQ\nWhat is TPE 2026 booth rental?\nTPE 2026 booth rental involves renting an exhibition space equipped with essential features for showcasing your brand effectively. \nWhat are the dates and hours for TPE 2026?\nTPE 2026 takes place from Nov 28 to Dec 1\, 2026\, from 9:00 AM to 5:00 PM each day. \nWhat booth sizes do you recommend for technology and healthcare sectors?\nWe recommend 10×20 or 20×20 configurations for offering more engagement space\, particularly beneficial for technology and healthcare booths. \nWhy choose aluminum booths over wood?\nAluminum booths are lighter\, more durable\, and easier to assemble than traditional wooden ones\, making them a more efficient choice for trade shows. \nWhat makes Las Vegas a prime location for trade shows?\nLas Vegas is a hub for events\, offering top-tier venues\, extensive amenities\, and great accessibility for attendees. \nHow can SNAP EXHIBITIONS help make everything perfect about my booth?\nSNAP EXHIBITIONS provides end-to-end booth rental services\, ensuring that your exhibit is not just functional but stands out and meets your promotional needs. \n\nJoin us for unparalleled TPE 2026 booth rental options\, ensuring a seamless exhibition experience. For further assistance\, visit us at SNAP EXHIBITIONS.
URL:https://modex2026.com/event/tpe-2026/
CATEGORIES:NULL
END:VEVENT
END:VCALENDAR